{"text_format":"1","workbook":"xlsx","n_sheets":25,"sheets":["VBA","User_Guide","GL_Company_LCM_Summary","GL","GL-DEVS","AUTO_Company_LCM_Summary","AUTO","AUTO-DEVS","FIRE","FIRE-DEVS","CRIME","CR-DEVS","INLAND","IM-DEVS","BOILER","FIDELITY","SURETY","SUR-DEVS","FARM","FARM-DEVS","PMF","PMF-DEVS","NonFiled Inland","NonFiled Dev","BOP"],"not_rendered":{"charts":0,"images":0,"macros":1,"external_links":0,"defined_names":55,"comments":0,"pivot_tables":0},"unopened":[],"bounds":{"document_bytes":16777216,"sheet_cells":100000,"rows_first":2000,"rows_last":500,"rows_between":2000,"halvings":0,"cell_chars":16384,"cell_head_chars":4096},"cells_cut":0,"cells_raw":0,"read":"whole","date_system":"1900"}

{"sheet":"VBA","index":0,"n_rows":13,"n_cols":1,"rows_kept":13,"cut":false,"hidden":true,"merged":[]}
["Sheet Names"]
["GL"]
["AUTO"]
["FIRE"]
["CRIME"]
["INLAND"]
["BOILER"]
["FIDELITY"]
["SURETY"]
["FARM"]
["PMF"]
["NonFiled Inland"]
["BOP"]

{"sheet":"User_Guide","index":1,"n_rows":27,"n_cols":7,"rows_kept":27,"cut":false,"hidden":false,"merged":[[5,3,5,4],[1,1,1,2],[1,3,1,4]]}
[]
[null,"Report cutoff date",null,"2018-09-14",null,null,"We have included all the LCMs and associated rates which have effective date on or before the cut off date."]
[]
[null,"Tabs Description:"]
[]
[null,"S.NO.","Tab Name","Description"]
[null,1,"LOB_Company_LCM_Summary (e.g. - GL_Company_LCM_Summary)","These tabs are carrying the latest effective state specific LCMs for all paper companies for the respective LOB."]
[null,2,"LOB (e.g. - GL)","These tabs are carrying the latest effective state specific base LCMs and associated circular & rate details until column H. Column I until R are carrying details of upcoming rates / LCMs."]
[null,3,"LOB-DEVS (e.g. - GL-DEVS)","These tabs are carrying latest effective state specific company deviations."]
[]
[null,"Legend Colors Description:"]
[]
[null,1,"Tabs colored in ",null,"Are the tabs which are updated in this month."]
[null,2,"Tabs which are not colored",null,"Are the tabs which are not updated in this month."]
[null,3,"Cells Colored in ",null,"Representing Companies which are not licensed to operate in the particular state."]
[null,4,"Cells highlighted with Red border  ",null,"Represents rates/LCMs which went into effect in last 90 days."]
[null,5,"Records highlighted in bold",null,"Represents rates/LCMs which was not there in the last circulation of the report."]
[null,6,"Records/cells highlighted in ",null,"Refers to circulars which are not yet filed."]
[null,7,"LCMs for Garage in Comm. Auto are highlighted in",null,"Garage LCMs reverted back to original."]
[null,8,"LCMs for Auto ISOP are highlighted in  ",null,"LCMs are under scrutiny"]
[null,9,"Cells Colored in ",null,"Representing Companies which are not filed in the particular state."]
[]
[null,"For any queries please drop an email to -"]
[]
[null,1,"Ashim Kumar Barman","Ashim.Barman@aig.com"]
[null,2,"Marc Fournier","Marc.Fournier@aig.com"]
[null,3,"Mary Gaillard","Mary.Gaillard@AIG.com"]

{"sheet":"GL_Company_LCM_Summary","index":2,"n_rows":61,"n_cols":23,"rows_kept":61,"cut":false,"hidden":false,"merged":[[61,1,61,4],[1,0,1,22],[4,0,5,0],[4,1,5,1],[4,3,4,4],[4,5,4,6],[4,7,4,8],[4,9,4,10],[4,11,4,12],[4,13,4,14],[4,15,4,16],[4,17,4,18],[4,19,4,20],[4,21,4,22]]}
[]
["*  *  *  *  *  *  *  *  *  *  *    COMMERCIAL General Liability Premises LOSS COST MODIFICATIONS    *  *  *  *  *  *  *  *  *  *  *"]
[]
[]
["State","Latest Effective Date",null,"INIC (0127)",null,"GSIC(0122)",null,"NHIC(0229)",null,"AIG AC (0157)",null,"AIG PCC(0102)",null,"AHAC(0019)",null,"C&I(0107)",null,"NUFIC(0165)",null,"ISOP (0130)",null,"AIU (0013)"]
[null,null,null,"Prem / Ops LCM","Prod LCM","Prem / Ops LCM","Prod LCM","Prem / Ops LCM","Prod LCM","Prem / Ops LCM","Prod LCM","Prem / Ops LCM","Prod LCM","Prem / Ops LCM","Prod LCM","Prem / Ops LCM","Prod LCM","Prem / Ops LCM","Prod LCM","Prem / Ops LCM","Prod LCM","Prem / Ops LCM","Prod LCM"]
["Alabama","2017-10-09","same latest effective date",{"$f":"ROUND(N7,3)","v":1.9419999999999999},{"$f":"ROUND(O7,3)","v":1.9470000000000001},{"$f":"ROUND(N7,3)","v":1.9419999999999999},{"$f":"ROUND(O7,3)","v":1.9470000000000001},{"$f":"ROUND((1-10%)*N7,3)","v":1.748},{"$f":"ROUND((1-10%)*O7,3)","v":1.752},null,null,{"$f":"ROUND(N7,3)","v":1.9419999999999999},{"$f":"ROUND(O7,3)","v":1.9470000000000001},{"$f":"ROUND(GL!G9,3)","v":1.9419999999999999},{"$f":"ROUND(GL!H9,3)","v":1.9470000000000001},{"$f":"ROUND(N7,3)","v":1.9419999999999999},{"$f":"ROUND(O7,3)","v":1.9470000000000001},{"$f":"ROUND(N7,3)","v":1.9419999999999999},{"$f":"ROUND(O7,3)","v":1.9470000000000001},{"$f":"ROUND(N7,3)","v":1.9419999999999999},{"$f":"ROUND(O7,3)","v":1.9470000000000001}]
["Alaska","2018-04-01","ISO-AK-17-GL-02 not yet app'd; please correct to UPS LCMs",2.6640000000000001,{"$f":"ROUND(O8*(1+15%),3)","v":2.4319999999999999},{"$f":"ROUND(N8,3)","v":2.3170000000000002},{"$f":"ROUND(O8,3)","v":2.1150000000000002},{"$f":"ROUND((1-10%)*N8,3)","v":2.085},1.903,{"$f":"ROUND(N8*(1-15%),3)","v":1.9690000000000001},{"$f":"ROUND(O8*(1-15%),3)","v":1.798},{"$f":"ROUND(N8,3)","v":2.3170000000000002},{"$f":"ROUND(O8,3)","v":2.1150000000000002},{"$f":"ROUND(GL!G10,3)","v":2.3170000000000002},{"$f":"ROUND(GL!H10,3)","v":2.1150000000000002},{"$f":"ROUND(N8,3)","v":2.3170000000000002},{"$f":"ROUND(O8,3)","v":2.1150000000000002},{"$f":"ROUND(N8,3)","v":2.3170000000000002},{"$f":"ROUND(O8,3)","v":2.1150000000000002},{"$f":"ROUND(N8,3)","v":2.3170000000000002},{"$f":"ROUND(O8,3)","v":2.1150000000000002},{"$f":"ROUND(N8,3)","v":2.3170000000000002},{"$f":"ROUND(O8,3)","v":2.1150000000000002}]
["Arizona","9/1/2017","same latest effective date",{"$f":"ROUND(N9*(1+15%),3)","v":3.008},{"$f":"ROUND(O9*(1+15%),3)","v":1.8},2.6160000000000001,1.5649999999999999,{"$f":"ROUND((1-15%)*N9,3)","v":2.2240000000000002},1.331,{"$f":"ROUND(N9*(1-25%),3)","v":1.962},{"$f":"ROUND(O9*(1-25%),3)","v":1.1739999999999999},2.6160000000000001,1.5649999999999999,{"$f":"ROUND(GL!G11,3)","v":2.6160000000000001},{"$f":"ROUND(GL!H11,3)","v":1.5649999999999999},2.6160000000000001,1.5649999999999999,2.6160000000000001,1.5649999999999999,2.6160000000000001,1.5649999999999999]
["Arkansas","9/1/2017","Latest Effective date is 5/23/11 and Written date is 11/16/12",null,null,1.57,1.369,1.3340000000000001,{"$f":"ROUND((1-15%)*O10,3)","v":1.1639999999999999},1.177,{"$f":"ROUND(O10*(1-25%),3)","v":1.0269999999999999},1.57,1.369,{"$f":"ROUND(GL!G12,3)","v":1.57},{"$f":"ROUND(GL!H12,3)","v":1.369},1.57,1.369,1.57,1.369,1.57,1.369,1.57,1.369]
["California","2018-02-26","Latest Effective date is 08/25/2014 and Written date is 05/01/2017",null,null,3.8180000000000001,2.7690000000000001,{"$f":"ROUND(N11,3)","v":3.8180000000000001},{"$f":"ROUND(O11,3)","v":2.7690000000000001},null,null,3.8180000000000001,2.7690000000000001,{"$f":"ROUND(GL!G13,3)","v":3.8180000000000001},{"$f":"ROUND(GL!H13,3)","v":2.7690000000000001},3.8180000000000001,2.7690000000000001,3.8180000000000001,2.7690000000000001,3.8180000000000001,2.7690000000000001]
["Colorado","2017-10-23","same latest effective date",{"$f":"ROUND(N12,3)","v":1.6319999999999999},{"$f":"ROUND(O12,3)","v":1.482},1.6319999999999999,1.482,{"$f":"ROUND((1-15%)*N12,3)","v":1.387},1.2589999999999999,{"$f":"ROUND(N12*(1-25%),3)","v":1.224},1.111,1.6319999999999999,1.482,{"$f":"ROUND(GL!G14,3)","v":1.6319999999999999},{"$f":"ROUND(GL!H14,3)","v":1.482},1.6319999999999999,1.482,1.6319999999999999,1.482,1.6319999999999999,1.482]
["Connecticut","2018-05-01","Latest Effective date is 5/23/11 and Written date is 11/16/12",1.8080000000000001,1.6040000000000001,1.8080000000000001,1.6040000000000001,{"$f":"ROUND((1-15%)*N13,3)","v":1.5369999999999999},{"$f":"ROUND((1-15%)*O13,3)","v":1.363},{"$f":"ROUND(N13*(1-25%),3)","v":1.3560000000000001},{"$f":"ROUND(O13*(1-25%),3)","v":1.2030000000000001},1.8080000000000001,1.6040000000000001,{"$f":"ROUND(GL!G15,3)","v":1.8080000000000001},{"$f":"ROUND(GL!H15,3)","v":1.6040000000000001},1.8080000000000001,1.6040000000000001,1.8080000000000001,1.6040000000000001,1.8080000000000001,1.6040000000000001,1.8080000000000001,1.6040000000000001]
["Delaware","2018-03-01","Latest Effective date is 5/23/11 and Written date is 02/01/2017",{"$f":"ROUND(N14*(1+15%),3)","v":2.68},{"$f":"ROUND(O14*(1+15%),3)","v":2.4889999999999999},2.33,2.1640000000000001,2.097,{"$f":"ROUND((1-10%)*O14,3)","v":1.948},{"$f":"ROUND(N14*(1-15%),3)","v":1.9810000000000001},1.84,2.33,2.1640000000000001,{"$f":"ROUND(GL!G16,3)","v":2.33},{"$f":"ROUND(GL!H16,3)","v":2.1640000000000001},2.33,2.1640000000000001,2.33,2.1640000000000001,2.33,2.1640000000000001]
["DC","2018-02-26","same latest effective date",1.696,1.7709999999999999,1.696,1.7709999999999999,{"$f":"ROUND((1-15%)*N15,3)","v":1.4419999999999999},{"$f":"ROUND((1-15%)*O15,3)","v":1.5049999999999999},{"$f":"ROUND(N15,3)","v":1.696},{"$f":"ROUND(O15,3)","v":1.7709999999999999},1.696,1.7709999999999999,{"$f":"ROUND(GL!G17,3)","v":1.696},{"$f":"ROUND(GL!H17,3)","v":1.7709999999999999},1.696,1.7709999999999999,1.696,1.7709999999999999,1.696,1.7709999999999999,1.696,1.7709999999999999]
["Florida","2017-04-01","Latest Effective date is 05/01/2016 and Written date is 04/01/2017",{"$f":"ROUND(N16*(1+15%),3)","v":2.6739999999999999},{"$f":"ROUND(O16*(1+15%),3)","v":1.7649999999999999},2.3250000000000002,1.5349999999999999,{"$f":"ROUND(N16,3)","v":2.3250000000000002},{"$f":"ROUND(O16,3)","v":1.5349999999999999},2.3250000000000002,1.5349999999999999,2.3250000000000002,1.5349999999999999,{"$f":"ROUND(GL!G18,3)","v":2.3250000000000002},{"$f":"ROUND(GL!H18,3)","v":1.5349999999999999},2.3250000000000002,1.5349999999999999,2.3250000000000002,1.5349999999999999,2.3250000000000002,1.5349999999999999]
["Georgia","2018-02-01","Latest Effective date is 5/23/11 and Written date is 11/16/12",{"$f":"ROUND(N17*(1+15%),3)","v":2.278},{"$f":"ROUND(O17*(1+15%),3)","v":1.8009999999999999},1.9810000000000001,1.5660000000000001,{"$f":"ROUND((1-15%)*N17,3)","v":1.6839999999999999},{"$f":"ROUND((1-15%)*O17,3)","v":1.331},1.4850000000000001,{"$f":"ROUND(O17*(1-25%),3)","v":1.175},1.9810000000000001,1.5660000000000001,{"$f":"ROUND(GL!G19,3)","v":1.9810000000000001},{"$f":"ROUND(GL!H19,3)","v":1.5660000000000001},1.9810000000000001,1.5660000000000001,1.9810000000000001,1.5660000000000001,1.9810000000000001,1.5660000000000001,1.9810000000000001,1.5660000000000001]
["Hawaii","2016-05-01","same latest effective date",1.7909999999999999,1.7909999999999999,1.7909999999999999,1.7909999999999999,{"$f":"ROUND((1-10%)*N18,3)","v":1.6120000000000001},{"$f":"ROUND((1-10%)*O18,3)","v":1.6120000000000001},{"$f":"ROUND(N18*(1-15%),3)","v":1.522},{"$f":"ROUND(O18*(1-15%),3)","v":1.522},null,null,{"$f":"ROUND(GL!G20,3)","v":1.7909999999999999},{"$f":"ROUND(GL!H20,3)","v":1.7909999999999999},1.7909999999999999,1.7909999999999999,1.7909999999999999,1.7909999999999999,1.7909999999999999,1.7909999999999999]
["Idaho","9/1/2017","Latest Effective date is 5/23/11 and Written date is 11/16/12",1.7210000000000001,1.5780000000000001,1.7210000000000001,1.5780000000000001,{"$f":"ROUND((1-15%)*N19,3)","v":1.4630000000000001},1.3420000000000001,{"$f":"ROUND(N19*(1-25%),3)","v":1.2909999999999999},{"$f":"ROUND(O19*(1-25%),3)","v":1.1839999999999999},1.7210000000000001,1.5780000000000001,{"$f":"ROUND(GL!G21,3)","v":1.7210000000000001},{"$f":"ROUND(GL!H21,3)","v":1.5780000000000001},1.7210000000000001,1.5780000000000001,1.7210000000000001,1.5780000000000001,1.7210000000000001,1.5780000000000001,1.7210000000000001,1.5780000000000001]
["Illinois","2018-04-01","ISO-IL-17-GL-02; please correct some co's to UPS LCM",2.7050000000000001,1.8720000000000001,2.7050000000000001,1.8720000000000001,{"$f":"ROUND((1-15%)*N20,3)","v":2.2989999999999999},2.153,{"$f":"ROUND(N20*(1-25%),3)","v":2.0289999999999999},{"$f":"ROUND(O20*(1-25%),3)","v":1.4039999999999999},2.7050000000000001,1.8720000000000001,{"$f":"ROUND(GL!G22,3)","v":2.7050000000000001},{"$f":"ROUND(GL!H22,3)","v":1.8720000000000001},2.7050000000000001,1.8720000000000001,2.7050000000000001,1.8720000000000001,2.7050000000000001,1.8720000000000001,2.7050000000000001,1.8720000000000001]
["Indiana","2018-03-01","Latest Effective date is 5/23/11 and Written date is 11/16/12",{"$f":"ROUND(N21*(1+15%),3)","v":2.0840000000000001},{"$f":"ROUND(O21*(1+15%),3)","v":2.101},1.8120000000000001,1.827,{"$f":"ROUND((1-15%)*N21,3)","v":1.54},{"$f":"ROUND((1-15%)*O21,3)","v":1.5529999999999999},{"$f":"ROUND(N21*(1-25%),3)","v":1.359},{"$f":"ROUND(O21*(1-25%),3)","v":1.37},1.8120000000000001,1.827,{"$f":"ROUND(GL!G23,3)","v":1.8120000000000001},{"$f":"ROUND(GL!H23,3)","v":1.827},1.8120000000000001,1.827,1.8120000000000001,1.827,1.8120000000000001,1.827,1.8120000000000001,1.827]
["Iowa","2018-06-01","efft date\n05/23/2011\nwri date\n02/01/2017",1.9079999999999999,1.708,1.9079999999999999,1.708,1.6220000000000001,1.452,1.431,1.2809999999999999,1.9079999999999999,1.708,{"$f":"ROUND(GL!G24,3)","v":1.9079999999999999},{"$f":"ROUND(GL!H24,3)","v":1.708},1.9079999999999999,1.708,1.9079999999999999,1.708,1.9079999999999999,1.708,1.9079999999999999,1.708]
["Kansas","2018-08-01","efft date\n05/23/2011\nwri date\n05/04/2017",2.0459999999999998,1.8819999999999999,2.0459999999999998,1.8819999999999999,1.7390000000000001,1.599,1.534,1.411,2.0459999999999998,1.8819999999999999,{"$f":"ROUND(GL!G25,3)","v":2.0459999999999998},{"$f":"ROUND(GL!H25,3)","v":1.8819999999999999},2.0459999999999998,1.8819999999999999,2.0459999999999998,1.8819999999999999,2.0459999999999998,1.8819999999999999,2.0459999999999998,1.8819999999999999]
["Kentucky","2018-01-29","Latest Effective date is 5/23/11 and Written date is 11/16/12",{"$f":"ROUND(N24*(1+15%),3)","v":2.2639999999999998},{"$f":"ROUND(O24*(1+15%),3)","v":1.9390000000000001},1.9690000000000001,1.6859999999999999,1.673,1.4330000000000001,1.4770000000000001,1.2649999999999999,1.9690000000000001,1.6859999999999999,{"$f":"ROUND(GL!G26,3)","v":1.9690000000000001},{"$f":"ROUND(GL!H26,3)","v":1.6859999999999999},1.9690000000000001,1.6859999999999999,1.9690000000000001,1.6859999999999999,1.9690000000000001,1.6859999999999999,1.9690000000000001,1.6859999999999999]
["Louisiana","2016-08-01","same latest effective date",3.1389999999999998,1.93,3.1389999999999998,1.93,{"$f":"ROUND(N25,3)","v":3.1389999999999998},{"$f":"ROUND(O25,3)","v":1.93},3.1389999999999998,1.93,3.1389999999999998,1.93,{"$f":"ROUND(GL!G27,3)","v":3.1389999999999998},{"$f":"ROUND(GL!H27,3)","v":1.93},3.1389999999999998,1.93,3.1389999999999998,1.93,3.1389999999999998,1.93]
["Maine","2017-09-01","same latest effective date",1.851,1.6970000000000001,1.851,1.6970000000000001,{"$f":"ROUND((1-15%)*N26,3)","v":1.573},{"$f":"ROUND((1-15%)*O26,3)","v":1.4419999999999999},null,null,1.851,1.6970000000000001,{"$f":"ROUND(GL!G28,3)","v":1.851},{"$f":"ROUND(GL!H28,3)","v":1.6970000000000001},1.851,1.6970000000000001,1.851,1.6970000000000001,1.851,1.6970000000000001,1.851,1.6970000000000001]
["Maryland","2017-10-09","Latest Effective date is 5/23/11 and Written date is 11/16/12",{"$f":"ROUND(N27*(1+15%),3)","v":1.915},1.6539999999999999,1.665,1.4390000000000001,{"$f":"ROUND((1-15%)*N27,3)","v":1.415},{"$f":"ROUND((1-15%)*O27,3)","v":1.2230000000000001},{"$f":"ROUND(N27*(1-25%),3)","v":1.2490000000000001},{"$f":"ROUND(O27*(1-25%),3)","v":1.079},1.665,1.4390000000000001,{"$f":"ROUND(GL!G29,3)","v":1.665},{"$f":"ROUND(GL!H29,3)","v":1.4390000000000001},1.665,1.4390000000000001,1.665,1.4390000000000001,1.665,1.4390000000000001]
["Massachusetts","2017-12-11","same latest effective date",1.889,2.036,1.889,2.036,{"$f":"ROUND(N28,3)","v":1.889},{"$f":"ROUND(O28,3)","v":2.036},null,null,1.889,2.036,{"$f":"ROUND(GL!G30,3)","v":1.889},{"$f":"ROUND(GL!H30,3)","v":2.036},1.889,2.036,1.889,2.036,1.889,2.036,{"$f":"ROUND(N28*(1-25%),3)","v":1.417},{"$f":"ROUND(O28*(1-25%),3)","v":1.5269999999999999}]
["Michigan","2017-12-01","same latest effective date",2.0419999999999998,1.702,2.0419999999999998,1.702,{"$f":"ROUND((1-15%)*N29,3)","v":1.736},{"$f":"ROUND((1-15%)*O29,3)","v":1.4470000000000001},{"$f":"ROUND(N29*(1-25%),3)","v":1.532},{"$f":"ROUND(O29*(1-25%),3)","v":1.2769999999999999},2.0419999999999998,1.702,{"$f":"ROUND(GL!G31,3)","v":2.0419999999999998},{"$f":"ROUND(GL!H31,3)","v":1.702},2.0419999999999998,1.702,2.0419999999999998,1.702,2.0419999999999998,1.702,2.0419999999999998,1.702]
["Minnesota","2018-04-01","Latest Effective date is 5/23/11 and Written date is 11/16/12",2.3660000000000001,{"$f":"ROUND(O30*(1+15%),3)","v":2.339},2.0579999999999998,2.0339999999999998,{"$f":"ROUND((1-15%)*N30,3)","v":1.7490000000000001},{"$f":"ROUND((1-15%)*O30,3)","v":1.7290000000000001},null,null,2.0579999999999998,2.0339999999999998,{"$f":"ROUND(GL!G32,3)","v":2.0579999999999998},{"$f":"ROUND(GL!H32,3)","v":2.0339999999999998},2.0579999999999998,2.0339999999999998,2.0579999999999998,2.0339999999999998,2.0579999999999998,2.0339999999999998,2.0579999999999998,2.0339999999999998]
["Mississippi","2018-02-26","Latest Effective date is 5/23/11 and Written date is 11/16/12",null,null,1.8140000000000001,1.7330000000000001,1.542,1.4730000000000001,1.36,{"$f":"ROUND(O31*(1-25%),3)","v":1.3},1.8140000000000001,1.7330000000000001,{"$f":"ROUND(GL!G33,3)","v":1.8140000000000001},{"$f":"ROUND(GL!H33,3)","v":1.7330000000000001},1.8140000000000001,1.7330000000000001,1.8140000000000001,1.7330000000000001,1.8140000000000001,1.7330000000000001,1.8140000000000001,1.7330000000000001]
["Missouri","2017-11-01","Latest Effective date is 5/23/11 and Written date is 11/16/12",1.821,{"$f":"ROUND(O32*(1+15%),3)","v":1.8109999999999999},1.583,1.575,1.3460000000000001,1.339,1.1879999999999999,{"$f":"ROUND(O32*(1-25%),3)","v":1.181},1.583,1.575,{"$f":"ROUND(GL!G34,3)","v":1.583},{"$f":"ROUND(GL!H34,3)","v":1.575},1.583,1.575,1.583,1.575,1.583,1.575]
["Montana","2017-08-07","Latest Effective date is 5/23/11 and Written date is 11/16/12",1.649,1.492,1.649,1.492,1.401,1.268,{"$f":"ROUND(N33*(1-25%),3)","v":1.2370000000000001},1.119,1.649,1.492,{"$f":"ROUND(GL!G35,3)","v":1.649},{"$f":"ROUND(GL!H35,3)","v":1.492},1.649,1.492,1.649,1.492,1.649,1.492]
["Nebraska","2017-12-01","Latest Effective date is 5/23/11 and Written date is 11/17/12",1.625,1.571,1.625,1.571,{"$f":"ROUND(N34,3)","v":1.625},{"$f":"ROUND(O34,3)","v":1.571},1.625,1.571,1.625,1.571,{"$f":"ROUND(GL!G36,3)","v":1.625},{"$f":"ROUND(GL!H36,3)","v":1.571},1.625,1.571,1.625,1.571,1.625,1.571,1.625,1.571]
["Nevada","2017-09-01","same latest effective date",2.2349999999999999,2.3290000000000002,2.2349999999999999,2.3290000000000002,1.899,{"$f":"ROUND((1-15%)*O35,3)","v":1.98},{"$f":"ROUND(N35*(1-25%),3)","v":1.6759999999999999},{"$f":"ROUND(O35*(1-25%),3)","v":1.7470000000000001},2.2349999999999999,2.3290000000000002,{"$f":"ROUND(GL!G37,3)","v":2.2349999999999999},{"$f":"ROUND(GL!H37,3)","v":2.3290000000000002},2.2349999999999999,2.3290000000000002,2.2349999999999999,2.3290000000000002,2.2349999999999999,2.3290000000000002,2.2349999999999999,2.3290000000000002]
["New Hampshire","2017-09-01","Latest Effective date is 5/23/11 and Written date is 11/17/12",1.744,{"$f":"ROUND(O36*(1+15%),3)","v":2.024},1.516,1.76,1.365,1.5840000000000001,{"$f":"ROUND(N36*(1-15%),3)","v":1.2889999999999999},{"$f":"ROUND(O36*(1-15%),3)","v":1.496},1.516,1.76,{"$f":"ROUND(GL!G38,3)","v":1.516},{"$f":"ROUND(GL!H38,3)","v":1.76},1.516,1.76,1.516,1.76,1.516,1.76,1.516,1.76]
["New Jersey*","2017-09-01","Latest Effective date is 5/23/11 and Written date is 11/17/12",1.7809999999999999,1.4450000000000001,1.7809999999999999,1.4450000000000001,1.603,1.3,null,null,1.7809999999999999,1.4450000000000001,{"$f":"ROUND(GL!G39,3)","v":1.7809999999999999},{"$f":"ROUND(GL!H39,3)","v":1.4450000000000001},1.7809999999999999,1.4450000000000001,1.7809999999999999,1.4450000000000001,1.7809999999999999,1.4450000000000001,1.7809999999999999,1.4450000000000001]
["New Mexico","2018-02-01","Latest Effective date is 5/23/11 and Written date is 11/17/12",1.524,1.49,1.524,1.49,{"$f":"ROUND((1-15%)*N38,3)","v":1.2949999999999999},{"$f":"ROUND((1-15%)*O38,3)","v":1.2669999999999999},{"$f":"ROUND(N38*(1-25%),3)","v":1.143},{"$f":"ROUND(O38*(1-25%),3)","v":1.1180000000000001},1.524,1.49,{"$f":"ROUND(GL!G40,3)","v":1.524},{"$f":"ROUND(GL!H40,3)","v":1.49},1.524,1.49,1.524,1.49,1.524,1.49]
["New York","2016-12-05","same latest effective date",{"$f":"ROUND((1-16.7%)*N39,3)","v":1.925},2.641,2.3109999999999999,2.641,{"$f":"ROUND(N39,3)","v":2.3109999999999999},{"$f":"ROUND(O39,3)","v":2.641},null,null,2.3109999999999999,2.641,{"$f":"ROUND(GL!G41,3)","v":2.3109999999999999},{"$f":"ROUND(GL!H41,3)","v":2.641},2.3109999999999999,2.641,2.3109999999999999,2.641,2.3109999999999999,2.641]
["North Carolina","2017-12-01","same latest effective date",null,null,2.0529999999999999,1.9790000000000001,{"$f":"ROUND((1-15%)*N40,3)","v":1.7450000000000001},{"$f":"ROUND((1-15%)*O40,3)","v":1.6819999999999999},{"$f":"ROUND(N40*(1-25%),3)","v":1.54},{"$f":"ROUND(O40*(1-25%),3)","v":1.484},2.0529999999999999,1.9790000000000001,{"$f":"ROUND(GL!G42,3)","v":2.0529999999999999},{"$f":"ROUND(GL!H42,3)","v":1.9790000000000001},2.0529999999999999,1.9790000000000001,2.0529999999999999,1.9790000000000001,2.0529999999999999,1.9790000000000001,2.0529999999999999,1.9790000000000001]
["North Dakota","2017-09-01","Latest Effective date is 5/23/11 and Written date is 11/23/12",1.853,{"$f":"ROUND(O41*(1+15%),3)","v":1.6890000000000001},1.6120000000000001,1.4690000000000001,{"$f":"ROUND((1-15%)*N41,3)","v":1.37},{"$f":"ROUND((1-15%)*O41,3)","v":1.2490000000000001},1.2090000000000001,1.1020000000000001,1.6120000000000001,1.4690000000000001,{"$f":"ROUND(GL!G43,3)","v":1.6120000000000001},{"$f":"ROUND(GL!H43,3)","v":1.4690000000000001},1.6120000000000001,1.4690000000000001,1.6120000000000001,1.4690000000000001,1.6120000000000001,1.4690000000000001]
["Ohio","2018-04-01","same latest effective date",{"$f":"ROUND(N42*(1+15%),3)","v":2.0489999999999999},1.982,1.782,1.7230000000000001,1.5149999999999999,1.4650000000000001,1.337,1.292,1.782,1.7230000000000001,{"$f":"ROUND(GL!G44,3)","v":1.782},{"$f":"ROUND(GL!H44,3)","v":1.7230000000000001},1.782,1.7230000000000001,1.782,1.7230000000000001,1.782,1.7230000000000001,1.782,1.7230000000000001]
["Oklahoma","2018-05-01","ISO-OK-17-GL-02 not yet app'd; please correct to UPS LCMs",1.9930000000000001,1.605,1.9930000000000001,1.605,{"$f":"ROUND(N43,3)","v":1.9930000000000001},{"$f":"ROUND(O43,3)","v":1.605},1.9930000000000001,1.605,1.9930000000000001,1.605,{"$f":"ROUND(GL!G45,3)","v":1.9930000000000001},{"$f":"ROUND(GL!H45,3)","v":1.605},1.9930000000000001,1.605,1.9930000000000001,1.605,1.9930000000000001,1.605,1.9930000000000001,1.605]
["Oregon","2018-08-01","same latest effective date",{"$f":"ROUND(N44*(1+15%),3)","v":2.569},{"$f":"ROUND(O44*(1+15%),3)","v":1.861},2.234,1.6180000000000001,{"$f":"ROUND((1-15%)*N44,3)","v":1.899},{"$f":"ROUND((1-15%)*O44,3)","v":1.375},1.675,1.214,2.234,1.6180000000000001,{"$f":"ROUND(GL!G46,3)","v":2.234},{"$f":"ROUND(GL!H46,3)","v":1.6180000000000001},2.234,1.6180000000000001,2.234,1.6180000000000001,2.234,1.6180000000000001]
["Pennsylvania","2018-03-01","Latest Effective date is 5/23/11 and Written date is 11/19/12",2.4489999999999998,2.339,2.13,2.0339999999999998,1.917,1.831,1.81,{"$f":"ROUND(O45*(1-15%),3)","v":1.7290000000000001},2.13,2.0339999999999998,{"$f":"ROUND(GL!G47,3)","v":2.13},{"$f":"ROUND(GL!H47,3)","v":2.0339999999999998},2.13,2.0339999999999998,2.13,2.0339999999999998,2.13,2.0339999999999998,2.13,2.0339999999999998]
["Rhode Island","2017-12-11","same latest effective date",1.978,1.6519999999999999,1.978,1.6519999999999999,{"$f":"ROUND((1-15%)*N46,3)","v":1.681},{"$f":"ROUND((1-15%)*O46,3)","v":1.4039999999999999},1.4830000000000001,{"$f":"ROUND(O46*(1-25%),3)","v":1.2390000000000001},1.978,1.6519999999999999,{"$f":"ROUND(GL!G48,3)","v":1.978},{"$f":"ROUND(GL!H48,3)","v":1.6519999999999999},1.978,1.6519999999999999,1.978,1.6519999999999999,1.978,1.6519999999999999]
["South Carolina","2017-09-01","efft date\n05/23/2011\nwri date\n11/15/2012",1.573,1.429,1.573,1.429,{"$f":"ROUND((1-15%)*N47,3)","v":1.337},{"$f":"ROUND((1-15%)*O47,3)","v":1.2150000000000001},1.179,{"$f":"ROUND(O47*(1-25%),3)","v":1.0720000000000001},1.573,1.429,{"$f":"ROUND(GL!G49,3)","v":1.573},{"$f":"ROUND(GL!H49,3)","v":1.429},1.573,1.429,1.573,1.429,1.573,1.429]
["South Dakota","2018-07-23","efft date\n05/23/2011\nwri date\n11/15/2012",1.8580000000000001,{"$f":"ROUND(O48*(1+15%),3)","v":1.915},1.615,1.665,1.373,1.415,1.212,1.2490000000000001,1.615,1.665,{"$f":"ROUND(GL!G50,3)","v":1.615},{"$f":"ROUND(GL!H50,3)","v":1.665},1.615,1.665,1.615,1.665,1.615,1.665,1.615,1.665]
["Tennessee","2018-06-01","efft date\n05/23/2011\nwri date\n06/01/2017",{"$f":"ROUND(N49*(1+15%),3)","v":2.1629999999999998},{"$f":"ROUND(O49*(1+15%),3)","v":2.153},1.881,1.8720000000000001,1.5980000000000001,1.591,1.41,1.4039999999999999,1.881,1.8720000000000001,{"$f":"ROUND(GL!G51,3)","v":1.881},{"$f":"ROUND(GL!H51,3)","v":1.8720000000000001},1.881,1.8720000000000001,1.881,1.8720000000000001,1.881,1.8720000000000001,1.881,1.8720000000000001]
["Texas","2018-06-01","same latest effective date",3.673,3.3879999999999999,3.194,2.9460000000000002,2.7149999999999999,2.504,2.3959999999999999,2.21,3.194,2.9460000000000002,{"$f":"ROUND(GL!G52,3)","v":3.194},{"$f":"ROUND(GL!H52,3)","v":2.9460000000000002},3.194,2.9460000000000002,3.194,2.9460000000000002,3.194,2.9460000000000002,3.194,2.9460000000000002]
["Utah","2018-03-01","efft date\n05/23/2011\nwri date\n11/15/2012",2.4239999999999999,1.8160000000000001,2.1070000000000002,1.579,1.7909999999999999,1.3420000000000001,1.581,1.1839999999999999,2.1070000000000002,1.579,{"$f":"ROUND(GL!G53,3)","v":2.1070000000000002},{"$f":"ROUND(GL!H53,3)","v":1.579},2.1070000000000002,1.579,2.1070000000000002,1.579,2.1070000000000002,1.579,2.1070000000000002,1.579]
["Vermont","2017-09-01","same latest effective date",1.8220000000000001,2.0299999999999998,1.8220000000000001,2.0299999999999998,1.5489999999999999,1.726,null,null,1.8220000000000001,2.0299999999999998,{"$f":"ROUND(GL!G54,3)","v":1.8220000000000001},{"$f":"ROUND(GL!H54,3)","v":2.0299999999999998},1.8220000000000001,2.0299999999999998,1.8220000000000001,2.0299999999999998,1.8220000000000001,2.0299999999999998,1.8220000000000001,2.0299999999999998]
["Virginia","2017-10-09","efft date\n05/23/2011\nwri date\n11/14/2012",null,null,1.4419999999999999,1.7070000000000001,1.226,1.4510000000000001,{"$f":"ROUND(N53*(1-25%),3)","v":1.0820000000000001},{"$f":"ROUND(O53*(1-25%),3)","v":1.28},1.4419999999999999,1.7070000000000001,{"$f":"ROUND(GL!G55,3)","v":1.4419999999999999},{"$f":"ROUND(GL!H55,3)","v":1.7070000000000001},1.4419999999999999,1.7070000000000001,1.4419999999999999,1.7070000000000001,1.4419999999999999,1.7070000000000001,{"$f":"ROUND(N53*(1-15%),3)","v":1.226},{"$f":"ROUND(O53*(1-15%),3)","v":1.4510000000000001}]
["Washington","2018-06-01","efft date\n05/23/2011\nwri date\n03/06/2017",1.639,1.3879999999999999,1.639,1.3879999999999999,1.393,1.18,1.639,1.3879999999999999,1.639,1.3879999999999999,{"$f":"ROUND(GL!G56,3)","v":1.639},{"$f":"ROUND(GL!H56,3)","v":1.3879999999999999},1.639,1.3879999999999999,1.639,1.3879999999999999,1.639,1.3879999999999999,1.639,1.3879999999999999]
["West Virginia","2017-12-01","efft date\n05/23/2011\nwri date\n05/04/2017",{"$f":"ROUND(N55*(1+15%),3)","v":2.367},2.1190000000000002,2.0579999999999998,1.8420000000000001,1.7490000000000001,1.5660000000000001,{"$f":"ROUND(N55*(1-25%),3)","v":1.544},{"$f":"ROUND(O55*(1-25%),3)","v":1.3819999999999999},2.0579999999999998,1.8420000000000001,{"$f":"ROUND(GL!G57,3)","v":2.0579999999999998},{"$f":"ROUND(GL!H57,3)","v":1.8420000000000001},2.0579999999999998,1.8420000000000001,2.0579999999999998,1.8420000000000001,2.0579999999999998,1.8420000000000001,2.0579999999999998,1.8420000000000001]
["Wisconsin","2018-04-01","efft date\n05/23/2011\nwri date\n05/01/2017",1.976,1.9,1.718,1.653,1.4610000000000001,1.405,1.2889999999999999,1.2390000000000001,1.718,1.653,{"$f":"ROUND(GL!G58,3)","v":1.718},{"$f":"ROUND(GL!H58,3)","v":1.653},1.718,1.653,1.718,1.653,1.718,1.653,1.718,1.653]
["Wyoming","2017-12-01","efft date\n05/23/2011\nwri date\n11/12/2012",1.8240000000000001,1.7350000000000001,{"$f":"ROUND(N57,3)","v":1.8240000000000001},{"$f":"ROUND(O57,3)","v":1.7350000000000001},{"$f":"ROUND(N57,3)","v":1.8240000000000001},{"$f":"ROUND(O57,3)","v":1.7350000000000001},1.8240000000000001,1.7350000000000001,1.8240000000000001,1.7350000000000001,{"$f":"ROUND(GL!G59,3)","v":1.8240000000000001},{"$f":"ROUND(GL!H59,3)","v":1.7350000000000001},1.8240000000000001,1.7350000000000001,1.8240000000000001,1.7350000000000001,1.8240000000000001,1.7350000000000001]
[]
[]
[null,"Company is not licensed or, we have not filed for this company in the respective state."]
["*","A maximum of 30% rate change allowed to all renewals as per state DOI norms."]

{"sheet":"GL","index":3,"n_rows":61,"n_cols":18,"rows_kept":61,"cut":false,"hidden":false,"merged":[[4,6,4,7],[4,10,6,10],[4,16,4,17],[5,6,5,7],[5,16,5,17]]}
[null,null,null,null,null,null,null,"POOLED COMPANIES ",null,null,null,null,null,null,null,null,"As of:",{"$f":"Cutoff_Date","v":"2018-09-14"}]
[]
["CURRENT:",null,null,null,null,null,null,null," PENDING:"]
[null,null,null,null,null,"Total"]
[null,null,null,"Loss",null,"Basic","    LOSS COST",null,"Actuarial",null,"Status","Proposed/",null,"Loss",null,"Total","LOSS COST"]
[null,"Effective","Circular #'s","Cost","Expense","Limits","    MULTIPLIER",null,"Support",null,null,"Effective","Circular #'s","Cost","Expense","B/L / T/L","MULTIPLIER"]
["State","Date"," (Edition Date)","Change","Change","Change","PREM","PROD","Prepared",null,null,"Date"," (Edition Date)","Change","Change","Change","PREM","PROD"]
[]
["Alabama","2017-10-09","2017-059 (9/17)",1.2999999999999999E-2,0.13518767749914606,0.15,1.9419999999999999,1.9470000000000001,null,null,"Not Yet Filed",null,"2018-032 (9/18)",-3.1E-2]
["Alaska","2018-04-01","2017-123 (4/18)",-0.09,0.16376447403450878,5.8926382397996933E-2,2.3170000000000002,2.1150000000000002]
["Arizona","9/1/2017","2017-052 (9/17)",-2.3E-2,0.33174378834518259,0.3,2.6160000000000001,1.5649999999999999,null,null,"Exempt","2018-10-08","2018-026 (9/18)",2E-3,0.1556000000000004,0.15999337580268316,3.0230000000000001,1.847]
["Arkansas","9/1/2017","2017-036 (8/17)",-3.0000000000000001E-3,2.2837005015773348E-2,0.02,1.57,1.369,null,null,"Exempt","2018-10-08","2018-024 (8/18)",-7.0000000000000001E-3,4.0250893765030105E-2,3.0178785659724081E-2,1.573,2.0310000000000001]
["California","2018-02-26","2016-050 (11/16) & 2017-025 (6/17)",-0.23775400000000002,0.46366865986679806,0.14199999999999999,3.8180000000000001,2.7690000000000001,null,null,"Not Yet Filed",null,"2018-039 (9/18)",1.0999999999999999E-2]
["Colorado","2017-10-23","2017-008 (7/17)",-1.0999999999999999E-2,6.1706312713650568E-2,0.05,1.6319999999999999,1.482,null,null,"Not Yet Filed",null,"2018-013 (7/18)",-7.6999999999999999E-2]
["Connecticut","2018-05-01","N/A",0,0,0.2,1.8080000000000001,1.6040000000000001,null,null,"Not Yet Filed",null,"2018-037 (11/18)","-3.6%"]
["Delaware","2018-03-01","2017-061 (7/17)",1.3100000000000001E-2,0.13500000000000001,0.2,2.33,2.1640000000000001,null,null,"Pending","2018-08-01","2018-018 (7/18)",-3.3000000000000002E-2,6.7379426334506443E-2,3.0358040754415026E-2,2.4460000000000002,2.4769999999999999]
["DC","2018-02-26","N/A",0,0.02,0.02,1.696,1.7709999999999999,null,null,"Pending","2018-10-08","2018-048 (9/18)",0.03,4.8987970563666661E-2,4.9622273108179897E-2,1.7789999999999999,2.093]
["Florida","2017-04-01","2016-068 (4/17)",-0.04,0.19800000000000001,0.15,2.3250000000000002,1.5349999999999999,null,null,"Approved\nNot Yet Filed","2018-12-11","2017-096 (2/18)\n2018-055 (2/19)","-0.2%\n-1.3%",0.1521933138974676,0.15,2.6719579775488986,1.8111250220530437]
["Georgia","2018-02-01","2017-062 (2/18)",2.1000000000000001E-2,0.22228621288091399,0.13569999999999999,1.9810000000000001,1.5660000000000001,null,null,"Not Yet Filed",null,"2018-038 (2/19)",0.04]
["Hawaii","2016-05-01","HIB-GL-2015-02 (ILF)",0,1.7999999999999999E-2,1.7000000000000001E-2,1.7909999999999999,1.7909999999999999]
["Idaho","9/1/2017","2017-037 (8/17)",-6.5000000000000002E-2,0.10173625141262987,0.03,1.7210000000000001,1.5780000000000001,null,null,"Not Yet Filed",null,"2018-029 (8/18)",-7.2999999999999995E-2]
["Illinois","2018-04-01","2017-110 (4/18)",-5.8000000000000003E-2,9.4306814094896607E-2,0.03,2.7050000000000001,1.8720000000000001,null,null,"Not Yet Filed",null,"2018-100 (4/19)",-5.5E-2]
["Indiana","2018-03-01","2017-114 (3/18)",-3.0000000000000001E-3,0.1889011956861506,0.184,1.8120000000000001,1.827]
["Iowa","2018-06-01","N/A",0,0.1,0.1,1.9079999999999999,1.708,null,null,"Not Yet Filed",null,"2018-054 (12/18)",-2.4E-2]
["Kansas","2018-08-01","N/A",0,0.1,0.1,2.0459999999999998,1.8819999999999999,null,null,"Not Yet Filed",null,"2018-073(12/18)",-4.8000000000000001E-2]
["Kentucky","2018-01-29","2017-103(2/18)",-8.9999999999999993E-3,0.20543421647493809,0.2,1.9690000000000001,1.6859999999999999,null,null,"Not Yet Filed",null,"2018-064(2/19)",-0.01]
["Louisiana","2016-08-01","2015-119 (2/16)\n",-4.1000000000000002E-2,0.11700000000000001,7.0000000000000007E-2,3.1389999999999998,1.93,null,null,"Pending\nNot Yet Filed","2/1/2018\n","2017-104 (2/18)\n2018-068(2/19)","1.3%\n-2.1%",8.3812994189545353E-2,0.1,3.43,1.9850000000000001]
["Maine","2017-09-01","2017-047 (8/17)",-0.06,9.6513912500011401E-2,0.03,1.851,1.6970000000000001,null,null,"Not Yet Filed",null,"2018-036 (8/18)",-0.03]
["Maryland","2017-10-09","2017-021 (8/17)",4.1000000000000002E-2,5.6281716947697458E-2,0.1,1.665,1.4390000000000001,null,null,"Not Yet Filed",null,"2018-014 (8/18)",-8.0000000000000002E-3]
["Massachusetts","2017-12-11","2017-100 (10/17)",-8.0000000000000002E-3,0.10884047495093752,0.1,1.889,2.036,null,null,"Approved","2018-10-29","2018-041 (10/18)",-7.7800247483931408E-3,3.8085945592856163E-2,2.9514991442295281E-2,1.8779999999999999,2.476]
["Michigan","2017-12-01","2017-097 (12/17)",-0.08,0.19700000000000001,0.1,2.0419999999999998,1.702,null,null,"Not Yet Filed",null,"2018-062 (12/18)",-3.1E-2]
["Minnesota","2018-04-01","2017-111 (4/18)",-3.9E-2,9.9559951153479487E-2,5.7000000000000002E-2,2.0579999999999998,2.0339999999999998,null,null,"Not Yet Filed",null,"2018-101 (4/19)",-6.5000000000000002E-2]
["Mississippi","2018-02-26","2017-107 (12/17)",-4.4999999999999998E-2,0.183,0.13,1.8140000000000001,1.7330000000000001,null,null,"Not Yet Filed",null,"2018-092 (12/18)",-1E-3]
["Missouri","2017-11-01","2017-014 (7/17)",-3.3000000000000002E-2,3.3000000000000002E-2,0,1.583,1.575,null,null,"Not Yet Filed",null,"2018-006 (7/18)",-4.1000000000000002E-2]
["Montana","2017-08-07","2017-028 (7/17)",-0.06,6.5550063216840648E-2,0,1.649,1.492,null,null,"Not Yet Filed",null,"2018-003 (7/18)",0]
["Nebraska","2017-12-01","2017-085 (12/17)",-3.5000000000000003E-2,3.641977634242255E-2,0,1.625,1.571,null,null,"Not Yet Filed",null,"2018-065(12/18)",-7.2999999999999995E-2]
["Nevada","2017-09-01","2017-033 (8/17)",-0.05,0.31566153362557059,0.25,2.2349999999999999,2.3290000000000002,null,null,"Exempt","2018-12-03","2018-022 (8/18)",1.6212343837883249E-2,1.5741518292554657E-2,0.03,2.2350000000000003,3.0741772762645923]
["New Hampshire","2017-09-01","2017-035 (9/17)",-2.1999999999999999E-2,4.6508323406532881E-2,0.02,1.516,1.76,null,null,"Not Yet Filed",null,"2018-030 (9/18)",-4.2000000000000003E-2]
["New Jersey*","2017-09-01","2017-027 (7/17)",0.09,0.14471039360136206,0.25,1.7809999999999999,1.4450000000000001,null,null,"Not Yet Filed",null,"2018-016 (7/18)",-2.9000000000000001E-2]
["New Mexico","2018-02-01","2017-007 (6/17)",-1.6E-2,1.5947521256523878E-2,0,1.524,1.49,null,null,"Exempt","2018-10-29","2018-007 (6/18)",-0.05,0.15794736154688604,9.970373989382833E-2,1.7549999999999999,1.78]
["New York","2016-12-05","2014-153 (10/15)",-0.17100000000000001,0.21199999999999999,"\n-0.1%",2.3109999999999999,2.641,null,null,"Approved","2018-10-01","2017-125 (10/18)",5.8627975020985088E-2,8.3320734123876639E-2,0.15,2.4990000000000001,2.9470000000000001]
["North Carolina","2017-12-01","2017-082 (12/17)",-5.3999999999999999E-2,5.8000000000000003E-2,0,2.0529999999999999,1.9790000000000001,null,null,"Not Yet Filed",null,"2018-019 (12/18)",-2E-3]
["North Dakota","2017-09-01","2017-019 (6/17)",-5.3999999999999999E-2,5.8683595568858049E-2,0,1.6120000000000001,1.4690000000000001,null,null,"Not Yet Filed",null,"2018-002 (6/18)",-0.06]
["Ohio","2018-04-01","N/A",0,7.3999999999999996E-2,7.3999999999999996E-2,1.782,1.7230000000000001]
["Oklahoma","2018-05-01","2017-122 (3/18) & 2016-121 (4/17)",-0.11799999999999999,0.29099999999999998,0.13400000000000001,1.9930000000000001,1.605,null,null,"Pending","7/1/2017","2017-034 (4/17)",-2.4E-2,0.107,0.08,1.5109999999999999,1.5109999999999999]
["Oregon","2018-08-01","N/A",0,0.15,0.15,2.234,1.6180000000000001,null,null,"Not Yet Filed",null,"2018-053 (12/18)",-7.0000000000000007E-2]
["Pennsylvania","2018-03-01","N/A",0,6.4950469296210622E-2,6.5000000000000002E-2,2.13,2.0339999999999998]
["Rhode Island","2017-12-11","2017-049 (9/17)",7.0000000000000001E-3,0.14199999999999999,0.15,1.978,1.6519999999999999,null,null,"Not Yet Filed",null,"2018-035 (9/18)",2.1000000000000001E-2]
["South Carolina","2017-09-01","2017-038 (9/17)",4.5999999999999999E-2,3.9547809978108805E-3,0.05,1.573,1.429,null,null,"Pending","2018-10-08","2018-044 (9/18)",5.7350474814365691E-2,-2.149081778657802E-3,5.5000000000000007E-2,1.5660000000000001,1.4950000000000001]
["South Dakota ","2018-07-23","2018-010 (6/18)",-1.4943229511818182E-2,4.4885836111550059E-2,0.03,1.615,1.665]
["Tennessee","2018-06-01","2017-090 (6/18)",-3.5000000000000003E-2,0.11946374062309983,0.08,1.881,1.8720000000000001,null,null,"Not Yet Filed",null,"2018-063(6/19)",-0.01]
["Texas","2018-06-01","N/A",0,0.10000000000000009,9.9999999999999964E-2,3.194,2.9460000000000002,null,null,"Not Yet Filed",null,"2018-098 (4/19)",6.0000000000000001E-3]
["Utah","2018-03-01","N/A",0,7.4999999999999997E-2,7.4999999999999997E-2,2.1070000000000002,1.579]
["Vermont","2017-09-01","2017-067 (9/17)",-6.7000000000000004E-2,0.10395601583454228,0.03,1.8220000000000001,2.0299999999999998,null,null,"Not Yet Filed",null,"2018-031 (9/18)",-4.4999999999999998E-2]
["Virginia","2017-10-09","2017-068 (9/17)",4.4999999999999998E-2,-2.2236475441757442E-2,0.02,1.4419999999999999,1.7070000000000001,null,null,"Not Yet Filed",null,"2018-042 (9/18)","-1.7%"]
["Washington","2018-06-01","N/A",0,1.4E-2,1.4E-2,1.639,1.3879999999999999,null,null,"Not Yet Filed",null,"2018-045 (9/18)",-2.8000000000000001E-2]
["West Virginia","2017-12-01","2017-102 (12/17)",-5.2999999999999999E-2,0.18399902378077626,0.12,2.0579999999999998,1.8420000000000001,null,null,"Not Yet Filed",null,"2018-069(12/18)",-6.2E-2]
["Wisconsin","2018-04-01","2017-116 (4/18)",1E-3,2.8693006619345818E-2,0.03,1.718,1.653,null,null,"Not Yet Filed",null,"2018-104 (4/19)",-3.4000000000000002E-2]
["Wyoming","2017-12-01","2017-101 (12/17)",-0.06,0.22288627749619683,0.15,1.8240000000000001,1.7350000000000001,null,null,"Not Yet Filed",null,"2018-061 (1/19)",-0.06]
[]
["* New Jersey state DOI has a maximum total rate change cap of 30% per policy."]

{"sheet":"GL-DEVS","index":4,"n_rows":59,"n_cols":10,"rows_kept":59,"cut":false,"hidden":false,"merged":[[1,0,1,9],[3,2,3,5],[3,6,3,7],[58,6,58,7],[59,6,59,7]]}
[null,null,null,null,null,null,"As of:",{"$f":"Cutoff_Date","v":"2018-09-14"}]
["*  *  *  *  *  *  *  *  *  *  *    COMMERCIAL General Liability LOSS COST MODIFICATIONS    *  *  *  *  *  *  *  *  *  *  *"]
[]
[null,"Loss Cost","NEW HAMPSHIRE COMPANIES",null,null,null,"NEW YORK COMPANIES +"]
[" State","Modification *","Sub-Standard","Standard","Preferred","Super-Preferred","Standard","Preferred"]
[]
["ALABAMA","Prem = 11.5%\nProd = 11.8%",null,"GSIC / INIC","NHIC -10%",null,"AIG PCC / AIU / AHAC / C&I / NUFIC / ISOP "]
["ALASKA","Prem = 35.0%\nProd = 23.3%","INIC +15%","GSIC ","NHIC -10%","AIG AC -15%","AIG PCC / AIU / AHAC / C&I / NUFIC / ISOP "]
["ARIZONA","Prem = 83.3%\nProd = 12.0%","INIC +15%","GSIC","NHIC -15%","AIG AC -25%","AIG PCC / AIU / AHAC / C&I / NUFIC / ISOP "]
["ARKANSAS","Prem = -4.6%\nProd = -23.3%",null,"GSIC","NHIC -15%","AIG AC -25%","AIG PCC / AIU / AHAC / C&I / NUFIC / ISOP "]
["CALIFORNIA","Prem = 123.9%, Prod = 62.4%",null,"NHIC / GSIC",null,null,"AIG PCC / AIU / AHAC / C&I / NUFIC / ISOP "]
["COLORADO ","Prem = -2.1%\nProd = -11.1%",null,"GSIC / INIC ","NHIC -15%","AIG AC -25%","AIG PCC / AIU / AHAC / C&I / NUFIC / ISOP "]
["CONNECTICUT","Prem= 7.1% Prod= -5.0%",null,"GSIC / INIC","NHIC -15%","AIG AC -25%","AIG PCC / AIU / AHAC / C&I / NUFIC / ISOP "]
["DELAWARE","Prem = 40.0%\nProd = 30.0%","INIC +15%","GSIC ","NHIC -10%","AIG AC -15%","AIG PCC / AHAC / C&I / NUFIC / ISOP "]
["DIST. OF COLUMBIA","Prem = 0.6%\nProd = 5.0%",null,"GSIC / INIC / AIG AC","NHIC -15%",null,"AIG PCC / AIU / AHAC / C&I / NUFIC / ISOP "]
["FLORIDA","Prem = 58.3%, Prod = 7.3%","INIC +15%","NHIC / GSIC / AIG AC",null,null,"AIG PCC / AIU / AHAC / C&I / NUFIC / ISOP "]
["GEORGIA","Prem = 16.4%\nProd = -8.0%","INIC +15%","GSIC","NHIC -15%","AIG AC -25%","AIG PCC / AIU / AHAC / C&I / NUFIC / ISOP "]
["HAWAII ","Prem = 0%\nProd = 0%",null,"GSIC / INIC","NHIC -10%","AIG AC -15%","AHAC / C&I / NUFIC / ISOP "]
["IDAHO","Prem = 2.4%\nProd = -6.1%",null,"GSIC / INIC","NHIC -15%","AIG AC -25%","AIG PCC / AIU / AHAC / C&I / NUFIC / ISOP "]
["ILLINOIS","Prem = 63.6%\nProd = 13.2%",null,"GSIC / INIC","NHIC -15%","AIG AC -25%","AIG PCC / AIU / AHAC / C&I / NUFIC / ISOP "]
["INDIANA","Prem=8.2%\nProd= 9.1%","INIC +15%","GSIC","NHIC -15%","AIG AC -25%","AIG PCC / AIU / AHAC / C&I / NUFIC / ISOP "]
["IOWA","Prem = 14.5%\nProd = 2.5%",null,"GSIC  / INIC","NHIC -15%","AIG AC -25%","AIG PCC / AIU / AHAC / C&I / NUFIC / ISOP "]
["KANSAS","Prem = 20.7%\nProd = 11%",null,"GSIC / INIC","NHIC -15%","AIG AC -25%","AIG PCC / AIU / AHAC / C&I / NUFIC / ISOP "]
["KENTUCKY","Prem = 16.20%\nProd = -0.5%","INIC +15%","GSIC","NHIC -15%","AIG AC -25%","AIG PCC / AIU / AHAC / C&I / NUFIC / ISOP "]
["LOUISIANA ","Prem = 87%\nProd = 15%",null,"NHIC / GSIC / INIC / AIG AC",null,null,"AIG PCC / AIU / AHAC / C&I / NUFIC / ISOP "]
["MAINE","Prem = 9.2%\nProd = 0.1%",null,"GSIC","NHIC -15%",null,"AIG PCC / AIU / AHAC / C&I / NUFIC / ISOP "]
["MARYLAND","Prem = 0.0%\nProd = -13.6%","INIC +15%","GSIC","NHIC -15%","AIG AC -25%","AIG PCC / AIU / AHAC / C&I / NUFIC / ISOP "]
["MASSACHUSETTS","Prem = 13.2%\nProd = 49.2%",null,"NHIC / GSIC / INIC",null,null,"AIG PCC / AHAC / C&I / NUFIC / ISOP ","AIU -25%"]
["MICHIGAN","Prem = 22.0%\nProd = 1.7%",null,"GSIC / INIC","NHIC -15%","AIG AC -25%","AIG PCC / AIU / AHAC / C&I / NUFIC / ISOP "]
["MINNESOTA","Prem = 21.4%\nProd = 20%","INIC +15%","GSIC ","NHIC -15%",null,"AIG PCC / AIU / AHAC / C&I / NUFIC / ISOP "]
["MISSISSIPPI","Prem = 5.2%\nProd = 0.5%",null,"GSIC","NHIC -15%","AIG AC -25%","AIG PCC / AIU / AHAC / C&I / NUFIC / ISOP "]
["MISSOURI","Prem = -4.9%\nProd = -5.4%","INIC +15%","GSIC","NHIC -15%","AIG AC -25%","AIG PCC / AIU / AHAC / C&I / NUFIC / ISOP "]
["MONTANA","Prem = -2.2%\nProd = -11.5%",null,"GSIC / INIC","NHIC -15%","AIG AC -25%","AIG PCC / AIU / AHAC / C&I / NUFIC / ISOP "]
["NEBRASKA","Prem = -2.5%\nProd = -5.8%",null,"NHIC / GSIC / INIC / AIG AC",null,null,"AIG PCC / AIU / AHAC / C&I / NUFIC / ISOP "]
["NEVADA","Prem = 28.5%\nProd = 33.9%",null,"GSIC / INIC ","NHIC -15%","AIG AC -25%","AIG PCC / AIU / AHAC / C&I / NUFIC / ISOP "]
["NEW HAMPSHIRE","Prem = -9.4%\nProd = 5.1%","INIC +15%","GSIC","NHIC -10%","AIG AC -15%","AIG PCC / AIU / AHAC / C&I / NUFIC / ISOP "]
["NEW JERSEY","Prem = 6.8%\nProd = -13.4%",null,"GSIC / INIC","NHIC -10%",null,"AIG PCC / AIU / AHAC / C&I / NUFIC / ISOP "]
["NEW MEXICO","Prem = 4.5%\nProd =-85.6%",null,"GSIC / INIC","NHIC -15%","AIG AC -25%","AIG PCC / AIU / AHAC / C&I / NUFIC / ISOP "]
["NEW YORK","Prem= 47.4%\nProd=73.8%",null,"NHIC / GSIC","INIC Premises =-16.7%., Products = 0%",null,"AIG PCC / AIU / AHAC / C&I / NUFIC / ISOP ",null,null,"NY corrected 4/4/14"]
["NORTH CAROLINA","Prem = 21.3%\nProd = 16.9%",null,"GSIC","NHIC -15%","AIG AC -25%","AIG PCC / AIU / AHAC / C&I / NUFIC / ISOP "]
["NORTH DAKOTA ","Prem= -2.8% Prod= -11.4%","INIC +15%","GSIC","NHIC -15%","AIG AC -25%","AIG PCC / AIU / AHAC / C&I / NUFIC / ISOP "]
["OHIO","Prem= 6.2%\nProd= 2.7%","INIC +15%","GSIC","NHIC -15%","AIG AC -25%","AIG PCC / AIU / AHAC / C&I / NUFIC / ISOP "]
["OKLAHOMA","Prem= 17.1%\nProd= -5.7%",null,"NHIC / GSIC / INIC / AIG AC",null,null,"AIG PCC / AIU / AHAC / C&I / NUFIC / ISOP "]
["OREGON","Prem = 36.3%\nProd = -1.3%","INIC +15%","GSIC","NHIC -15% ","AIG AC -25%","AIG PCC / AIU / AHAC / C&I / NUFIC / ISOP "]
["PENNSYLVANIA","Prem= 25.6%\nProd= 20%","INIC +15%","GSIC ","NHIC -10%","AIG AC -15%","AIG PCC / AIU / AHAC / C&I / NUFIC / ISOP "]
["RHODE ISLAND ","Prem= 18.8%\nProd= -0.8%",null,"GSIC / INIC","NHIC -15% ","AIG AC -25%","AIG PCC / AIU / AHAC / C&I / NUFIC / ISOP "]
["SOUTH CAROLINA","Prem = -4.4%\nProd = -13.1%",null,"GSIC / INIC","NHIC -15% ","AIG AC -25%","AIG PCC / AIU / AHAC / C&I / NUFIC / ISOP "]
["SOUTH DAKOTA","Prem = -3.0%\nProd = 0.0%","INIC +15%","GSIC","NHIC -15%","AIG AC -25%","AIG PCC / AIU / AHAC / C&I / NUFIC / ISOP "]
["TENNESSEE","Prem = 0.0%\nProd = 0.0%","INIC +15%","GSIC","NHIC -15%","AIG AC -25%","AIG PCC / AIU / AHAC / C&I / NUFIC / ISOP "]
["TEXAS","Prem = 73.5%\nProd = 65.2%","INIC +15%","GSIC","NHIC -15%","AIG AC -25%","AIG PCC / AIU / AHAC / C&I / NUFIC / ISOP "]
["UTAH","Prem = 23.8%\nProd = -7.2%","INIC +15%","GSIC","NHIC -15%","AIG AC -25%","AIG PCC / AIU / AHAC / C&I / NUFIC / ISOP "]
["VERMONT","Prem = 7.5%\nProd = 19.8%",null,"GSIC / INIC","NHIC -15%",null,"AIG PCC / AIU / AHAC / C&I / NUFIC / ISOP "]
["VIRGINIA","Prem = -15.3%\nProd = 0.3%",null,"GSIC","NHIC -15%","AIG AC -25%","AIG PCC / AHAC / C&I / NUFIC / ISOP ","AIU -15%"]
["WASHINGTON","Prem = 6.5%\nProd = -9.8%",null,"GSIC / AIG AC / INIC","NHIC -15%",null,"AIG PCC / AIU / AHAC / C&I / NUFIC / ISOP "]
["WEST VIRGINIA","Prem = 17.3%\nProd = 5.0%","INIC +15%","GSIC ","NHIC -15%","AIG AC -25%","AIG PCC / AIU / AHAC / C&I / NUFIC / ISOP "]
["WISCONSIN","Prem = 1.4%\nProd = -2.5%","INIC +15%","GSIC","NHIC -15%","AIG AC -25%","AIG PCC / AIU / AHAC / C&I / NUFIC / ISOP "]
["WYOMING","Prem = 9.9%\nProd =  4.5%",null,"NHIC / GSIC / AIG AC / INIC",null,null,"AIG PCC / AHAC / C&I / NUFIC / ISOP "]
[]
["  * applies to all companies.",null,null,null,null,null," + AIP, AIU LC filings not maintained after 4/2009"]

{"sheet":"AUTO_Company_LCM_Summary","index":5,"n_rows":61,"n_cols":42,"rows_kept":61,"cut":false,"hidden":false,"merged":[[1,0,1,41],[4,30,4,33],[4,34,4,37],[4,38,4,41],[4,0,5,0],[4,1,5,1],[4,2,4,5],[4,6,4,9],[4,10,4,13],[4,14,4,17],[4,18,4,21],[4,22,4,25],[4,26,4,29]]}
[]
["*  *  *  *  *  *  *  *  *  *  *    COMMERCIAL AUTO LIABILITY LOSS COST MODIFICATIONS    *  *  *  *  *  *  *  *  *  *  *"]
[]
[]
["State","AIG Effective Date","INIC (0127)",null,null,null,"GSIC(0122)",null,null,null,"NHIC(0229)",null,null,null,"AIG AC(0157)",null,null,null,"AIG PCC(0102)",null,null,null,"AHAC(0019)",null,null,null,"C&I(0107)",null,null,null,"NUFIC(0165)",null,null,null,"ISOP(0130)",null,null,null,"AIU(0013)"]
[null,null,"Liab LCM","Phys_D LCM","Auto Dealers Phys_D LCM","Auto Dealers Liab LCM","Liab LCM","Phys_D LCM","Auto Dealers Phys_D LCM","Auto Dealers Liab LCM","Liab LCM","Phys_D LCM","Auto Dealers Phys_D LCM","Auto Dealers Liab LCM","Liab LCM","Phys_D LCM","Auto Dealers Phys_D LCM","Auto Dealers Liab LCM","Liab LCM","Phys_D LCM","Auto Dealers Phys_D LCM","Auto Dealers Liab LCM","Liab LCM","Phys_D LCM","Auto Dealers Phys_D LCM","Auto Dealers Liab LCM","Liab LCM","Phys_D LCM","Auto Dealers Phys_D LCM","Auto Dealers Liab LCM","Liab LCM","Phys_D LCM","Auto Dealers Phys_D LCM","Auto Dealers Liab LCM","Liab LCM","Phys_D LCM","Auto Dealers Phys_D LCM","Auto Dealers Liab LCM","Liab LCM","Phys_D LCM","Auto Dealers Phys_D LCM","Auto Dealers Liab LCM"]
["Alabama","2018-07-09",{"$f":"ROUND(W7,3)","v":2.5510000000000002},{"$f":"ROUND(X7,3)","v":1.762},1.762,1.585,{"$f":"ROUND(W7,3)","v":2.5510000000000002},{"$f":"ROUND(X7,3)","v":1.762},{"$f":"ROUND(Y7,3)","v":1.762},{"$f":"ROUND(Z7,3)","v":1.585},2.169,{"$f":"ROUND((1-15%)*X7,3)","v":1.498},{"$f":"ROUND((1-15%)*Y7,3)","v":1.498},{"$f":"ROUND((1-15%)*Z7,3)","v":1.347},null,null,null,null,{"$f":"ROUND(W7,3)","v":2.5510000000000002},{"$f":"ROUND(X7,3)","v":1.762},{"$f":"ROUND(Y7,3)","v":1.762},{"$f":"ROUND(Z7,3)","v":1.585},{"$f":"ROUND(AUTO!G9,3)","v":2.5510000000000002},{"$f":"ROUND(AUTO!H9,3)","v":1.762},{"$f":"ROUND(AUTO!I9,3)","v":1.762},{"$f":"ROUND(AUTO!J9,3)","v":1.585},{"$f":"ROUND(W7,3)","v":2.5510000000000002},{"$f":"ROUND(X7,3)","v":1.762},{"$f":"ROUND(Y7,3)","v":1.762},{"$f":"ROUND(Z7,3)","v":1.585},{"$f":"ROUND(W7,3)","v":2.5510000000000002},{"$f":"ROUND(X7,3)","v":1.762},{"$f":"ROUND(Y7,3)","v":1.762},{"$f":"ROUND(Z7,3)","v":1.585},1.871,1.762,{"$f":"ROUND(Y7,3)","v":1.762},{"$f":"ROUND(Z7,3)","v":1.585},{"$f":"ROUND(W7*(1-40%),3)","v":1.5309999999999999},1.0569999999999999,1.0569999999999999,{"$f":"ROUND(Z7*(1-40%),3)","v":0.95099999999999996}]
["Alaska","2017-12-11",{"$f":"ROUND(W8*(1+15%),3)","v":1.6879999999999999},2.081,2.081,1.5529999999999999,{"$f":"ROUND(W8,3)","v":1.468},{"$f":"ROUND(X8,3)","v":1.8089999999999999},1.8089999999999999,{"$f":"ROUND(Z8,3)","v":1.5529999999999999},{"$f":"ROUND((1-15%)*W8,3)","v":1.248},{"$f":"ROUND((1-15%)*X8,3)","v":1.538},1.538,{"$f":"ROUND((1-15%)*Z8,3)","v":1.32},{"$f":"ROUND(W8*(1-25%),3)","v":1.101},{"$f":"ROUND(X8*(1-25%),3)","v":1.357},1.357,{"$f":"ROUND(Z8*(1-25%),3)","v":1.165},{"$f":"ROUND(W8,3)","v":1.468},{"$f":"ROUND(X8,3)","v":1.8089999999999999},1.8089999999999999,{"$f":"ROUND(Z8,3)","v":1.5529999999999999},{"$f":"ROUND(AUTO!G10,3)","v":1.468},{"$f":"ROUND(AUTO!H10,3)","v":1.8089999999999999},{"$f":"ROUND(AUTO!I10,3)","v":1.8089999999999999},{"$f":"ROUND(AUTO!J10,3)","v":1.5529999999999999},{"$f":"ROUND(W8,3)","v":1.468},{"$f":"ROUND(X8,3)","v":1.8089999999999999},1.8089999999999999,{"$f":"ROUND(Z8,3)","v":1.5529999999999999},{"$f":"ROUND(W8,3)","v":1.468},{"$f":"ROUND(X8,3)","v":1.8089999999999999},1.8089999999999999,{"$f":"ROUND(Z8,3)","v":1.5529999999999999},{"$f":"ROUND(W8,3)","v":1.468},{"$f":"ROUND(X8,3)","v":1.8089999999999999},1.8089999999999999,{"$f":"ROUND(Z8,3)","v":1.5529999999999999},{"$f":"ROUND(W8,3)","v":1.468},{"$f":"ROUND(X8,3)","v":1.8089999999999999},{"$f":"ROUND(Y8,3)","v":1.8089999999999999},{"$f":"ROUND(Z8,3)","v":1.5529999999999999}]
["Arizona","2017-10-09",1.9750000000000001,{"$f":"ROUND(X9*(1+15%),3)","v":2.0249999999999999},{"$f":"ROUND(Y9*(1+15%),3)","v":2.0249999999999999},{"$f":"ROUND(Z9*(1+15%),3)","v":1.734},1.718,1.7609999999999999,1.7609999999999999,1.508,1.46,1.4970000000000001,1.4970000000000001,1.282,1.288,1.32,1.32,{"$f":"ROUND((1-25%)*Z9,3)","v":1.131},1.718,1.7609999999999999,1.7609999999999999,1.508,{"$f":"ROUND(AUTO!G11,3)","v":1.718},{"$f":"ROUND(AUTO!H11,3)","v":1.7609999999999999},{"$f":"ROUND(AUTO!I11,3)","v":1.7609999999999999},{"$f":"ROUND(AUTO!J11,3)","v":1.508},1.718,1.7609999999999999,1.7609999999999999,1.508,1.718,1.7609999999999999,1.7609999999999999,1.508,1.718,1.7609999999999999,1.7609999999999999,1.508,{"$f":"ROUND(W9*(1-15%),3)","v":1.46},{"$f":"ROUND(X9*(1-15%),3)","v":1.4970000000000001},{"$f":"ROUND(Y9*(1-15%),3)","v":1.4970000000000001},{"$f":"ROUND(Z9*(1-15%),3)","v":1.282}]
["Arkansas","8/7/2017",null,null,null,null,1.639,2.1949999999999998,2.1949999999999998,1.87,1.393,1.8660000000000001,1.8660000000000001,1.589,{"$f":"ROUND(W10*(1-25%),3)","v":1.2290000000000001},1.6459999999999999,1.6459999999999999,1.4019999999999999,1.639,2.1949999999999998,2.1949999999999998,1.87,{"$f":"ROUND(AUTO!G12,3)","v":1.639},{"$f":"ROUND(AUTO!H12,3)","v":2.1949999999999998},{"$f":"ROUND(AUTO!I12,3)","v":2.1949999999999998},{"$f":"ROUND(AUTO!J12,3)","v":1.87},1.639,2.1949999999999998,2.1949999999999998,1.87,1.639,2.1949999999999998,2.1949999999999998,1.87,1.639,2.1949999999999998,2.1949999999999998,1.87,{"$f":"ROUND((1-30%)*W10,3)","v":1.147},1.536,1.536,{"$f":"ROUND((1-30%)*Z10,3)","v":1.3089999999999999}]
["California","2017-12-11",null,null,null,null,{"$f":"ROUND(W11*(1-20%),3)","v":1.724},{"$f":"ROUND(X11*(1-20%),3)","v":1.617},{"$f":"ROUND(Y11*(1-20%),3)","v":1.617},{"$f":"ROUND(Z11*(1-20%),3)","v":1.724},{"$f":"ROUND(W11,3)","v":2.1549999999999998},{"$f":"ROUND(X11,3)","v":2.0209999999999999},{"$f":"ROUND(Y11,3)","v":2.0209999999999999},{"$f":"ROUND(Z11,3)","v":2.1549999999999998},null,null,null,null,2.1549999999999998,2.0209999999999999,2.0209999999999999,2.1549999999999998,{"$f":"ROUND(AUTO!G13,3)","v":2.1549999999999998},{"$f":"ROUND(AUTO!H13,3)","v":2.0209999999999999},{"$f":"ROUND(AUTO!I13,3)","v":2.0209999999999999},{"$f":"ROUND(AUTO!J13,3)","v":2.1549999999999998},2.1549999999999998,2.0209999999999999,2.0209999999999999,2.1549999999999998,2.1549999999999998,2.0209999999999999,2.0209999999999999,2.1549999999999998,2.1549999999999998,2.0209999999999999,2.0209999999999999,2.1549999999999998]
["Colorado","2016-01-01",{"$f":"ROUND(W12,3)","v":1.7909999999999999},{"$f":"ROUND(X12,3)","v":1.8129999999999999},1.8129999999999999,{"$f":"ROUND(Z12,3)","v":1.5629999999999999},1.7909999999999999,1.8129999999999999,1.8129999999999999,1.5629999999999999,1.522,{"$f":"ROUND((1-15%)*X12,3)","v":1.5409999999999999},{"$f":"ROUND((1-15%)*Y12,3)","v":1.5409999999999999},1.329,{"$f":"ROUND(W12*(1-25%),3)","v":1.343},{"$f":"ROUND(X12*(1-25%),3)","v":1.36},1.36,{"$f":"ROUND(Z12*(1-25%),3)","v":1.1719999999999999},1.7909999999999999,1.8129999999999999,1.8129999999999999,1.5629999999999999,{"$f":"ROUND(AUTO!G14,3)","v":1.7909999999999999},{"$f":"ROUND(AUTO!H14,3)","v":1.8129999999999999},{"$f":"ROUND(AUTO!I14,3)","v":1.8129999999999999},{"$f":"ROUND(AUTO!J14,3)","v":1.5629999999999999},1.7909999999999999,1.8129999999999999,1.8129999999999999,1.5629999999999999,1.7909999999999999,1.8129999999999999,1.8129999999999999,1.5629999999999999,1.7909999999999999,1.8129999999999999,1.8129999999999999,1.5629999999999999,{"$f":"ROUND(W12,3)","v":1.7909999999999999},{"$f":"ROUND(X12,3)","v":1.8129999999999999},1.8129999999999999,{"$f":"ROUND(Z12,3)","v":1.5629999999999999}]
["Connecticut","2018-02-05",1.827,2.1190000000000002,2.1190000000000002,1.714,1.827,2.1190000000000002,2.1190000000000002,1.714,1.5529999999999999,{"$f":"ROUND((1-15%)*X13,3)","v":1.8009999999999999},{"$f":"ROUND((1-15%)*Y13,3)","v":1.8009999999999999},1.4570000000000001,1.37,1.589,1.589,1.2849999999999999,1.827,2.1190000000000002,2.1190000000000002,1.714,{"$f":"ROUND(AUTO!G15,3)","v":1.827},{"$f":"ROUND(AUTO!H15,3)","v":2.1190000000000002},{"$f":"ROUND(AUTO!I15,3)","v":2.1190000000000002},{"$f":"ROUND(AUTO!J15,3)","v":1.714},1.827,2.1190000000000002,2.1190000000000002,1.714,1.827,2.1190000000000002,2.1190000000000002,1.714,1.827,2.1190000000000002,2.1190000000000002,1.714,{"$f":"ROUND(W13*(1-15%),3)","v":1.5529999999999999},{"$f":"ROUND(X13*(1-15%),3)","v":1.8009999999999999},1.8009999999999999,{"$f":"ROUND(Z13*(1-15%),3)","v":1.4570000000000001}]
["Delaware","2018-09-03",{"$f":"ROUND(W14*(1+15%),3)","v":2.4060000000000001},{"$f":"ROUND(X14*(1+15%),3)","v":2.2930000000000001},2.2930000000000001,2.1509999999999998,2.0920000000000001,1.994,1.994,1.869,{"$f":"ROUND((1-10%)*W14,3)","v":1.883},{"$f":"ROUND((1-10%)*X14,3)","v":1.7949999999999999},1.7949999999999999,1.681,{"$f":"ROUND(W14*(1-15%),3)","v":1.778},{"$f":"ROUND(X14*(1-15%),3)","v":1.6950000000000001},{"$f":"ROUND(Y14*(1-15%),3)","v":1.6950000000000001},1.587,2.0920000000000001,1.994,1.994,1.869,{"$f":"ROUND(AUTO!G16,3)","v":2.0920000000000001},{"$f":"ROUND(AUTO!H16,3)","v":1.994},{"$f":"ROUND(AUTO!I16,3)","v":1.994},{"$f":"ROUND(AUTO!J16,3)","v":1.869},2.0920000000000001,1.994,1.994,1.869,2.0920000000000001,1.994,1.994,1.869,2.0920000000000001,1.994,1.994,1.869,2.0920000000000001,1.994,1.994,1.536]
["DC","2018-02-26",1.5820000000000001,1.859,1.859,1.512,1.5820000000000001,1.859,1.859,1.512,1.345,{"$f":"ROUND((1-15%)*X15,3)","v":1.58},{"$f":"ROUND((1-15%)*Y15,3)","v":1.58},1.2849999999999999,{"$f":"ROUND(W15,3)","v":1.5820000000000001},{"$f":"ROUND(X15,3)","v":1.859},1.859,{"$f":"ROUND(Z15,3)","v":1.512},1.5820000000000001,1.859,1.859,1.512,{"$f":"ROUND(AUTO!G17,3)","v":1.5820000000000001},{"$f":"ROUND(AUTO!H17,3)","v":1.859},{"$f":"ROUND(AUTO!I17,3)","v":1.859},{"$f":"ROUND(AUTO!J17,3)","v":1.512},1.5820000000000001,1.859,1.859,1.512,1.5820000000000001,1.859,1.859,1.512,1.5820000000000001,1.859,1.859,1.512,1.5820000000000001,1.859,1.859,1.512]
["Florida","2018-08-01",2.1030000000000002,{"$f":"ROUND(X16*(1+15%),3)","v":2.1139999999999999},2.1139999999999999,{"$f":"ROUND(Z16*(1+15%),3)","v":2.3279999999999998},1.8280000000000001,1.8380000000000001,1.8380000000000001,2.024,1.6459999999999999,{"$f":"ROUND((1-10%)*X16,3)","v":1.6539999999999999},1.6539999999999999,1.821,{"$f":"ROUND(W16*(1-15%),3)","v":1.554},{"$f":"ROUND(X16*(1-15%),3)","v":1.5620000000000001},{"$f":"ROUND(Y16*(1-15%),3)","v":1.5620000000000001},{"$f":"ROUND(Z16*(1-15%),3)","v":1.72},1.8280000000000001,1.8380000000000001,1.8380000000000001,2.024,{"$f":"ROUND(AUTO!G18,3)","v":1.8280000000000001},{"$f":"ROUND(AUTO!H18,3)","v":1.8380000000000001},{"$f":"ROUND(AUTO!I18,3)","v":1.8380000000000001},{"$f":"ROUND(AUTO!J18,3)","v":2.024},1.8280000000000001,1.8380000000000001,1.8380000000000001,2.024,1.8280000000000001,1.8380000000000001,1.8380000000000001,2.024,1.8280000000000001,1.8380000000000001,1.8380000000000001,2.024,1.4630000000000001,1.3779999999999999,1.3779999999999999,2.024]
["Georgia","2018-05-01",2.1349999999999998,2.419,2.419,{"$f":"ROUND(Z17*(1+15%),3)","v":1.766},1.8560000000000001,2.1040000000000001,2.1040000000000001,1.536,1.5780000000000001,{"$f":"ROUND((1-15%)*X17,3)","v":1.788},{"$f":"ROUND((1-15%)*Y17,3)","v":1.788},1.306,{"$f":"ROUND(W17*(1-25%),3)","v":1.3919999999999999},{"$f":"ROUND(X17*(1-25%),3)","v":1.5780000000000001},1.5780000000000001,{"$f":"ROUND(Z17*(1-25%),3)","v":1.1519999999999999},1.8560000000000001,2.1040000000000001,2.1040000000000001,1.536,{"$f":"ROUND(AUTO!G19,3)","v":1.8560000000000001},{"$f":"ROUND(AUTO!H19,3)","v":2.1040000000000001},{"$f":"ROUND(AUTO!I19,3)","v":2.1040000000000001},{"$f":"ROUND(AUTO!J19,3)","v":1.536},1.8560000000000001,2.1040000000000001,2.1040000000000001,1.536,1.8560000000000001,2.1040000000000001,2.1040000000000001,1.536,1.8560000000000001,2.1040000000000001,2.1040000000000001,1.536,1.8560000000000001,2.1040000000000001,2.1040000000000001,1.536]
["Hawaii","2016-10-01",null,null,null,null,null,null,null,null,{"$f":"ROUND(W18,3)","v":1.546},{"$f":"ROUND(X18,3)","v":1.5649999999999999},{"$f":"ROUND(Y18,3)","v":1.5649999999999999},{"$f":"ROUND(Z18,3)","v":1.5429999999999999},null,null,null,null,null,null,null,null,{"$f":"ROUND(AUTO!G20,3)","v":1.546},{"$f":"ROUND(AUTO!H20,3)","v":1.5649999999999999},{"$f":"ROUND(AUTO!I20,3)","v":1.5649999999999999},{"$f":"ROUND(AUTO!J20,3)","v":1.5429999999999999},null,null,null,null,1.546,1.5649999999999999,1.5649999999999999,1.5429999999999999,1.546,1.5649999999999999,1.5649999999999999,1.5429999999999999]
["Idaho","8/7/2017",1.4950000000000001,1.988,1.988,1.6140000000000001,1.4950000000000001,1.988,1.988,1.6140000000000001,1.2709999999999999,{"$f":"ROUND((1-15%)*X19,3)","v":1.69},{"$f":"ROUND((1-15%)*Y19,3)","v":1.69},1.3720000000000001,1.1220000000000001,{"$f":"ROUND(X19*(1-25%),3)","v":1.4910000000000001},1.4910000000000001,{"$f":"ROUND(Z19*(1-25%),3)","v":1.2110000000000001},1.4950000000000001,1.988,1.988,1.6140000000000001,{"$f":"ROUND(AUTO!G21,3)","v":1.4950000000000001},{"$f":"ROUND(AUTO!H21,3)","v":1.988},{"$f":"ROUND(AUTO!I21,3)","v":1.988},{"$f":"ROUND(AUTO!J21,3)","v":1.6140000000000001},1.4950000000000001,1.988,1.988,1.6140000000000001,1.4950000000000001,1.988,1.988,1.6140000000000001,1.4950000000000001,1.988,1.988,1.6140000000000001,1.4950000000000001,1.988,1.988,1.6140000000000001]
["Illinois","2017-10-23",1.6140000000000001,1.7490000000000001,1.7490000000000001,1.4379999999999999,1.6140000000000001,1.7490000000000001,1.7490000000000001,1.6910000000000001,1.3720000000000001,1.486,1.486,1.4379999999999999,1.21,1.3120000000000001,1.3120000000000001,{"$f":"ROUND(Z20*(1-25%),3)","v":1.268},1.6140000000000001,1.7490000000000001,1.7490000000000001,1.6910000000000001,{"$f":"ROUND(AUTO!G22,3)","v":1.6140000000000001},{"$f":"ROUND(AUTO!H22,3)","v":1.7490000000000001},{"$f":"ROUND(AUTO!I22,3)","v":1.7490000000000001},{"$f":"ROUND(AUTO!J22,3)","v":1.6910000000000001},1.6140000000000001,1.7490000000000001,1.7490000000000001,1.6910000000000001,1.6140000000000001,1.7490000000000001,1.7490000000000001,1.6910000000000001,1.6140000000000001,1.7490000000000001,1.7490000000000001,1.6910000000000001,1.6140000000000001,1.7490000000000001,1.7490000000000001]
["Indiana","2018-04-01",{"$f":"ROUND(W21*(1+15%),3)","v":2.4049999999999998},{"$f":"ROUND(X21*(1+15%),3)","v":2.5129999999999999},2.5129999999999999,{"$f":"ROUND(Z21*(1+15%),3)","v":1.9039999999999999},2.0910000000000002,2.1850000000000001,2.1850000000000001,1.6559999999999999,1.778,1.8580000000000001,1.8580000000000001,1.407,1.569,1.639,1.639,1.242,2.0910000000000002,2.1850000000000001,2.1850000000000001,1.6559999999999999,{"$f":"ROUND(AUTO!G23,3)","v":2.0910000000000002},{"$f":"ROUND(AUTO!H23,3)","v":2.1850000000000001},{"$f":"ROUND(AUTO!I23,3)","v":2.1850000000000001},{"$f":"ROUND(AUTO!J23,3)","v":1.6559999999999999},2.0910000000000002,2.1850000000000001,2.1850000000000001,1.6559999999999999,2.0910000000000002,2.1850000000000001,2.1850000000000001,1.6559999999999999,2.0910000000000002,2.1850000000000001,2.1850000000000001,1.6559999999999999,{"$f":"ROUND((1-20%)*W21,3)","v":1.673},{"$f":"ROUND((1-20%)*X21,3)","v":1.748},1.748,1.06]
["Iowa","9/1/2017",1.4630000000000001,1.9670000000000001,1.9670000000000001,1.62,1.4630000000000001,1.9670000000000001,1.9670000000000001,1.62,1.2430000000000001,{"$f":"ROUND((1-15%)*X22,3)","v":1.6719999999999999},{"$f":"ROUND((1-15%)*Y22,3)","v":1.6719999999999999},{"$f":"ROUND((1-15%)*Z22,3)","v":1.377},{"$f":"ROUND(W22*(1-25%),3)","v":1.097},1.4750000000000001,1.4750000000000001,1.2150000000000001,1.4630000000000001,1.9670000000000001,1.9670000000000001,1.62,{"$f":"ROUND(AUTO!G24,3)","v":1.4630000000000001},{"$f":"ROUND(AUTO!H24,3)","v":1.9670000000000001},{"$f":"ROUND(AUTO!I24,3)","v":1.9670000000000001},{"$f":"ROUND(AUTO!J24,3)","v":1.62},1.4630000000000001,1.9670000000000001,1.9670000000000001,1.62,1.4630000000000001,1.9670000000000001,1.9670000000000001,1.62,1.4630000000000001,1.9670000000000001,1.9670000000000001,1.62,1.17,1.573,1.573,{"$f":"ROUND((1-20%)*Z22,3)","v":1.296}]
["Kansas","2018-06-01",1.599,2.0289999999999999,2.0289999999999999,1.7509999999999999,1.599,2.0289999999999999,2.0289999999999999,1.7509999999999999,1.359,1.724,1.724,1.488,1.1990000000000001,1.5209999999999999,1.5209999999999999,1.3129999999999999,1.599,2.0289999999999999,2.0289999999999999,1.7509999999999999,{"$f":"ROUND(AUTO!G25,3)","v":1.599},{"$f":"ROUND(AUTO!H25,3)","v":2.0289999999999999},{"$f":"ROUND(AUTO!I25,3)","v":2.0289999999999999},{"$f":"ROUND(AUTO!J25,3)","v":1.7509999999999999},1.599,2.0289999999999999,2.0289999999999999,1.7509999999999999,1.599,2.0289999999999999,2.0289999999999999,1.7509999999999999,1.599,2.0289999999999999,2.0289999999999999,1.7509999999999999,1.1990000000000001,1.5209999999999999,1.5209999999999999,{"$f":"ROUND((1-25%)*Z23,3)","v":1.3129999999999999}]
["Kentucky","9/1/2017",{"$f":"ROUND(W24*(1+15%),3)","v":2.0270000000000001},{"$f":"ROUND(X24*(1+15%),3)","v":2.4630000000000001},2.4630000000000001,{"$f":"ROUND(Z24*(1+15%),3)","v":1.8340000000000001},1.7629999999999999,2.1419999999999999,2.1419999999999999,1.595,1.498,{"$f":"ROUND((1-15%)*X24,3)","v":1.821},{"$f":"ROUND((1-15%)*Y24,3)","v":1.821},1.3560000000000001,1.3220000000000001,1.6060000000000001,1.6060000000000001,1.196,1.7629999999999999,2.1419999999999999,2.1419999999999999,1.595,{"$f":"ROUND(AUTO!G26,3)","v":1.7629999999999999},{"$f":"ROUND(AUTO!H26,3)","v":2.1419999999999999},{"$f":"ROUND(AUTO!I26,3)","v":2.1419999999999999},{"$f":"ROUND(AUTO!J26,3)","v":1.595},1.7629999999999999,2.1419999999999999,2.1419999999999999,1.595,1.7629999999999999,2.1419999999999999,2.1419999999999999,1.595,1.7629999999999999,2.1419999999999999,2.1419999999999999,1.595,{"$f":"ROUND((1-20%)*W24,3)","v":1.41},{"$f":"ROUND((1-20%)*X24,3)","v":1.714},1.714,{"$f":"ROUND((1-20%)*Z24,3)","v":1.276}]
["Louisiana","2018-02-01",null,null,null,null,1.911,2.1629999999999998,2.1629999999999998,{"$f":"ROUND(Z25,3)","v":1.7689999999999999},{"$f":"ROUND(W25,3)","v":1.911},{"$f":"ROUND(X25,3)","v":2.1629999999999998},2.1629999999999998,{"$f":"ROUND(Z25,3)","v":1.7689999999999999},null,null,null,null,1.911,2.1629999999999998,2.1629999999999998,1.7689999999999999,{"$f":"ROUND(AUTO!G27,3)","v":1.911},{"$f":"ROUND(AUTO!H27,3)","v":2.1629999999999998},{"$f":"ROUND(AUTO!I27,3)","v":2.1629999999999998},1.7689999999999999,1.911,2.1629999999999998,2.1629999999999998,1.7689999999999999,1.911,2.1629999999999998,2.1629999999999998,1.7689999999999999,1.911,2.1629999999999998,2.1629999999999998,1.7689999999999999]
["Maine","2018-02-01",1.841,1.8839999999999999,1.8839999999999999,null,1.841,1.8839999999999999,1.8839999999999999,1.4970000000000001,1.5649999999999999,{"$f":"ROUND((1-15%)*X26,3)","v":1.601},{"$f":"ROUND((1-15%)*Y26,3)","v":1.601},1.272,{"$f":"ROUND(W26,3)","v":1.841},{"$f":"ROUND(X26,3)","v":1.8839999999999999},{"$f":"ROUND(Y26,3)","v":1.8839999999999999},null,1.841,1.8839999999999999,1.8839999999999999,1.4970000000000001,{"$f":"ROUND(AUTO!G28,3)","v":1.841},{"$f":"ROUND(AUTO!H28,3)","v":1.8839999999999999},{"$f":"ROUND(AUTO!I28,3)","v":1.8839999999999999},{"$f":"ROUND(AUTO!J28,3)","v":1.4970000000000001},1.841,1.8839999999999999,1.8839999999999999,1.4970000000000001,1.841,1.8839999999999999,1.8839999999999999,1.4970000000000001,1.841,1.8839999999999999,1.8839999999999999,1.4970000000000001,{"$f":"ROUND(W26*(1-15%),3)","v":1.5649999999999999},{"$f":"ROUND(X26*(1-15%),3)","v":1.601},1.601,{"$f":"ROUND(Z26*(1-15%),3)","v":1.272}]
["Maryland","2018-02-01",2.1800000000000002,2.5030000000000001,2.5030000000000001,{"$f":"ROUND(Z27*(1+15%),3)","v":1.7769999999999999},1.895,2.1760000000000002,2.1760000000000002,1.5449999999999999,1.611,{"$f":"ROUND((1-15%)*X27,3)","v":1.85},{"$f":"ROUND((1-15%)*Y27,3)","v":1.85},1.3129999999999999,1.4219999999999999,{"$f":"ROUND(X27*(1-25%),3)","v":1.6319999999999999},{"$f":"ROUND(Y27*(1-25%),3)","v":1.6319999999999999},{"$f":"ROUND(Z27*(1-25%),3)","v":1.159},1.895,2.1760000000000002,2.1760000000000002,1.5449999999999999,{"$f":"ROUND(AUTO!G29,3)","v":1.895},{"$f":"ROUND(AUTO!H29,3)","v":2.1760000000000002},{"$f":"ROUND(AUTO!I29,3)","v":2.1760000000000002},{"$f":"ROUND(AUTO!J29,3)","v":1.5449999999999999},1.895,2.1760000000000002,2.1760000000000002,1.5449999999999999,1.895,2.1760000000000002,2.1760000000000002,1.5449999999999999,1.895,2.1760000000000002,2.1760000000000002,1.5449999999999999,{"$f":"ROUND((1-10%)*W27,3)","v":1.706},1.9590000000000001,1.9590000000000001,{"$f":"ROUND((1-10%)*Z27,3)","v":1.391}]
["Massachusetts"]
["Michigan","7/1/2017",1.4650000000000001,1.8480000000000001,1.8480000000000001,1.6950000000000001,1.4650000000000001,1.8480000000000001,1.8480000000000001,1.6950000000000001,1.246,{"$f":"ROUND((1-15%)*X29,3)","v":1.571},1.571,1.4410000000000001,{"$f":"ROUND(W29*(1-25%),3)","v":1.099},{"$f":"ROUND(X29*(1-25%),3)","v":1.3859999999999999},1.3859999999999999,{"$f":"ROUND(Z29*(1-25%),3)","v":1.2709999999999999},1.4650000000000001,1.8480000000000001,1.8480000000000001,1.6950000000000001,{"$f":"ROUND(AUTO!G31,3)","v":1.4650000000000001},{"$f":"ROUND(AUTO!H31,3)","v":1.8480000000000001},{"$f":"ROUND(AUTO!I31,3)","v":1.8480000000000001},{"$f":"ROUND(AUTO!J31,3)","v":1.6950000000000001},1.4650000000000001,1.8480000000000001,1.8480000000000001,{"$f":"ROUND(Z29,3)","v":1.6950000000000001},1.4650000000000001,1.8480000000000001,1.8480000000000001,1.6950000000000001,1.4650000000000001,1.8480000000000001,1.8480000000000001,1.6950000000000001,1.4650000000000001,1.8480000000000001,1.8480000000000001,1.6950000000000001]
["Minnesota","2017-10-09",1.7749999999999999,{"$f":"ROUND(X30*(1+15%),3)","v":2.3069999999999999},2.3069999999999999,{"$f":"ROUND(Z30*(1+15%),3)","v":1.839},1.544,2.0059999999999998,2.0059999999999998,1.599,1.3120000000000001,1.7050000000000001,1.7050000000000001,1.36,{"$f":"ROUND(W30,3)","v":1.544},{"$f":"ROUND(X30,3)","v":2.0059999999999998},{"$f":"ROUND(Y30,3)","v":2.0059999999999998},null,1.544,2.0059999999999998,2.0059999999999998,1.599,{"$f":"ROUND(AUTO!G32,3)","v":1.544},{"$f":"ROUND(AUTO!H32,3)","v":2.0059999999999998},{"$f":"ROUND(AUTO!I32,3)","v":2.0059999999999998},{"$f":"ROUND(AUTO!J32,3)","v":1.599},1.544,2.0059999999999998,2.0059999999999998,1.599,1.544,2.0059999999999998,2.0059999999999998,1.599,1.544,2.0059999999999998,2.0059999999999998,1.599,{"$f":"ROUND((1-20%)*W30,3)","v":1.2350000000000001},{"$f":"ROUND((1-20%)*X30,3)","v":1.605},1.605,{"$f":"ROUND((1-20%)*Z30,3)","v":1.2789999999999999}]
["Mississippi","2018-02-01",{"$f":"ROUND(W31,3)","v":2.153},{"$f":"ROUND(X31,3)","v":1.9710000000000001},{"$f":"ROUND(Y31,3)","v":1.9710000000000001},null,2.153,1.9710000000000001,1.9710000000000001,1.57,1.83,1.675,1.675,1.335,1.6140000000000001,{"$f":"ROUND(X31*(1-25%),3)","v":1.478},1.478,{"$f":"ROUND(Z31*(1-25%),3)","v":1.1779999999999999},2.153,1.9710000000000001,1.9710000000000001,1.57,{"$f":"ROUND(AUTO!G33,3)","v":2.153},{"$f":"ROUND(AUTO!H33,3)","v":1.9710000000000001},{"$f":"ROUND(AUTO!I33,3)","v":1.9710000000000001},{"$f":"ROUND(AUTO!J33,3)","v":1.57},2.153,1.9710000000000001,1.9710000000000001,1.57,2.153,1.9710000000000001,1.9710000000000001,1.57,2.153,1.9710000000000001,1.9710000000000001,1.57,2.153,1.9710000000000001,1.9710000000000001,1.57]
["Missouri","2018-02-01",2.028,{"$f":"ROUND(X32*(1+15%),3)","v":2.2450000000000001},{"$f":"ROUND(Y32*(1+15%),3)","v":2.2450000000000001},{"$f":"ROUND(Z32*(1+15%),3)","v":1.885},1.7629999999999999,1.952,1.952,1.639,1.4990000000000001,1.659,1.659,1.393,{"$f":"ROUND(W32*(1-25%),3)","v":1.3220000000000001},1.464,1.464,1.2290000000000001,1.7629999999999999,1.952,1.952,1.639,{"$f":"ROUND(AUTO!G34,3)","v":1.7629999999999999},{"$f":"ROUND(AUTO!H34,3)","v":1.952},{"$f":"ROUND(AUTO!I34,3)","v":1.952},{"$f":"ROUND(AUTO!J34,3)","v":1.639},1.7629999999999999,1.952,1.952,1.639,1.7629999999999999,1.952,1.952,1.639,1.7629999999999999,1.952,1.952,1.639,1.7629999999999999,1.952,1.952,1.639]
["Montana","2017-10-09",1.365,1.9550000000000001,1.9550000000000001,1.5720000000000001,1.365,1.9550000000000001,1.9550000000000001,1.5720000000000001,1.1599999999999999,1.6619999999999999,1.6619999999999999,1.3360000000000001,1.024,1.466,1.466,1.179,1.365,1.9550000000000001,1.9550000000000001,1.5720000000000001,{"$f":"ROUND(AUTO!G35,3)","v":1.365},{"$f":"ROUND(AUTO!H35,3)","v":1.9550000000000001},{"$f":"ROUND(AUTO!I35,3)","v":1.9550000000000001},{"$f":"ROUND(AUTO!J35,3)","v":1.5720000000000001},1.365,1.9550000000000001,1.9550000000000001,1.5720000000000001,1.365,1.9550000000000001,1.9550000000000001,1.5720000000000001,1.365,1.9550000000000001,1.9550000000000001,1.5720000000000001,{"$f":"ROUND(W33*(1-15%),3)","v":1.1599999999999999},{"$f":"ROUND(X33*(1-15%),3)","v":1.6619999999999999},1.6619999999999999,{"$f":"ROUND(Z33*(1-15%),3)","v":1.3360000000000001}]
["Nebraska","2018-03-01",1.879,1.9730000000000001,1.9730000000000001,1.474,1.879,1.9730000000000001,1.9730000000000001,1.474,{"$f":"ROUND(W34,3)","v":1.879},{"$f":"ROUND(X34,3)","v":1.9730000000000001},1.9730000000000001,{"$f":"ROUND(Z34,3)","v":1.474},1.879,1.9730000000000001,1.9730000000000001,1.474,1.879,1.9730000000000001,1.9730000000000001,1.474,{"$f":"ROUND(AUTO!G36,3)","v":1.879},{"$f":"ROUND(AUTO!H36,3)","v":1.9730000000000001},{"$f":"ROUND(AUTO!I36,3)","v":1.9730000000000001},{"$f":"ROUND(AUTO!J36,3)","v":1.474},1.879,1.9730000000000001,1.9730000000000001,1.474,1.879,1.9730000000000001,1.9730000000000001,1.474,1.879,1.9730000000000001,1.9730000000000001,1.474,1.879,1.9730000000000001,1.9730000000000001,1.474]
["Nevada","2017-10-01",1.764,2.1429999999999998,2.1429999999999998,1.899,1.764,2.1429999999999998,2.1429999999999998,1.899,1.4990000000000001,{"$f":"ROUND((1-15%)*X35,3)","v":1.8220000000000001},{"$f":"ROUND((1-15%)*Y35,3)","v":1.8220000000000001},1.6140000000000001,{"$f":"ROUND(W35*(1-25%),3)","v":1.323},{"$f":"ROUND(X35*(1-25%),3)","v":1.607},1.607,{"$f":"ROUND(Z35*(1-25%),3)","v":1.4239999999999999},1.764,2.1429999999999998,2.1429999999999998,1.899,{"$f":"ROUND(AUTO!G37,3)","v":1.764},{"$f":"ROUND(AUTO!H37,3)","v":2.1429999999999998},{"$f":"ROUND(AUTO!I37,3)","v":2.1429999999999998},{"$f":"ROUND(AUTO!J37,3)","v":1.899},1.764,2.1429999999999998,2.1429999999999998,1.899,1.764,2.1429999999999998,2.1429999999999998,1.899,1.764,2.1429999999999998,2.1429999999999998,1.899,1.764,2.1429999999999998,2.1429999999999998,1.899]
["New Hampshire","2017-10-09",{"$f":"ROUND(W36*(1+15%),3)","v":1.71},{"$f":"ROUND(X36*(1+15%),3)","v":2.1880000000000002},2.1880000000000002,{"$f":"ROUND(Z36*(1+15%),3)","v":1.7150000000000001},1.4870000000000001,1.903,1.903,1.4910000000000001,1.264,1.617,1.617,1.268,1.115,1.427,1.427,1.1180000000000001,1.4870000000000001,1.903,1.903,1.4910000000000001,{"$f":"ROUND(AUTO!G38,3)","v":1.4870000000000001},{"$f":"ROUND(AUTO!H38,3)","v":1.903},{"$f":"ROUND(AUTO!I38,3)","v":1.903},{"$f":"ROUND(AUTO!J38,3)","v":1.4910000000000001},1.4870000000000001,1.903,1.903,1.4910000000000001,1.4870000000000001,1.903,1.903,1.4910000000000001,1.4870000000000001,1.903,1.903,1.4910000000000001,1.4870000000000001,1.903,1.903,1.4910000000000001]
["New Jersey *","2018-01-01",1.954,2.04,2.04,1.9,1.954,2.04,2.04,1.9,{"$f":"ROUND(W37,3)","v":1.954},{"$f":"ROUND(X37,3)","v":2.04},2.04,{"$f":"ROUND(Z37,3)","v":1.9},null,null,null,null,1.954,2.04,2.04,1.9,{"$f":"ROUND(AUTO!G39,3)","v":1.954},{"$f":"ROUND(AUTO!H39,3)","v":2.04},{"$f":"ROUND(AUTO!I39,3)","v":2.04},{"$f":"ROUND(AUTO!J39,3)","v":1.9},1.954,2.04,2.04,1.9,1.954,2.04,2.04,1.9,1.954,2.04,2.04,1.9,1.954,2.04,2.04,1.9]
["New Mexico","2017-10-01",1.4259999999999999,1.841,1.841,1.536,1.4259999999999999,1.841,1.841,1.536,1.212,{"$f":"ROUND((1-15%)*X38,3)","v":1.5649999999999999},{"$f":"ROUND((1-15%)*Y38,3)","v":1.5649999999999999},1.306,{"$f":"ROUND(W38*(1-25%),3)","v":1.07},{"$f":"ROUND(X38*(1-25%),3)","v":1.381},1.381,{"$f":"ROUND(Z38*(1-25%),3)","v":1.1519999999999999},1.4259999999999999,1.841,1.841,1.536,{"$f":"ROUND(AUTO!G40,3)","v":1.4259999999999999},{"$f":"ROUND(AUTO!H40,3)","v":1.841},{"$f":"ROUND(AUTO!I40,3)","v":1.841},{"$f":"ROUND(AUTO!J40,3)","v":1.536},1.4259999999999999,1.841,1.841,1.536,1.4259999999999999,1.841,1.841,1.536,1.4259999999999999,1.841,1.841,1.536,{"$f":"ROUND((1-20%)*W38,3)","v":1.141},{"$f":"ROUND((1-20%)*X38,3)","v":1.4730000000000001},1.4730000000000001,{"$f":"ROUND((1-20%)*Z38,3)","v":1.2290000000000001}]
["New York","2017-09-01",{"$f":"ROUND(W39*(1-20%),3)","v":1.7889999999999999},{"$f":"ROUND(X39*(1-20%),3)","v":1.2030000000000001},{"$f":"ROUND(Y39*(1-20%),3)","v":1.2030000000000001},{"$f":"ROUND(Z39*(1-20%),3)","v":1.3839999999999999},{"$f":"ROUND(W39*(1-15%),3)","v":1.901},{"$f":"ROUND(X39*(1-15%),3)","v":1.278},1.278,1.47,{"$f":"ROUND(W39,3)","v":2.2360000000000002},{"$f":"ROUND(X39,3)","v":1.504},1.504,{"$f":"ROUND(Z39,3)","v":1.73},null,null,null,null,2.2360000000000002,1.504,1.504,1.73,{"$f":"ROUND(AUTO!G41,3)","v":2.2360000000000002},{"$f":"ROUND(AUTO!H41,3)","v":1.504},{"$f":"ROUND(AUTO!I41,3)","v":1.504},{"$f":"ROUND(AUTO!J41,3)","v":1.73},2.2360000000000002,1.504,1.504,1.73,2.2360000000000002,1.504,1.504,1.73,2.2360000000000002,1.504,1.504,1.73,null,null,null,1.73]
["North Carolina","2018-02-26",null,null,null,null,1.5629999999999999,1.9410000000000001,1.9410000000000001,1.5109999999999999,1.329,{"$f":"ROUND((1-15%)*X40,3)","v":1.65},1.65,1.284,1.5629999999999999,1.9410000000000001,1.9410000000000001,1.133,1.5629999999999999,1.9410000000000001,1.9410000000000001,1.5109999999999999,{"$f":"ROUND(AUTO!G42,3)","v":1.5629999999999999},{"$f":"ROUND(AUTO!H42,3)","v":1.9410000000000001},{"$f":"ROUND(AUTO!I42,3)","v":1.9410000000000001},{"$f":"ROUND(AUTO!J42,3)","v":1.5109999999999999},1.5629999999999999,1.9410000000000001,1.9410000000000001,1.5109999999999999,1.5629999999999999,1.9410000000000001,1.9410000000000001,1.5109999999999999,1.5629999999999999,1.9410000000000001,1.9410000000000001,1.5109999999999999,1.5629999999999999,1.9410000000000001,1.9410000000000001,1.5109999999999999]
["North Dakota","7/1/2017",{"$f":"ROUND(W41*(1+15%),3)","v":1.325},{"$f":"ROUND(X41*(1+15%),3)","v":2.3479999999999999},2.3479999999999999,{"$f":"ROUND(Z41*(1+15%),3)","v":1.7689999999999999},1.1519999999999999,2.0419999999999998,2.0419999999999998,1.538,0.97899999999999998,1.736,1.736,1.3080000000000001,{"$f":"ROUND(W41*(1-25%),3)","v":0.86399999999999999},{"$f":"ROUND(X41*(1-25%),3)","v":1.532},1.532,{"$f":"ROUND(Z41*(1-25%),3)","v":1.1539999999999999},1.1519999999999999,2.0419999999999998,2.0419999999999998,1.538,{"$f":"ROUND(AUTO!G43,3)","v":1.1519999999999999},{"$f":"ROUND(AUTO!H43,3)","v":2.0419999999999998},{"$f":"ROUND(AUTO!I43,3)","v":2.0419999999999998},{"$f":"ROUND(AUTO!J43,3)","v":1.538},1.1519999999999999,2.0419999999999998,2.0419999999999998,1.538,1.1519999999999999,2.0419999999999998,2.0419999999999998,1.538,1.1519999999999999,2.0419999999999998,2.0419999999999998,1.538,1.1519999999999999,2.0419999999999998,2.0419999999999998,1.538]
["Ohio","2018-03-01",1.784,2.1789999999999998,2.1789999999999998,1.738,1.784,2.1789999999999998,2.1789999999999998,1.738,1.516,1.8520000000000001,1.8520000000000001,1.4770000000000001,1.3380000000000001,1.6339999999999999,1.6339999999999999,1.3029999999999999,1.784,2.1789999999999998,2.1789999999999998,1.738,{"$f":"ROUND(AUTO!G44,3)","v":1.784},{"$f":"ROUND(AUTO!H44,3)","v":2.1789999999999998},{"$f":"ROUND(AUTO!I44,3)","v":2.1789999999999998},{"$f":"ROUND(AUTO!J44,3)","v":1.738},1.784,2.1789999999999998,2.1789999999999998,1.738,1.784,2.1789999999999998,2.1789999999999998,1.738,1.784,2.1789999999999998,2.1789999999999998,1.738,{"$f":"ROUND(W42*(1-15%),3)","v":1.516},{"$f":"ROUND(X42*(1-15%),3)","v":1.8520000000000001},1.8520000000000001,{"$f":"ROUND(Z42*(1-15%),3)","v":1.4770000000000001}]
["Oklahoma","2017-10-23",1.5429999999999999,1.917,1.917,1.63,1.5429999999999999,1.917,1.917,1.63,{"$f":"ROUND(W43,3)","v":1.5429999999999999},{"$f":"ROUND(X43,3)","v":1.917},1.917,{"$f":"ROUND(Z43,3)","v":1.63},1.5429999999999999,1.917,1.917,1.63,1.5429999999999999,1.917,1.917,1.63,{"$f":"ROUND(AUTO!G45,3)","v":1.5429999999999999},{"$f":"ROUND(AUTO!H45,3)","v":1.917},{"$f":"ROUND(AUTO!I45,3)","v":1.917},{"$f":"ROUND(AUTO!J45,3)","v":1.63},1.5429999999999999,1.917,1.917,1.63,1.5429999999999999,1.917,1.917,1.63,1.5429999999999999,1.917,1.917,1.63,1.5429999999999999,1.917,1.917,1.63]
["Oregon","2018-02-01",{"$f":"ROUND((1+15%)*W44,3)","v":1.8879999999999999},{"$f":"ROUND((1+15%)*X44,3)","v":1.98},{"$f":"ROUND((1+15%)*Y44,3)","v":1.98},{"$f":"ROUND((1+15%)*Z44,3)","v":1.8720000000000001},1.6419999999999999,1.722,1.722,1.6279999999999999,1.395,{"$f":"ROUND((1-15%)*X44,3)","v":1.464},{"$f":"ROUND((1-15%)*Y44,3)","v":1.464},1.3839999999999999,1.2310000000000001,1.2909999999999999,1.2909999999999999,1.2210000000000001,1.6419999999999999,1.722,1.722,1.6279999999999999,{"$f":"ROUND(AUTO!G46,3)","v":1.6419999999999999},{"$f":"ROUND(AUTO!H46,3)","v":1.722},{"$f":"ROUND(AUTO!I46,3)","v":1.722},{"$f":"ROUND(AUTO!J46,3)","v":1.6279999999999999},1.6419999999999999,1.722,1.722,1.6279999999999999,1.6419999999999999,1.722,1.722,1.6279999999999999,1.6419999999999999,1.722,1.722,1.6279999999999999,{"$f":"ROUND((1-35%)*W44,3)","v":1.0669999999999999},{"$f":"ROUND((1-35%)*X44,3)","v":1.119},1.119,1.0589999999999999]
["Pennsylvania","2018-07-01",2.0430000000000001,2.3340000000000001,{"$f":"ROUND(Y45*(1+15%),3)","v":2.3330000000000002},{"$f":"ROUND(Z45*(1+15%),3)","v":2.786},1.776,2.0289999999999999,2.0289999999999999,2.423,1.599,{"$f":"ROUND((1-10%)*X45,3)","v":1.8260000000000001},1.8260000000000001,2.1800000000000002,{"$f":"ROUND(W45*(1-15%),3)","v":1.51},{"$f":"ROUND(X45*(1-15%),3)","v":1.7250000000000001},{"$f":"ROUND(Y45*(1-15%),3)","v":1.7250000000000001},{"$f":"ROUND(Z45*(1-15%),3)","v":2.06},1.776,2.0289999999999999,2.0289999999999999,2.423,{"$f":"ROUND(AUTO!G47,3)","v":1.776},{"$f":"ROUND(AUTO!H47,3)","v":2.0289999999999999},{"$f":"ROUND(AUTO!I47,3)","v":2.0289999999999999},{"$f":"ROUND(AUTO!J47,3)","v":2.423},1.776,2.0289999999999999,2.0289999999999999,2.423,1.776,2.0289999999999999,2.0289999999999999,2.423,1.776,2.0289999999999999,2.0289999999999999,2.423,1.599,{"$f":"ROUND((1-10%)*X45,3)","v":1.8260000000000001},1.8260000000000001,2.1800000000000002]
["Rhode Island","2018-07-09",{"$f":"ROUND(W46,3)","v":1.5589999999999999},{"$f":"ROUND(X46,3)","v":1.819},{"$f":"ROUND(Y46,3)","v":1.819},{"$f":"ROUND(Z46,3)","v":1.4950000000000001},1.5589999999999999,1.819,1.819,1.4950000000000001,{"$f":"ROUND(W46,3)","v":1.5589999999999999},{"$f":"ROUND(X46,3)","v":1.819},1.819,{"$f":"ROUND(Z46,3)","v":1.4950000000000001},1.5589999999999999,1.819,1.819,1.4950000000000001,1.5589999999999999,1.819,1.819,1.4950000000000001,{"$f":"ROUND(AUTO!G48,3)","v":1.5589999999999999},{"$f":"ROUND(AUTO!H48,3)","v":1.819},{"$f":"ROUND(AUTO!I48,3)","v":1.819},{"$f":"ROUND(AUTO!J48,3)","v":1.4950000000000001},1.5589999999999999,1.819,1.819,1.4950000000000001,1.5589999999999999,1.819,1.819,1.4950000000000001,1.5589999999999999,1.819,1.819,1.4950000000000001,1.5589999999999999,1.819,1.819,1.4950000000000001]
["South Carolina","2018-07-01",1.54,1.86,1.86,1.6339999999999999,1.54,1.86,1.86,1.6339999999999999,1.3089999999999999,{"$f":"ROUND((1-15%)*X47,3)","v":1.581},{"$f":"ROUND((1-15%)*Y47,3)","v":1.581},1.389,{"$f":"ROUND(W47*(1-25%),3)","v":1.155},{"$f":"ROUND(X47*(1-25%),3)","v":1.395},1.395,{"$f":"ROUND(Z47*(1-25%),3)","v":1.226},1.54,1.86,1.86,1.6339999999999999,{"$f":"ROUND(AUTO!G49,3)","v":1.54},{"$f":"ROUND(AUTO!H49,3)","v":1.86},{"$f":"ROUND(AUTO!I49,3)","v":1.86},{"$f":"ROUND(AUTO!J49,3)","v":1.6339999999999999},1.54,1.86,1.86,1.6339999999999999,1.54,1.86,1.86,1.6339999999999999,1.54,1.86,1.86,1.6339999999999999,1.54,1.86,1.86,1.6339999999999999]
["South Dakota","7/1/2017",{"$f":"ROUND(W48*(1+15%),3)","v":1.657},{"$f":"ROUND(X48*(1+15%),3)","v":2.2069999999999999},2.2069999999999999,{"$f":"ROUND(Z48*(1+15%),3)","v":1.792},1.4410000000000001,1.919,1.919,1.5580000000000001,1.224,{"$f":"ROUND((1-15%)*X48,3)","v":1.631},{"$f":"ROUND((1-15%)*Y48,3)","v":1.631},1.3240000000000001,1.08,1.4390000000000001,1.4390000000000001,1.169,1.4410000000000001,1.919,1.919,1.5580000000000001,{"$f":"ROUND(AUTO!G50,3)","v":1.4410000000000001},{"$f":"ROUND(AUTO!H50,3)","v":1.919},{"$f":"ROUND(AUTO!I50,3)","v":1.919},{"$f":"ROUND(AUTO!J50,3)","v":1.5580000000000001},1.4410000000000001,1.919,1.919,1.5580000000000001,1.4410000000000001,1.919,1.919,1.5580000000000001,1.4410000000000001,1.919,1.919,1.5580000000000001,1.08,{"$f":"ROUND((1-25%)*X48,3)","v":1.4390000000000001},{"$f":"ROUND((1-25%)*Y48,3)","v":1.4390000000000001},{"$f":"ROUND((1-25%)*Z48,3)","v":1.169}]
["Tennessee","2018-02-01",1.9059999999999999,2.2280000000000002,2.2280000000000002,1.8109999999999999,1.657,1.9370000000000001,1.9370000000000001,1.575,1.409,1.647,1.647,1.339,1.2430000000000001,1.4530000000000001,1.4530000000000001,1.181,1.657,1.9370000000000001,1.9370000000000001,1.575,{"$f":"ROUND(AUTO!G51,3)","v":1.657},{"$f":"ROUND(AUTO!H51,3)","v":1.9370000000000001},{"$f":"ROUND(AUTO!I51,3)","v":1.9370000000000001},{"$f":"ROUND(AUTO!J51,3)","v":1.575},1.657,1.9370000000000001,1.9370000000000001,1.575,1.657,1.9370000000000001,1.9370000000000001,1.575,1.657,1.9370000000000001,1.9370000000000001,1.575,{"$f":"ROUND((1-20%)*W49,3)","v":1.3260000000000001},{"$f":"ROUND((1-20%)*X49,3)","v":1.55},{"$f":"ROUND((1-20%)*Y49,3)","v":1.55},{"$f":"ROUND((1-20%)*Z49,3)","v":1.26}]
["Texas","2017-05-01",{"$f":"ROUND(W50*(1+13%),3)","v":1.7470000000000001},{"$f":"ROUND(X50*(1+13%),3)","v":2.0219999999999998},{"$f":"ROUND(Y50*(1+13%),3)","v":2.0219999999999998},{"$f":"ROUND(Z50*(1+13%),3)","v":2.363},1.546,1.7889999999999999,1.7889999999999999,2.0910000000000002,{"$f":"ROUND((1-13.1%)*W50,3)","v":1.343},{"$f":"ROUND((1-13.1%)*X50,3)","v":1.5549999999999999},{"$f":"ROUND((1-13.1%)*Y50,3)","v":1.5549999999999999},{"$f":"ROUND((1-13.1%)*Z50,3)","v":1.8169999999999999},{"$f":"ROUND(W50*(1-21.8%),3)","v":1.2090000000000001},{"$f":"ROUND(X50*(1-21.8%),3)","v":1.399},{"$f":"ROUND(Y50*(1-21.8%),3)","v":1.399},{"$f":"ROUND(Z50*(1-21.8%),3)","v":1.635},1.546,1.7889999999999999,1.7889999999999999,2.0910000000000002,{"$f":"ROUND(AUTO!G52,3)","v":1.546},{"$f":"ROUND(AUTO!H52,3)","v":1.7889999999999999},{"$f":"ROUND(AUTO!I52,3)","v":1.7889999999999999},{"$f":"ROUND(AUTO!J52,3)","v":2.0910000000000002},1.546,1.7889999999999999,1.7889999999999999,2.0910000000000002,1.546,1.7889999999999999,1.7889999999999999,2.0910000000000002,1.546,1.7889999999999999,1.7889999999999999,2.0910000000000002,1.546,1.7889999999999999,1.7889999999999999]
["Utah","2018-01-01",{"$f":"ROUND(W51*(1+15%),3)","v":1.788},{"$f":"ROUND(X51*(1+15%),3)","v":2.113},2.113,{"$f":"ROUND(Z51*(1+15%),3)","v":1.7829999999999999},1.5549999999999999,1.837,1.837,1.55,1.321,{"$f":"ROUND((1-15%)*X51,3)","v":1.5609999999999999},{"$f":"ROUND((1-15%)*Y51,3)","v":1.5609999999999999},1.3180000000000001,{"$f":"ROUND(W51*(1-25%),3)","v":1.1659999999999999},{"$f":"ROUND(X51*(1-25%),3)","v":1.3779999999999999},1.3779999999999999,{"$f":"ROUND(Z51*(1-25%),3)","v":1.163},1.5549999999999999,1.837,1.837,1.55,{"$f":"ROUND(AUTO!G53,3)","v":1.5549999999999999},{"$f":"ROUND(AUTO!H53,3)","v":1.837},{"$f":"ROUND(AUTO!I53,3)","v":1.837},{"$f":"ROUND(AUTO!J53,3)","v":1.55},1.5549999999999999,1.837,1.837,1.55,1.5549999999999999,1.837,1.837,1.55,1.5549999999999999,1.837,1.837,1.55,1.5549999999999999,1.837,1.837,1.55]
["Vermont","2018-01-01",1.512,1.9179999999999999,1.9179999999999999,1.52,1.512,1.9179999999999999,1.9179999999999999,1.52,1.2849999999999999,{"$f":"ROUND((1-15%)*X52,3)","v":1.63},{"$f":"ROUND((1-15%)*Y52,3)","v":1.63},1.292,null,null,null,null,1.512,1.9179999999999999,1.9179999999999999,1.52,{"$f":"ROUND(AUTO!G54,3)","v":1.512},{"$f":"ROUND(AUTO!H54,3)","v":1.9179999999999999},{"$f":"ROUND(AUTO!I54,3)","v":1.9179999999999999},{"$f":"ROUND(AUTO!J54,3)","v":1.52},1.512,1.9179999999999999,1.9179999999999999,1.52,1.512,1.9179999999999999,1.9179999999999999,1.52,1.512,1.9179999999999999,1.9179999999999999,1.52,{"$f":"ROUND(W52*(1-15%),3)","v":1.2849999999999999},{"$f":"ROUND(X52*(1-15%),3)","v":1.63},1.63,{"$f":"ROUND(Z52*(1-15%),3)","v":1.292}]
["Virginia","2016-10-01",null,null,null,null,1.706,1.724,1.724,1.863,1.4510000000000001,1.466,1.466,1.5840000000000001,{"$f":"ROUND(W53*(1-25%),3)","v":1.28},1.294,1.294,1.3979999999999999,1.706,1.724,1.724,1.863,{"$f":"ROUND(AUTO!G55,3)","v":1.706},{"$f":"ROUND(AUTO!H55,3)","v":1.724},{"$f":"ROUND(AUTO!I55,3)","v":1.724},{"$f":"ROUND(AUTO!J55,3)","v":1.863},1.706,1.724,1.724,1.863,1.706,1.724,1.724,1.863,1.706,1.724,1.724,1.863,1.4510000000000001,{"$f":"ROUND((1-10%)*X53,3)","v":1.552},{"$f":"ROUND((1-10%)*Y53,3)","v":1.552},1.5840000000000001]
["Washington","2018-04-23",1.57,2.0169999999999999,2.0169999999999999,1.4370000000000001,1.57,2.0169999999999999,2.0169999999999999,1.4370000000000001,1.335,1.7150000000000001,1.7150000000000001,1.2210000000000001,1.57,2.0169999999999999,2.0169999999999999,1.4370000000000001,1.57,2.0169999999999999,2.0169999999999999,1.4370000000000001,{"$f":"ROUND(AUTO!G56,3)","v":1.57},{"$f":"ROUND(AUTO!H56,3)","v":2.0169999999999999},{"$f":"ROUND(AUTO!I56,3)","v":2.0169999999999999},{"$f":"ROUND(AUTO!J56,3)","v":1.4370000000000001},1.57,2.0169999999999999,2.0169999999999999,1.4370000000000001,1.57,2.0169999999999999,2.0169999999999999,1.4370000000000001,1.57,2.0169999999999999,2.0169999999999999,1.4370000000000001,1.57,2.0169999999999999,2.0169999999999999,1.4370000000000001]
["West Virginia","2018-01-01",{"$f":"ROUND(W55*(1+15%),3)","v":1.911},{"$f":"ROUND(X55*(1+15%),3)","v":2.2799999999999998},2.2799999999999998,1.5629999999999999,1.6619999999999999,1.9830000000000001,1.9830000000000001,1.5629999999999999,{"$f":"ROUND((1-10%)*W55,3)","v":1.496},{"$f":"ROUND((1-10%)*X55,3)","v":1.7849999999999999},1.7849999999999999,1.5629999999999999,1.246,{"$f":"ROUND(X55*(1-25%),3)","v":1.4870000000000001},1.4870000000000001,1.5629999999999999,1.6619999999999999,1.9830000000000001,1.9830000000000001,1.5629999999999999,{"$f":"ROUND(AUTO!G57,3)","v":1.6619999999999999},{"$f":"ROUND(AUTO!H57,3)","v":1.9830000000000001},{"$f":"ROUND(AUTO!I57,3)","v":1.9830000000000001},{"$f":"ROUND(AUTO!J57,3)","v":1.5629999999999999},1.6619999999999999,1.9830000000000001,1.9830000000000001,1.5629999999999999,1.6619999999999999,1.9830000000000001,1.9830000000000001,1.5629999999999999,1.6619999999999999,1.9830000000000001,1.9830000000000001,1.5629999999999999,1.6619999999999999,1.9830000000000001,1.9830000000000001,1.5629999999999999]
["Wisconsin","2017-10-09",1.7669999999999999,2.2719999999999998,2.2719999999999998,{"$f":"ROUND(Z56*(1+15%),3)","v":1.869},1.5369999999999999,1.9750000000000001,1.9750000000000001,1.625,1.306,{"$f":"ROUND((1-15%)*X56,3)","v":1.679},{"$f":"ROUND((1-15%)*Y56,3)","v":1.679},1.381,{"$f":"ROUND(W56*(1-25%),3)","v":1.153},1.482,1.482,{"$f":"ROUND(Z56*(1-25%),3)","v":1.2190000000000001},1.5369999999999999,1.9750000000000001,1.9750000000000001,1.625,{"$f":"ROUND(AUTO!G58,3)","v":1.5369999999999999},{"$f":"ROUND(AUTO!H58,3)","v":1.9750000000000001},{"$f":"ROUND(AUTO!I58,3)","v":1.9750000000000001},{"$f":"ROUND(AUTO!J58,3)","v":1.625},1.5369999999999999,1.9750000000000001,1.9750000000000001,1.625,1.5369999999999999,1.9750000000000001,1.9750000000000001,1.625,1.5369999999999999,1.9750000000000001,1.9750000000000001,1.625,1.5369999999999999,1.9750000000000001,1.9750000000000001,1.625]
["Wyoming","2018-02-01",1.2809999999999999,1.8819999999999999,1.8819999999999999,1.4930000000000001,1.2809999999999999,1.8819999999999999,1.8819999999999999,1.4930000000000001,{"$f":"ROUND(W57,3)","v":1.2809999999999999},{"$f":"ROUND(X57,3)","v":1.8819999999999999},{"$f":"ROUND(Y57,3)","v":1.8819999999999999},{"$f":"ROUND(Z57,3)","v":1.4930000000000001},1.2809999999999999,1.8819999999999999,1.8819999999999999,1.4930000000000001,1.2809999999999999,1.8819999999999999,1.8819999999999999,1.4930000000000001,{"$f":"ROUND(AUTO!G59,3)","v":1.2809999999999999},{"$f":"ROUND(AUTO!H59,3)","v":1.8819999999999999},{"$f":"ROUND(AUTO!I59,3)","v":1.8819999999999999},{"$f":"ROUND(AUTO!J59,3)","v":1.4930000000000001},1.2809999999999999,1.8819999999999999,1.8819999999999999,1.4930000000000001,1.2809999999999999,1.8819999999999999,1.8819999999999999,1.4930000000000001,1.2809999999999999,1.8819999999999999,1.8819999999999999,1.4930000000000001]
[]
[]
[null,"Company is not licensed or, we have not filed for this company in the respective state."]
["*","A maximum of 30% rate change allowed to all renewals as per state DOI norms."]

{"sheet":"AUTO","index":6,"n_rows":65,"n_cols":21,"rows_kept":65,"cut":false,"hidden":false,"merged":[[0,0,0,4],[4,17,4,20],[5,17,5,20],[4,11,6,11],[4,6,4,9],[5,6,5,9]]}
["COMMERCIAL AUTO LOSS COST FILING STATUS",null,null,null,null,null,null,null,null,null,null,null,null,null,null,null,null,null,null,"As of:",{"$f":"Cutoff_Date","v":"2018-09-14"}]
[]
["CURRENT:",null,null,null,null,null,null,null,null,null," PENDING:"]
[null,null,null,null,null,"Total"]
[null,null,null,"Loss",null,"Basic","LOSS COST",null,null,null,"Actuarial","Status","Proposed/",null,"Loss",null,"Total","LOSS COST"]
[null,"Effective","Circular #'s","Cost","Expense","Limits","MULTIPLIER",null,null,null,"Support",null,"Effective","Circular #'s","Cost","Expense","B/L / T/L","MULTIPLIER"]
["State","Date"," (Edition Date)","Change","Change","Change","LIAB","PHYS D","Auto Dealers PHYS D","Auto Dealers LIAB","Prepared",null,"Date"," (Edition Date)","Change","Change","Change","LIAB","PHYS D","Auto Dealers PHYS D","Auto Dealers LIAB"]
[]
["Alabama","2018-07-09","2017-208 (2/18)",9.5668748292234929E-2,0.11731123897047624,0.22458581291785945,2.5510000000000002,1.762,1.762,1.585,null,"Not Yet Filed",null,"2018-172 (2/19)",0.09]
["Alaska","2017-12-11","2017-076 (7/17)",3.5999999999999997E-2,-1.7014020279525033E-2,0.03,1.468,1.8089999999999999,1.8089999999999999,1.5529999999999999,null,"Delay Implementation","2019-01-01","2018-065 (7/18)",8.0304590690208674E-3,0.24573210990755578,0.25004836092712696,1.92,1.611,1.611,1.92]
["Arizona","2017-10-09","2017-119 (10/17)",7.0000000000000007E-2,0.13846068377146792,0.218,1.718,1.7609999999999999,1.7609999999999999,1.508,null,"Not Yet Filed",null,"2018-084 (10/18)",0.10199999999999999]
["Arkansas","8/7/2017","2017-037 (7/17)",6.6000000000000003E-2,2.693555825679983E-2,0.1,1.639,2.1949999999999998,2.1949999999999998,1.87,null,"Exempt","2018-10-29","2018-005 (7/18)",9.4E-2,9.3036940734233298E-2,0.19632167937369224,1.8109999999999999,2.3069999999999999,2.3069999999999999,1.8109999999999999]
["California*","2017-12-11","2014-228 (2/15)",9.7000000000000003E-2,0,9.5000000000000001E-2,2.1549999999999998,2.0209999999999999,2.0209999999999999,2.1549999999999998,null,"Not Yet Filed\nNot Yet Filed",null,"2018-109 (8/18)\n2017-010 (6/17)","26.1%\n6.2%"]
["Colorado","2016-01-01","2015-115 (1/16)",6.9000000000000006E-2,0,6.9000000000000006E-2,1.7909999999999999,1.8129999999999999,1.8129999999999999,1.5629999999999999,null,"Pending\nNot Yet Filed","2018-02-01","2017-247 (1/18)\n2018-186 (1/19)","8.5%\n3.0%",8.4707029858778204E-2,0.17599999999999999,1.877,2.1539999999999999,1.5629999999999999,{"$f":"J14","v":1.5629999999999999}]
["Connecticut","2018-02-05","2017-233 (2/18)",0.111,8.7866551499999224E-2,0.20599999999999999,1.827,2.1190000000000002,2.1190000000000002,1.714,null,"Not Yet Filed",null,"2018-200 (2/19)",1.4E-2]
["Delaware*","2018-09-03","2017-354 (7/18)",0.151,-4.3999999999999997E-2,0.1,2.0920000000000001,1.994,1.994,1.869]
["DC","2018-02-26","N/A",0,2.8205608568321772E-2,0.03,1.5820000000000001,1.859,1.859,1.512,null,"Not Yet Filed",null,"2018-149 (10/18)",3.9E-2]
["Florida*","2018-08-01","2017-309 (8/18)",0.23679200000000003,3.2272422924901178E-2,0.27671385817786581,1.8280000000000001,1.8380000000000001,1.8380000000000001,2.024]
["Georgia","2018-05-01","2017-316 (5/18)",0.18512843165605991,2.4529542771925206E-2,0.21266066752513416,1.8560000000000001,2.1040000000000001,2.1040000000000001,1.536]
["Hawaii*","2016-10-01","2015-01",-0.13900000000000001,0,-0.13900000000000001,1.546,1.5649999999999999,1.5649999999999999,1.5429999999999999]
["Idaho","8/7/2017","2017-035 (7/17)",2.8000000000000001E-2,4.3314879359304115E-3,5.6000000000000001E-2,1.4950000000000001,1.988,1.988,1.6140000000000001,null,"Delay Implementation","2019-01-01","2018-027 (7/18)",6.4000000000000001E-2,0.16793517019470694,0.24525189328824301,1.849,1.946,1.946,1.849]
["Illinois*","2017-10-23","2017-125(10/17)",6.4000000000000001E-2,-2.4921133835005715E-2,3.7505544779463176E-2,1.6140000000000001,1.7490000000000001,1.7490000000000001,1.6910000000000001,null,"Exempt","2018-10-29","2018-081 (10/18)",0.14043523654897316,1.7529453986045107E-2,0.16,1.6439999999999999,1.7490000000000001,1.7490000000000001,1.6439999999999999]
["Indiana","2018-04-01","2017-292 (4/18)",7.8030000000000002E-2,0.150836275695581,0.24034531225815781,2.0910000000000002,2.1850000000000001,2.1850000000000001,1.6559999999999999]
["Iowa","9/1/2017","2017-070 (8/17)",3.2000000000000001E-2,-5.0577070378085009E-3,3.5000000000000003E-2,1.4630000000000001,1.9670000000000001,1.9670000000000001,1.62,null,"Delay Implementation",null,"2018-031 (8/18)",4.1000000000000002E-2]
["Kansas","2018-06-01","2017-322 (6/18)",3.4872214610570475E-2,0.11501872222564757,0.15,1.599,2.0289999999999999,2.0289999999999999,1.7509999999999999]
["Kentucky","9/1/2017","2017-086 (9/17)",6.4000000000000001E-2,-8.1058795497749303E-3,6.0999999999999999E-2,1.7629999999999999,2.1419999999999999,2.1419999999999999,1.595,null,"Approved","2018-10-08","2018-062 (9/18)",8.6999999999999994E-2,0.10222216264259099,0.19974577610437314,1.9970000000000001,2.0550000000000002,2.0550000000000002,1.9970000000000001]
["Louisiana*","2018-02-01","2017-146 (11/17)",5.0999999999999997E-2,0.13865059414296432,0.19700000000000001,1.911,2.1629999999999998,2.1629999999999998,1.7689999999999999]
["Maine","2018-02-01","2017-264 (2/18)",3.1E-2,0.17359577559046313,0.21,1.841,1.8839999999999999,1.8839999999999999,1.4970000000000001,null,"Not Yet Filed",null,"2018-208 (2/19)",2.8000000000000001E-2]
["Maryland","2018-02-01"," 2017-240 (2/18)",9.4E-2,5.6000000000000001E-2,0.154,1.895,2.1760000000000002,2.1760000000000002,1.5449999999999999,null,"Not Yet Filed",null,"2018-193 (2/19)",4.7E-2]
["Massachusetts*#"]
["Michigan","7/1/2017","2017-049 (7/17)",0.10100000000000001,-2.1866862239982465E-2,0.12,1.4650000000000001,1.8480000000000001,1.8480000000000001,1.6950000000000001,null,"Exempt","2018-10-29","2018-013 (7/18)",6.6504731532478614E-2,0.12939574002386367,0.20982491681111176,1.74,1.893,1.893,1.74]
["Minnesota","2017-10-09","2017-153 (10/17)",3.6999999999999998E-2,1.5639679635698345E-2,0.05,1.544,2.0059999999999998,2.0059999999999998,1.599,null,"Exempt","2018-10-29","2018-089 (10/18)",6.2903551380811315E-2,0.1655896036267781,0.24149239263960504,1.948,1.8540000000000001,1.8540000000000001,1.948]
["Mississippi","2018-02-01","2017-099 (8/17)",9.1999999999999998E-2,3.3573612342078674E-2,0.15,2.153,1.9710000000000001,1.9710000000000001,1.57,null,"Delay Implementation","2019-01-01","2018-069 (8/18)",0.11848071815106419,9.6443486202423268E-2,0.22695514456634214,1.792,1.4590000000000001,1.4590000000000001,1.792]
["Missouri","2018-02-01","2017-139 (10/17)",6.2E-2,7.2261048289489871E-2,0.13900000000000001,1.7629999999999999,1.952,1.952,1.639,null,"Not Yet Filed",null,"2018-116 (10/18)",0.126]
["Montana","2017-10-09","2017-018 (7/17)",0.01,-4.2941017436779472E-3,1.2999999999999999E-2,1.365,1.9550000000000001,1.9550000000000001,1.5720000000000001,null,"Delay Implementation","2019-01-01","2018-040 (7/18)",3.1179503226514312E-2,0.30879445171195785,0.35063515661222261,1.869,2.085,2.085,1.869]
["Nebraska","2018-03-01","2017-245 (3/18)",0.10299999999999999,5.2945077820702124E-2,0.16300000000000001,1.879,1.9730000000000001,1.9730000000000001,1.474,null,"Not Yet Filed",null,"2018-221 (3/19)",0.04]
["Nevada","2017-10-01","2017-151 (10/17)",0.14599999999999999,-3.5668851238187527E-3,0.14000000000000001,1.764,2.1429999999999998,2.1429999999999998,1.899,null,"Not Yet Filed",null,"2018-086 (10/18)",9.1999999999999998E-2]
["New Hampshire","2017-10-09","2017-127 (10/17)",7.0000000000000007E-2,6.2258075202329621E-2,0.13100000000000001,1.4870000000000001,1.903,1.903,1.4910000000000001,null,"Not Yet Filed",null,"2018-121 (10/18)",7.0999999999999994E-2]
["New Jersey","2018-01-01","2017-199 (1/18)",6.6000000000000003E-2,0.11567720531645787,0.189,1.954,2.04,2.04,1.9,null,"Not Yet Filed",null,"2018-174 (1/19)",2.3E-2]
["New Mexico","2017-10-01","2017-131 (10/17)",5.1999999999999998E-2,3.9336692939513362E-3,0.08,1.4259999999999999,1.841,1.841,1.536,null,"Exempt","2018-10-08","2018-107 (10/18)",4.2589204492356869E-2,0.13203158943092674,0.18,1.665,1.877,1.877,1.665]
["New York*","2017-09-01","2016-332 (7/17)",-5.7000000000000002E-2,0.124,0.06,2.2360000000000002,1.504,1.504,1.73,null,"Not Yet Filed\nNot Yet Filed",null,"2018-067 (7/18)\n2018-202(7/19)","10.5%\n10.1%"]
["North Carolina","2018-02-26","2017-268 (12/17)",8.9999999999999993E-3,0.1016533253895946,0.11,1.5629999999999999,1.9410000000000001,1.9410000000000001,1.5109999999999999,null,"Not Yet Filed",null,"2018-151 (12/18)",0.127]
["North Dakota","7/1/2017","2017-008 (7/17)",-0.03,2.5730071496752771E-2,0,1.1519999999999999,2.0419999999999998,2.0419999999999998,1.538]
["Ohio","2018-03-01","2017-288 (3/18)",0.10463327781691002,4.8057811354606628E-2,0.154,1.784,2.1789999999999998,2.1789999999999998,1.738]
["Oklahoma","2017-10-23","2017-089 (8/17)",1.0999999999999999E-2,8.0264025986158227E-2,0.09,1.5429999999999999,1.917,1.917,1.63,null,"Approved","2018-10-29","2018-073 (8/18)",4.0974801172108791E-2,0.2016906375618952,0.25227809660088663,1.94,1.978,1.978,1.94]
["Oregon","2018-02-01","2017-215 (1/18)",0.153,3.8113971685941772E-2,0.19500000000000001,1.6419999999999999,1.722,1.722,1.6279999999999999,null,"Not Yet Filed",null,"2018-197 (1/19)",5.6000000000000001E-2]
["Pennsylvania","2018-07-01","2017-324 (7/18)",7.739893789946552E-3,0.15542590290983727,0.16333358013976362,1.776,2.0289999999999999,2.0289999999999999,2.423]
["Rhode Island","2018-07-09","2017-280 (3/18)",5.5E-2,7.2769026745548748E-2,0.13100000000000001,1.5589999999999999,1.819,1.819,1.4950000000000001]
["South Carolina","2018-07-01","2017-350 (7/18)",0.24199999999999999,-3.0355888546925724E-2,0.2,1.54,1.86,1.86,1.6339999999999999]
["South Dakota","7/1/2017","2017-020 (7/17)",4.8000000000000001E-2,-1.022982042695153E-2,4.7E-2,1.4410000000000001,1.919,1.919,1.5580000000000001,null,"Approved","2018-10-08","2018-024 (7/18)",5.6512614467366024E-2,0.14118892871571087,0.2001408802349447,1.88,1.7430000000000001,1.7430000000000001,1.88]
["Tennessee","2018-02-01","2017-219 (2/18)",0.13900000000000001,2.214251923201016E-2,0.16300000000000001,1.657,1.9370000000000001,1.9370000000000001,1.575,null,"Not Yet Filed",null,"2018-179 (2/19)",1.2999999999999999E-2]
["Texas*","2017-05-01","2016-053 (6/17)",8.5999999999999993E-2,1.2E-2,9.9000000000000005E-2,1.546,1.7889999999999999,1.7889999999999999,2.0910000000000002,null,"Not Yet Filed\nPending","2018-02-26","2018-044 (6/18)\n'2017-030 (6/17)","8.5%\n1.1%",0.18979306928829365,0.2,1.83,2.1800000000000002,2.1800000000000002,1.83]
["Utah","2018-01-01","2017-217 (1/18)",9.1999999999999998E-2,5.5168796142922139E-2,0.15,1.5549999999999999,1.837,1.837,1.55,null,"Not Yet Filed",null,"2018-217 (1/19)",0.121]
["Vermont","2018-01-01","2017-214 (1/18)",3.9E-2,6.8195036658345254E-2,0.107,1.512,1.9179999999999999,1.9179999999999999,1.52,null,"Not Yet Filed",null,"2018-211 (1/19)",1.2999999999999999E-2]
["Virginia","2016-10-01","2016-187 (10/16)",3.1E-2,0,3.1E-2,1.706,1.724,1.724,1.863,null,"Pending\nNot Yet Filed","2018-03-01","2017-100 (10/17)\n2018-154 (10/18)","2.1%\n14.7%",0.1867690514937741,0.21181241739196324,2.0139999999999998,2.0859999999999999]
["Washington+","2018-04-23","2017-194 (10/17)",8.7999999999999995E-2,1.1895042227278774E-2,0.1,1.57,2.0169999999999999,2.0169999999999999,1.4370000000000001,null,"Not Yet Filed",null,"2018-141 (10/18)",0.105]
["West Virginia","2018-01-01","2017-249 (1/18)",2.5999999999999999E-2,0.11535798884448156,0.14199999999999999,1.6619999999999999,1.9830000000000001,1.9830000000000001,1.5629999999999999,null,"Not Yet Filed",null,"2018-215 (1/19)",3.3000000000000002E-2]
["Wisconsin","2017-10-09","2017-117 (10/17)",5.6000000000000001E-2,1.9728845960206076E-2,7.4999999999999997E-2,1.5369999999999999,1.9750000000000001,1.9750000000000001,1.625,null,"Not Yet Filed",null,"2018-105 (10/18)",6.7000000000000004E-2]
["Wyoming","2018-02-01","N/A",0,1.4419999999999433E-3,0,1.2809999999999999,1.8819999999999999,1.8819999999999999,1.4930000000000001,null,"Exempt","2018-10-29","2018-037 (7/18)",1.8911417648726666E-2,0.17974234245523246,0.19713623372807859,1.7729999999999999,1.7769999999999999,1.7769999999999999,1.7729999999999999]
[]
[]
[" * LCM cannot be placed on file for future revisions.",null,null,null,"+ NHG - Current LCM = ",null,1.4430000000000001,null,null,null,null,"# NHG at Mass. AIB Rates.                               Garage LCM displayed if not equal to LIABILITY."]
["10/23/18* : Effective Date Might Change"]
[]
[null,null," "]

{"sheet":"AUTO-DEVS","index":7,"n_rows":62,"n_cols":19,"rows_kept":62,"cut":false,"hidden":false,"merged":[[61,0,61,2],[1,0,1,11],[3,1,3,4],[3,5,3,8],[3,9,3,10],[58,9,58,10],[60,0,60,2]]}
[null,null,null,null,null,null,null,null,null,"As of:",{"$f":"Cutoff_Date","v":"2018-09-14"}]
["*  *  *  *  *  *  *  *  *  *  *    COMMERCIAL AUTO LOSS COST MODIFICATIONS    *  *  *  *  *  *  *  *  *  *  *"]
[]
[null,"Loss Cost Modification*",null,null,null,"NEW HAMPSHIRE COMPANIES",null,null,null,"NEW YORK COMPANIES +"]
[" State","Liab. ","Auto Dealers Liab","Phys D.","Auto Dealers Phys D.","Sub-Standard","Standard","Preferred","Super-Preferred","Standard","Preferred"]
[]
["ALABAMA",0.56426719449498686,0,8.048053681888101E-2,8.048053681888101E-2,"INIC","GSIC","NHIC -15%",null,"AIG PCC / AHAC  / C&I / NUFIC / ISOP (aa)","AIU -40%"]
["ALASKA",-5.7000000000000002E-2,-5.7000000000000002E-2,0.16200000000000001,0.16200000000000001,"INIC +15%","GSIC","NHIC -15%","AIG AC -25%","AIG PCC / AHAC  / AIU / C&I / NUFIC / ISOP "]
["ARIZONA",8.2000000000000003E-2,0,0.109,0.109,"INIC +15%","GSIC","NHIC -15%","AIG AC -25%","AIG PCC / AHAC  / C&I / NUFIC / ISOP ","AIIU -15%"]
["ARKANSAS",0.16700000000000001,0.2,0.48099999999999998,0.48099999999999998,null,"GSIC","NHIC -15%","AIG AC -25%","AIG PCC / AHAC  / C&I / NUFIC / ISOP ","AIIU -30%"]
["CALIFORNIA ",0.35,0.35,0.1,0.1,null,"NHIC ","GSIC -20%",null,"AIG PCC / AHAC  / C&I / NUFIC / ISOP ","AIIU -10%"]
["COLORADO  ",0.18099999999999999,0,0.35499999999999998,0.35499999999999998,null,"GSIC / INIC","NHIC -15% (varies by class)","AIG AC -25% (varies by class )","AIG PCC / AHAC  / AIU / C&I / NUFIC / ISOP "]
["CONNECTICUT",0.154,0.1,0.33839999999999998,0.33839999999999998,null,"GSIC / INIC","NHIC -15%","AIG AC -25%","AIG PCC / AHAC  / C&I / NUFIC / ISOP ","AIU -15%"]
["DELAWARE",0.28999999999999998,0.25,0.25,0.25,"INIC +15%","GSIC","NHIC -10%","AIG AC -15%","AIG PCC / AHAC  / AIU / C&I / NUFIC / ISOP "]
["DIST. OF COLUMBIA",0,0,0.17499999999999999,0.17499999999999999,null,"GSIC / INIC / AIG AC","NHIC -15%",null,"AIG PCC / AHAC  / AIU / C&I / NUFIC / ISOP "]
["FLORIDA",0.15500000000000003,0.32,0.16100000000000003,0.16100000000000003,"INIC +15%","GSIC","NHIC -10%","AIG AC -15%","AIG PCC / AHAC  / C&I / NUFIC / ISOP ","AIU -24%L, -20%PD"]
["GEORGIA",0.16300000000000001,0,0.318,0.318,"INIC +15%","GSIC","NHIC -15%","AIG AC -25%","AIG PCC / AHAC  / AIU / C&I / NUFIC / ISOP "]
["HAWAII  ",0,0,0,0,null,"NHIC / INIC",null,null,"AHAC / NUFIC / ISOP "]
["IDAHO",-2.1999999999999999E-2,0.08,0.3,0.3,null,"GSIC / INIC","NHIC -15%","AIG AC -25%","AIG PCC / AHAC  / AIU / C&I / NUFIC / ISOP "]
["ILLINOIS",8.5000000000000006E-2,8.5000000000000006E-2,0.154,0.154,null,"GSIC / INIC","NHIC -15%","AIG AC -25%","AIG PCC / AHAC  / AIU / C&I / NUFIC / ISOP "]
["INDIANA",0.33040000000000003,0.08,0.3902000000000001,0.3902000000000001,"INIC +15%","GSIC ","NHIC -15%","AIG AC -25%","AIG PCC / AHAC  / C&I / NUFIC / ISOP ","AIU -20%"]
["IOWA",-3.5999999999999997E-2,0.1,0.29599999999999999,0.29599999999999999,null,"GSIC / INIC","NHIC -15%","AIG AC -25%","AIG PCC / AHAC  / C&I / NUFIC / ISOP ","AIU -20%"]
["KANSAS",6.0000000000000001E-3,0.12,0.27600000000000002,0.27600000000000002,null,"GSIC / INIC","NHIC -15%","AIG AC -25%","AIG PCC / AHAC  / C&I / NUFIC / ISOP","AIU -25%"]
["KENTUCKY",0.28799999999999998,0.28799999999999998,0.32600000000000001,0.32600000000000001,"INIC +15%","GSIC","NHIC -15%","AIG AC -25%","AIG PCC / AHAC  / C&I / NUFIC / ISOP ","AIU -20%"]
["LOUISIANA   ",0.186,0.125,0.34300000000000003,0.34300000000000003,null,"NHIC / GSIC / INIC / AIG AC",null,null,"AIG PCC / AHAC  / C&I / NUFIC / ISOP ","AIU -15%"]
["MAINE",0.18,0,0.20749999999999999,0.20749999999999999,null,"GSIC / INIC","NHIC -15%",null,"AIG PCC / AHAC  / C&I / NUFIC / ISOP ","AIU -15%"]
["MARYLAND",0.215,0,0.39500000000000002,0.39500000000000002,"INIC +15%","GSIC","NHIC -15%","AIG AC -25%","AIG PCC / AHAC  / C&I / NUFIC / ISOP ","AIU -10%"]
["MASSACHUSETTS",null,null,null,null,null,"NHIC / GSIC / INIC",null,null,"AIG PCC / AHAC  / AIU / C&I / NUFIC / ISOP "]
["MICHIGAN",0.13500000000000001,0.13500000000000001,0.23499999999999999,0.23499999999999999,null,"GSIC / INIC","NHIC -15%","AIG AC -25%","AIG PCC / AHAC  / AIU / C&I / NUFIC / ISOP "]
["MINNESOTA",0.25700000000000001,0.25700000000000001,0.19600000000000001,0.19600000000000001,"INIC +15%","GSIC","NHIC -15%",null,"AIG PCC / AHAC  / C&I / NUFIC / ISOP ","AIU -20%"]
["MISSISSIPPI ",0.33300000000000002,0,0.22,0.22,null,"GSIC","NHIC & Aud Ind. -15%","AIG AC -25%","AIG PCC / AHAC  / AIU / C&I / NUFIC / ISOP "]
["MISSOURI",0.10894628606830259,0.06,0.22767131615149871,0.22767131615149871,"INIC +15%","GSIC","NHIC -15%","AIG AC -25%","AIG PCC / AHAC  / AIU / C&I / NUFIC / ISOP "]
["MONTANA",-0.124,0,0.254,0.254,null,"GSIC / INIC","NHIC -15%","AIG AC -25%","AIG PCC / AHAC  / C&I / NUFIC / ISOP ","AIU -15%"]
["NEBRASKA",0.22326399999999991,0,0.28473199999999999,0.28473199999999999,null,"NHIC / GSIC / AIG AC  / INIC",null,null,"AIG PCC / AHAC  / AIU / C&I / NUFIC / ISOP "]
["NEVADA",8.4000000000000005E-2,0.2,0.3165,0.3165,null,"GSIC / INIC","NHIC -15%","AIG AC -25%","AIG PCC / AHAC  / AIU / C&I / NUFIC / ISOP "]
["NEW HAMPSHIRE",-5.2999999999999999E-2,0,0.21099999999999999,0.21099999999999999,"INIC +15%","GSIC","NHIC -15%","AIG AC -25%","AIG PCC / AHAC  / AIU / C&I / NUFIC / ISOP "]
["NEW JERSEY",0.24696000000000007,0.1,0.30216899999999991,0.30216899999999991,null,"NHIC / GSIC / INIC",null,null,"AIG PCC / AHAC  / AIU / C&I / NUFIC / ISOP "]
["NEW MEXICO",5.7000000000000002E-2,5.7000000000000002E-2,0.192,0.192,null,"GSIC / INIC ","NHIC -15% (varies by class)","AIG AC -25% (varies by class )","AIG PCC / AHAC  / C&I / NUFIC / ISOP ","AIU -20%"]
["NEW YORK",0.41,0,-5.7000000000000002E-2,-5.7000000000000002E-2,null,"NHIC","GSIC -15%  ","INIC -20%  ","AIG PCC / AHAC  / AIU / C&I / NUFIC / ISOP "]
["NORTH CAROLINA",-1.5000000000000013E-2,0,0.22300000000000009,0.22300000000000009,null,"GSIC / AIG AC ","NHIC -15%",null,"AIG PCC / AHAC  / AIU / C&I / NUFIC / ISOP "]
["NORTH DAKOTA ",-0.25,0,0.33,0.33,"INIC +15%","GSIC","NHIC -15%","AIG AC -25%","AIG PCC / AHAC  / AIU / C&I / NUFIC / ISOP "]
["OHIO",0.13300000000000001,0.1,0.38400000000000001,0.38400000000000001,null,"GSIC / INIC","NHIC -15%","AIG AC -25%","AIG PCC / AHAC  / C&I / NUFIC / ISOP ","AIU -15%",null,null,null,null,null,null,null,"Will need to refile the NY state EXCEPTION page"]
["OKLAHOMA",0.252,0.252,0.27600000000000002,0.27600000000000002,null,"NHIC / GSIC / INIC / AIG AC",null,null,"AIG PCC / AHAC  / AIU / C&I / NUFIC / ISOP "]
["OREGON",6.5000000000000002E-2,0.05,0.11700000000000001,0.11700000000000001,"INIC +15%","GSIC","NHIC -15%","AIG AC -25%","AIG PCC / AHAC  / C&I / NUFIC / ISOP ","AIU -35%"]
["PENNSYLVANIA",0.11709999999999998,0.55000000000000004,0.2762,0.2762,"INIC +15%","GSIC","NHIC -10%","AIG AC -15%","AIG PCC / AHAC  / C&I / NUFIC / ISOP ","AIU -10%"]
["RHODE ISLAND ",-4.0000000000000036E-3,0,0.16199999999999992,0.16199999999999992,null,"NHIC / GSIC / AIG AC / INIC",null,null,"AIG PCC / AHAC  / AIU / C&I / NUFIC / ISOP "]
["SOUTH CAROLINA",-2.0000000000000018E-2,0.1,0.18399999999999994,0.18399999999999994,null,"GSIC / INIC","NHIC -15%","AIG AC -25%","AIG PCC / AHAC  / AIU / C&I / NUFIC / ISOP "]
["SOUTH DAKOTA",0.22,0.22,0.13100000000000001,0.13100000000000001,"INIC +15%","GSIC","NHIC -15%","AIG AC -25%","AIG PCC / AHAC  / C&I / NUFIC / ISOP ","AIU -25%"]
["TENNESSEE",5.2999999999999999E-2,5.2999999999999999E-2,0.23200000000000001,0.23200000000000001,"INIC +15%","GSIC","NHIC -15%","AIG AC -25%","AIG PCC / AHAC  / C&I / NUFIC / ISOP ","AIU -20%"]
["TEXAS",0,0.26500000000000001,0.125,0.125,"INIC +13% **","GSIC"," NHIC -13.1%","AIG AC -21.8% ","AIG PCC / AHAC  / AIU / C&I / NUFIC / ISOP "]
["UTAH",-2.5999999999999999E-2,0,0.151,0.151,"INIC +15%","GSIC","NHIC -15%","AIG AC -25%","AIG PCC / AHAC  / AIU / C&I / NUFIC / ISOP "]
["VERMONT",-4.9000000000000002E-2,0,0.20599999999999999,0.20599999999999999,null,"GSIC / INIC","NHIC -15%",null,"AIG PCC / AHAC  / C&I / NUFIC / ISOP ","AIU -15%"]
["VIRGINIA",0.26200000000000001,0.2,0.307,0.307,null,"GSIC","NHIC -15%","AIG AC -25%","AIG PCC / AHAC  / C&I / NUFIC / ISOP ","AIU -15% L, -10% PD"]
["WASHINGTON",5.0208150630085768E-2,0,0.16814926685631093,0.16814926685631093,null,"GSIC / AIG AC / INIC","NHIC -15%",null,"AIG PCC / AHAC  / AIU / C&I / NUFIC / ISOP "]
["WEST VIRGINIA",1.2E-2,0,0.20760000000000001,0.20760000000000001,"INIC +15%","GSIC","NHIC -10%","AIG AC -25%","AIG PCC / AHAC  / AIU / C&I / NUFIC / ISOP "]
["WISCONSIN",-1.4999999999999999E-2,0.1,0.26600000000000001,0.26600000000000001,"INIC +15%","GSIC","NHIC -15%","AIG AC -25%","AIG PCC / AHAC  / AIU / C&I / NUFIC / ISOP "]
["WYOMING",0.16600000000000001,0.16600000000000001,0.16800000000000001,0.16800000000000001,null,"NHIC / GSIC / AIG AC / INIC",null,null,"AIG PCC / AHAC  / C&I / NUFIC / ISOP "]
[]
[" * LC Deviation applies to all companies.",null,null,null,null,null,null,null,null," + AIP, AIU, AUD, LC filings not maintained after 4/2009"]
["** INIC, combined Tier & LC Deviation amount is limited to +30% by regulation."]
[]
["(aa) ISOP in AL: Liab=1.664, Phys=1.674."]

{"sheet":"FIRE","index":8,"n_rows":62,"n_cols":19,"rows_kept":62,"cut":false,"hidden":false,"merged":[[61,11,61,12]]}
["COMMERCIAL FIRE LOSS COST FILING STATUS",null,null,null,null,null,"POOLED COMPANIES",null,null,null,null,null,null,null,null,"As of:",{"$f":"Cutoff_Date","v":"2018-09-14"}]
[]
["CURRENT:",null,null,null,null,null,null,"  PENDING:"]
[null,null,null,null,null,null,null,null,null,null,null,null,"        "]
[null,null,null,"Loss",null,null,null,"Actuarial",null,null,"Pending/","Proposed/",null,"Loss"]
[null,"Effective","Circular #'s","Cost","Expense","Overall","Loss Cost","Support",null,null,"Approved/","Effective","Circular #'s","Cost","Expense","Overall","Loss Cost"]
["State","Date"," (Edition Date)","Change","Change","Change","Multiplier","Prepared",null,null,"Automatic","Date"," (Edition Date)","Change","Change","Change","Multiplier"]
[]
["Alabama","2017-02-01","2016-057 (2/17)",3.9E-2,0,3.9E-2,1.5549999999999999]
["Alaska","2018-06-01","2018-001 (6/18)",1.0999999999999999E-2,0,1.0999999999999999E-2,1.5309999999999999]
["Arizona","2017-12-11","2017-061 (12/17)",-2.1999999999999999E-2,0,-2.1999999999999999E-2,1.488,null,null,null,"Exempt","2018-12-03","N/A",0,0.1,0.1,1.637]
["Arkansas","2015-10-01","2015-052 (10/15)",-1.7000000000000001E-2,0,-1.7000000000000001E-2,1.5129999999999999,null,null,null,"Exempt","2018-12-03","N/A",0,0.19500000000000001,0.19500000000000001,1.8080000000000001]
["California*","2015-02-01","2014-024 (7/14)",-8.5999999999999993E-2,0.12363238512035002,2.7E-2,2.6320000000000001]
["Colorado","2017-07-01","2017-004 (7/17)",0.02,0,0,1.5149999999999999,null,null,null,"Pending","2018-10-01","N/A",0,5.9890935330092265E-2,0.06,1.6060000000000001]
["Connecticut","2017-02-01","2016-036 (2/17)",3.7999999999999999E-2,0,3.7999999999999999E-2,1.476,null,null,null,"Automatic","2019-01-01","2018-058 (1/19)",-3.6999999999999998E-2,0,-3.6999999999999998E-2,1.476]
["Delaware*","2015-09-01","2015-050 (9/15)",-0.04,0,-0.04,1.694]
["DC","2016-12-01","2016-044 (12/16)",-6.0000000000000001E-3,0,-6.0000000000000001E-3,1.508,null,null,null,"Not Yet Filed",null,"2018-077 (11/18)",2.9000000000000001E-2]
["Florida*","2004-04-01","2003-151/200 (4/04)",-0.152,0.253,6.3E-2,1.82,null,null,null,"Not Yet Filed",null,"2015-060 (9/15)",0.106]
["Georgia","2015-09-01","2015-029 (9/15)",-1.2999999999999999E-2,0,-1.2999999999999999E-2,1.5629999999999999,null,null,null,"Not Yet Filed",null,"2018-039 (10/18)",-1.9E-2]
["Hawaii*","2014-09-01","2013-12 HIB Pub 130022",-8.1000000000000003E-2,9.1999999999999998E-2,4.0000000000000001E-3,1.7470000000000001]
["Idaho","2015-09-01","2015-DP-03 (9/15)",3.6999999999999998E-2,0,3.6999999999999998E-2,1.504]
["Illinois*","2012-04-01"," 2011-127 (4/12)",-2.7E-2,0,-2.7E-2,1.504,null,null,null,"Not Yet Filed\nNot Yet Filed\nNot Yet Filed\nApproved","2018-10-08","2014-130 (5/15)\n2016-005 (9/16)\n2017-148 (5/18)\nN/A","-2.3%\n6.2%\n-4.3%\n0.0%",0.100033418736772,0.1,"\n'1.504\n\n1.654"]
["Indiana","2015-04-01","2014-138 (4/15)",2.3E-2,0,2.3E-2,1.5149999999999999]
["Iowa","2017-02-01","2016-065 (2/17)",6.3E-2,0,6.3E-2,1.49]
["Kansas","2017-02-01","2016-067 (2/17)",0.06,0,0.06,1.5649999999999999,null,null,null,"Automatic","2019-01-01","2018-091 (1/19)",8.4000000000000005E-2,0,8.4000000000000005E-2,1.5649999999999999]
["Kentucky","2017-04-01","2016-083 (4/17)",3.4000000000000002E-2,0,3.4000000000000002E-2,1.534]
["Louisiana*","","LIRC"]
["Maine","2017-10-01","2017-050 (10/17)",-5.6000000000000001E-2,0,-5.6000000000000001E-2,1.548,null,null,null,"Automatic","2018-10-01","2018-064 (10/18)",-6.3E-2,0,-6.3E-2,1.548]
["Maryland*","2017-09-01","2017-020 (9/17)",-1.7000000000000001E-2,0,-1.7000000000000001E-2,1.4830000000000001,null,null,null,"Approved","2018-10-08","N/A",0,0.20799999999999999,0.20799999999999999,1.792]
["Massachusetts*","2016-10-01","2015-064 (10/15)\n2014-129 (1/15)",-8.5000000000000006E-2,5.0999999999999997E-2,-3.9E-2,1.5409999999999999,null,null,null,"Not Yet Filed",null,"2016-051 (12/16)",3.7999999999999999E-2]
["Michigan","2017-03-01","2016-063 (3/17)",5.3999999999999999E-2,0,5.3999999999999999E-2,1.4990000000000001,null,null,null,"Automatic","2019-01-01","2018-065 (1/19)",6.0999999999999999E-2,0,6.0999999999999999E-2,1.4990000000000001]
["Minnesota*","2015-05-01","2014-152 (5/15)",3.1E-2,0,3.1E-2,1.5269999999999999,null,null,null,"Not Yet Filed\nNot Yet Filed",null,"2016-001 (7/16)\n2016-080 (4/17)","5.0%\n4.6%"]
["Mississippi","2001-03-01","MSRB Bulletin 2000-01 (3/01)",-0.11600000000000001,2.5999999999999999E-2,-9.2999999999999999E-2,1.52]
["Missouri","2018-08-01","2018-031(8/18)",-1.2E-2,0,-1.2E-2,1.5149999999999999,null,null,null,"\nApproved","\n10/8/2018","\nN/A","\n0.0%",0.183,0.183,1.792]
["Montana","2017-01-01","2016-048 (1/17)",3.2000000000000001E-2,0,3.2000000000000001E-2,1.536,null,null,null,"Automatic","2018-11-01","2018-066 (11/18)",4.8000000000000001E-2,0,4.8000000000000001E-2,1.536]
["Nebraska","2018-02-01","2017-093 (1/18)",5.8000000000000003E-2,0,5.8000000000000003E-2,1.5109999999999999,null,null,null,"Automatic","2018-12-01","2018-094 (12/18)",0.10100000000000001,0,0.10100000000000001,1.5109999999999999]
["Nevada","2017-08-01","2017-024 (8/17)",-0.06,0,-0.06,1.55,null,null,null,"Exempt","2018-10-01","N/A",0,0.188,0.188,1.8420000000000001]
["New Hampshire","2017-02-01","2016-055 (1/17)",2.9000000000000001E-2,0,2.9000000000000001E-2,1.4830000000000001,null,null,null,"Automatic\nPending","11/1/2018\n12/3/18","2018-068 (11/18)\nN/A","-2.7%\n0.0%","0.0%\n19.2%","-2.7%\n19.2%","1.483\n1.768"]
["New Jersey","2016-10-01","2016-032 (10/16)",4.8000000000000001E-2,0,4.8000000000000001E-2,1.52,null,null,null,"Approved","2018-10-29","N/A",0,9.0191817065104596E-2,0.09,1.657]
["New Mexico","2017-11-01","2017-062 (11/17)",-5.8000000000000003E-2,0,-5.8000000000000003E-2,1.4770000000000001,null,null,null,"Automatic\nPending","10/1/2018\n12/3/18","2018-060 (10/18)\nN/A","-5.4%\n0.0%","0.0%\n23.6%","-5.4%\n23.6%","1.477\n1.825"]
["New York*","2014-04-01"," 2013-060 & 068 (9/13)",-0.223,0.217,-5.3999999999999999E-2,1.7609999999999999,null,null,null,"Not Yet Filed Not Yet Filed\nNot Yet Filed",null,"2015-099 (5/16)\n2016-094 (6/17)\n2018-029 (7/18)","-6.7%\n-0.3%\n-8.9%       "]
["North Carolina","2017-10-01","2017-033 (10/17)",3.5999999999999997E-2,0,3.5999999999999997E-2,1.58,null,null,null,"Pending","2018-10-29","N/A",0,0.13200000000000001,0.13200000000000001,1.7889999999999999]
["North Dakota","2018-08-01","2018-037(8/18)",-7.0000000000000001E-3,0,-7.0000000000000001E-3,1.5109999999999999,null,null,null,"Automatic","10/8/2018","N/A",0,0.18099999999999999,0.18099999999999999,1.784]
["Ohio","2017-04-01","2016-092 (4/17)",2.7E-2,0,2.7E-2,1.52]
["Oklahoma","2018-04-01","2017-153 (4/18)",-0.03,0,-0.03,1.5289999999999999,null,null,null,"Approved","2018-10-29","N/A",0,0.17699999999999999,0.17699999999999999,1.8]
["Oregon","2017-03-01","2016-078 (3/17)",3.7999999999999999E-2,0,3.7999999999999999E-2,1.512,null,null,null,"Automatic","2019-01-01","2018-086 (1/19)",7.4999999999999997E-2,0,7.4999999999999997E-2,1.512]
["Pennsylvania","2018-01-01","2017-092 (1/18)",4.9000000000000002E-2,0,4.9000000000000002E-2,1.4830000000000001]
["Rhode Island","2017-09-01","2017-052 (9/17)",3.3000000000000002E-2,0,3.3000000000000002E-2,1.46,null,null,null,"Approved","2018-10-29","N/A",0,0.22700000000000001,0.22700000000000001,1.792]
["South Carolina","2017-10-01","2017-056 (10/17)",-3.0000000000000001E-3,0,-3.0000000000000001E-3,1.542,null,null,null,"Approved","2018-10-08","N/A",0,0.14699999999999999,0.14699999999999999,1.768]
["South Dakota","2017-08-01","2017-026 (8/17)",6.5000000000000002E-2,0,6.5000000000000002E-2,1.5269999999999999,null,null,null,"Approved","2018-10-01","N/A",0,0.184,0.184,1.8080000000000001]
["Tennessee","2016-01-01","2015-077 (1/16)",7.2999999999999995E-2,0,7.2999999999999995E-2,1.5269999999999999,null,null,null,"Automatic","2019-01-01","2018-087 (1/19)",8.8999999999999996E-2,0,8.8999999999999996E-2,1.5269999999999999]
["Texas*","2012-02-06","2011-108 (12/11)",-9.7000000000000003E-2,2.5000000000000001E-2,-7.3999999999999996E-2,1.6160000000000001,null,null,null,"Not Yet Filed\nNot Yet Filed Not Yet Filed",null,"2014-131 (7/17)\n2017-156 (4/18)\n2018-002 (5/18)","8.7%\n0.0%\n12.0%",null,null,null,null,"JF: miscellaneous loss costs approved with effective date of 2/1/2015. No LCM changes. No rate impact."]
["Utah","2017-04-01","2016-091 (4/17)",3.4000000000000002E-2,0,3.4000000000000002E-2,1.522]
["Vermont","2017-01-01","2016-043 (1/17)",4.3999999999999997E-2,0,4.3999999999999997E-2,1.5149999999999999,null,null,null,"Automatic\nPending","11/1/2018\n12/3/18","2018-069 (11/18)\nN/A","-6.3%\n0.0%","0.0%\n18.3%","-6.3%\n18.3%","1.515\n1.792"]
["Virginia","2015-12-01","2015-076 (12/15)",-1.2999999999999999E-2,0,-1.2999999999999999E-2,1.522,null,null,null,"Automatic","2018-11-01","2018-079(11/18)",-2.3E-2,0,-2.3E-2,1.522]
["Washington+","2009-03-01","2008-22 (3/09)",-0.19600000000000001,0,-0.19600000000000001,1.7090000000000001]
["West Virginia","2018-02-01","2017-096 (2/18)",5.0999999999999997E-2,0,5.0999999999999997E-2,1.53]
["Wisconsin","2018-05-01","2017-150 (5/18)",1.7000000000000001E-2,0,1.7000000000000001E-2,1.4830000000000001]
["Wyoming","2017-04-01","2016-090 (4/17)",4.4999999999999998E-2,0,4.4999999999999998E-2,1.4570000000000001]
[]
[]
[" * LCM cannot be placed on file for future revisions.",null,null,"          +  NHG - Current LCM = ",null,null,1.718,null,null,null,null," + AIU LC filings not maintained after 4/2009"]

{"sheet":"FIRE-DEVS","index":9,"n_rows":59,"n_cols":14,"rows_kept":59,"cut":false,"hidden":false,"merged":[[1,0,1,7],[3,2,3,5],[3,6,3,7],[58,6,58,7]]}
[null,null,null,null,null,null,"As of:",{"$f":"TODAY()","v":"2018-10-02"}]
["*  *  *  *  *  *  *  *  *  *  *   COMMERCIAL FIRE LOSS COST MODIFICATIONS   *  *  *  *  *  *  *  *  *  *  *"]
[]
[null,"Loss Cost","NEW HAMPSHIRE COMPANIES",null,null,null,"NEW YORK COMPANIES +"]
["State","Deviation *","Sub-Standard","Standard","Preferred","Super-Preferred","Standard","Preferred"]
[]
["ALABAMA",null,null,"GSIC / INIC","NHIC -15%",null,"AIG PCC / AHAC / NUFIC  / C&I / ISOP"]
["ALASKA",null,"INIC +15%","GSIC","NHIC -10%","AIG AC -15%","AIG PCC / AHAC / NUFIC  / C&I / ISOP"]
["ARIZONA",null,"INIC +15%","GSIC","NHIC -15%","AIG AC -25%","AIG PCC / AHAC / NUFIC  / C&I / ISOP"]
["ARKANSAS",null,null,"GSIC","NHIC -15%","AIG AC -25%","AIG PCC / AHAC / NUFIC  / C&I / ISOP"]
["CALIFORNIA",0.8,null,"NHIC / GSIC"]
["COLORADO  ",null,null,"GSIC / INIC","NHIC -15%","AIG AC -25%","AIG PCC / AHAC / NUFIC  / C&I / ISOP"]
["CONNECTICUT",null,null,"GSIC / INIC","NHIC -15%","AIG AC -25%","AIG PCC / AHAC / NUFIC  / C&I / ISOP"]
["DELAWARE",null,"INIC +15%","GSIC","NHIC -15%","AIG AC -25%","AIG PCC / AHAC / NUFIC  / C&I / ISOP"]
["DIST. OF COLUMBIA",null,null,"GSIC / INIC","NHIC -15%","AIG AC -25%","AIG PCC / AHAC / NUFIC  / C&I / ISOP"]
["FLORIDA",0.25,"INIC +15%","GSIC","NHIC -10%","AIG AC -25%","AIG PCC / AHAC / NUFIC  / C&I / ISOP"]
["GEORGIA",null,"INIC +15%","GSIC","NHIC -15%","AIG AC -25%","AIG PCC / AHAC / NUFIC  / C&I / ISOP"]
["HAWAII ",null,null,"GSIC / INIC / AIG AC","NHIC -15%",null,"AHAC / NUFIC  / C&I / ISOP",null," 9/1/14","HIB Pub 130022, 130054","GSIC / INIC","NHIC -15%","AIG AC -25%",1.474]
["IDAHO",null,null,"GSIC / INIC","NHIC -15%","AIG AC -25%","AIG PCC / AHAC / NUFIC  / C&I / ISOP"]
["ILLINOIS",null,null,"GSIC / INIC","NHIC -15%","AIG AC -25%","AIG PCC / AHAC / NUFIC  / C&I / ISOP"]
["INDIANA",null,"INIC +15%","GSIC","NHIC -15%","AIG AC -25%","AIG PCC / AHAC / NUFIC  / C&I / ISOP"]
["IOWA",null,null,"GSIC / INIC","NHIC -15%","AIG AC -25%","AIG PCC / AHAC / NUFIC  / C&I / ISOP"]
["KANSAS",null,null,"GSIC / INIC","NHIC -15%","AIG AC -25%","AIG PCC / AHAC / NUFIC  / C&I / ISOP"]
["KENTUCKY",null,"INIC +15%","GSIC","NHIC -15%","AIG AC -25%","AIG PCC / AHAC / NUFIC  / C&I / ISOP"]
["LOUISIANA ",null,"GSIC / INIC /AIG AC ","GSIC","NHIC -15%","INIC -15%","AIG PCC / AHAC / NUFIC  / C&I / ISOP"]
["MAINE  ",null,null,"GSIC / INIC","NHIC -15%",null,"AIG PCC / AHAC / NUFIC  / C&I / ISOP"]
["MARYLAND",null,"INIC +15%","GSIC","NHIC -15%","AIG AC -25%","AIG PCC / AHAC / NUFIC  / C&I / ISOP"]
["MASSACHUSETTS",-0.16500000000000004,null,"GSIC / INIC","NHIC -15%",null,"AIG PCC / AHAC / NUFIC  / C&I / ISOP"]
["MICHIGAN",null,null,"GSIC / INIC","NHIC -15%","AIG AC -25%","AIG PCC / AHAC / NUFIC  / C&I / ISOP"]
["MINNESOTA",null,"INIC +15%","GSIC","NHIC -15%",null,"AIG PCC / AHAC / NUFIC  / C&I / ISOP"]
["MISSISSIPPI",null,null,"GSIC","NHIC -15%","AIG AC -25%","AIG PCC / AHAC / NUFIC  / C&I / ISOP"]
["MISSOURI",null,"INIC +15%","GSIC","NHIC -15%","AIG AC -25%","AIG PCC / AHAC / NUFIC  / C&I / ISOP"]
["MONTANA",null,null,"GSIC / INIC","NHIC -15%","AIG AC -25%","AIG PCC / AHAC / NUFIC  / C&I / ISOP"]
["NEBRASKA",null,null,"NHIC / GSIC / INIC / AIG AC",null,null,"AIG PCC / AHAC / NUFIC  / C&I / ISOP"]
["NEVADA",null,null,"GSIC / INIC","NHIC -15%","AIG AC -25%","AIG PCC / AHAC / NUFIC  / C&I / ISOP"]
["NEW HAMPSHIRE",null,"INIC +15%","GSIC","NHIC -15%","AIG AC -25%","AIG PCC / AHAC / NUFIC  / C&I / ISOP"]
["NEW JERSEY",null,null,"GSIC / INIC","NHIC -15%",null,"AIG PCC / AHAC / NUFIC  / C&I / ISOP"]
["NEW MEXICO",null,null,"GSIC / INIC","NHIC -15%","AIG AC -25%","AIG PCC / AHAC / NUFIC  / C&I / ISOP"]
["NEW YORK",null,null,"NHIC / GSIC / INIC",null,null,"AIG PCC / AHAC / NUFIC  / C&I / ISOP"]
["NORTH CAROLINA",null,null,"GSIC","NHIC -15%","AIG AC -25%","AIG PCC / AHAC / NUFIC  / C&I / ISOP"]
["NORTH DAKOTA ",null,"INIC +15%","GSIC","NHIC -15%","AIG AC -25%","AIG PCC / AHAC / NUFIC  / C&I / ISOP"]
["OHIO",null,null,"GSIC / INIC","NHIC -15%","AIG AC -25%","AIG PCC / AHAC / NUFIC  / C&I / ISOP"]
["OKLAHOMA",null,null,"NHIC / GSIC / INIC / AIG AC",null,null,"AIG PCC / AHAC / NUFIC  / C&I / ISOP"]
["OREGON",null,"INIC +15%","GSIC","NHIC -15%","AIG AC -25%","AIG PCC / AHAC / NUFIC  / C&I / ISOP"]
["PENNSYLVANIA",null,"INIC +15%","GSIC","NHIC -15%","AIG AC -25%","AIG PCC / AHAC / NUFIC  / C&I / ISOP"]
["RHODE ISLAND ",null,null,"GSIC / INIC","NHIC -15%","AIG AC -25%","AIG PCC / AHAC / NUFIC  / C&I / ISOP"]
["SOUTH CAROLINA",null,null,"GSIC / INIC","NHIC -15%","AIG AC -25%","AIG PCC / AHAC / NUFIC  / C&I / ISOP"]
["SOUTH DAKOTA",null,"INIC +15%","GSIC","NHIC -15%","AIG AC -25%","AIG PCC / AHAC / NUFIC  / C&I / ISOP"]
["TENNESSEE",null,null,"GSIC / INIC ","NHIC -15%","AIG AC -25%","AIG PCC / AHAC / NUFIC  / C&I / ISOP"]
["TEXAS  ",null,"INIC +15%","GSIC","NHIC -15%","AIG AC -25%","AIG PCC / AHAC / NUFIC  / C&I / ISOP"]
["UTAH",null,"INIC +15%","GSIC","NHIC -15%","AIG AC -25%","AIG PCC / AHAC / NUFIC  / C&I / ISOP"]
["VERMONT",null,null,"GSIC / INIC","NHIC -15%",null,"AIG PCC / AHAC / NUFIC  / C&I / ISOP"]
["VIRGINIA",null,null,"GSIC","NHIC -15%","AIG AC -25%","AIG PCC / AHAC / NUFIC  / C&I / ISOP"]
["WASHINGTON",null,null,"GSIC / INIC","NHIC -15%",null,"AIG PCC / AHAC / NUFIC  / C&I / ISOP"]
["WEST VIRGINIA",null,"INIC +15%","GSIC","NHIC -15%","AIG AC -25%","AIG PCC / AHAC / NUFIC  / C&I / ISOP"]
["WISCONSIN",null,"INIC +15%","GSIC","NHIC -15%","AIG AC -25%","AIG PCC / AHAC / NUFIC  / C&I / ISOP"]
["WYOMING",null,null,"NHIC / GSIC / AIG AC / INIC",null,null,"AIG PCC / AHAC / NUFIC  / C&I / ISOP"]
[]
[" * applies to all companies.",null,null,null,null,null," + AIP, AIU LC filings not maintained after 4/2009"]

{"sheet":"CRIME","index":10,"n_rows":63,"n_cols":17,"rows_kept":63,"cut":false,"hidden":false,"merged":[]}
["COMMERCIAL CRIME (ISO Crime & Fidelity) LOSS COST FILING STATUS",null,null,null,null,null,"POOLED COMPANIES   ",null,null,null,null,null,null,null,null,"As of:",{"$f":"TODAY()","v":"2018-10-02"}]
[]
["CURRENT:",null,null,null,null,null,null," PENDING:"]
[]
[null,null,null,"Loss",null,null,null,"Actuarial ",null,null,"Pending/","Proposed/",null,"Loss"]
[null,"Effective","Circular #'s","Cost","Expense","Overall","Loss Cost","Support",null,null,"Approved/","Effective","Circular #'s","Cost","Expense","Overall","Loss Cost"]
["  State","Date"," (Edition Date)","Change","Change","Change","Multiplier","Prepared",null,null,"Automatic","Date"," (Edition Date)","Change","Change","Change","Multiplier"]
[]
["  ALABAMA","2014-06-01","2014-003 (6/14)",-0.11,0,-0.11,1.5109999999999999,null,null,null,"Will Not Be Adopted","2016-06-01","2015-037 (6/16)",-0.121,0,-0.121,1.5109999999999999]
["  ALASKA  ","2014-06-01","2014-003 (6/14)",-0.11,0,-0.11,1.5109999999999999,null,null,null,"Will Not Be Adopted","2016-06-01","2015-037 (6/16)",-0.121,0,-0.121,1.502]
["  ARIZONA  +","2014-06-01","2014-003 (6/14)",-0.11,0,-0.11,1.5109999999999999,null,null,null,"Will Not Be Adopted","2016-06-01","2015-037 (6/16)",-0.121,0,-0.121,1.486]
["  ARKANSAS","2014-06-01","2014-003 (6/14)",-0.11,0,-0.11,1.5109999999999999,null,null,null,"Will Not Be Adopted","2016-06-01","2015-037 (6/16)",-0.121,0,-0.121,1.4970000000000001]
["  CALIFORNIA  *","2014-08-25","2007-122/199 (6/08)",-0.108,5.0000000000000001E-3,-0.10299999999999999,1.4710000000000001,null,null,null,"Not Yet Filed",null,"2014-006 (6/14)",-0.11]
["  COLORADO   ++","2014-06-01","2014-003 (6/14)",-0.11,0,-0.11,1.5109999999999999,null,null,null,"Will Not Be Adopted","2016-06-01","2015-037 (6/16)",-0.121,0,-0.121,1.486]
["  CONNECTICUT","2014-06-01","2014-003 (6/14)",-0.11,0,-0.11,1.5109999999999999,null,null,null,"Will Not Be Adopted","2016-06-01","2015-037 (6/16)",-0.121,0,-0.121,1.4810000000000001]
["  DELAWARE  * ","2013-01-15","2011-045 (6/12)",0.122,0,0.122,1.4810000000000001,null,null,null,"Not Yet Filed\nNot Yet Filed",null,"2015-037 (6/16)\n2014-003 (6/14)","-12.1%\n-11.0%"]
["  DIST.OF COL.","2014-06-01","2014-003 (6/14)",-0.11,0,-0.11,1.5109999999999999,null,null,null,"Will Not Be Adopted","2016-06-01","2015-037 (6/16)",-0.121,0,-0.121,1.48]
["  FLORIDA  *","2015-03-01","2014-003 (1/14)",-0.43099999999999999,0.20261888352860091,-0.316,1.7450000000000001,null,null,null,"Not Yet Filed\nNot Yet Filed",null,"2015-037 (6/16)\n2014-003 (6/14)","-12.1%\n-11.0%"]
["  GEORGIA","2014-06-01","2014-003 (6/14)",-0.11,0,-0.11,1.5109999999999999,null,null,null,"Will Not Be Adopted","2016-06-01","2015-037 (6/16)",-0.121,0,-0.121,1.502]
["  HAWAII   * ","2012-06-01","HIB Pub. 120008",-0.13600000000000001,0,-0.13600000000000001,1.4770000000000001,null,null,null,"Pending",null,"Pub 140028 ",-0.11,0,-0.11,1.4770000000000001]
["  IDAHO","2014-06-01","2014-003 (6/14)",-0.11,0,-0.11,1.5109999999999999,null,null,null,"Will Not Be Adopted","2016-06-01","2015-037 (6/16)",-0.121,0,-0.121,1.504]
["  ILLINOIS *","2012-12-01","2011-045 ( 6/12)",0.125,0,0.125,1.4530000000000001,null,null,null,"Not Yet Filed\nNot Yet Filed",null,"2015-037 (6/16)\n2014-003 (6/14)","-12.1%\n-11.0%"]
["  INDIANA","2014-06-01","2014-003 (6/14)",-0.11,0,-0.11,1.5109999999999999,null,null,null,"Will Not Be Adopted","2016-06-01","2015-037 (6/16)",-0.121,0,-0.121,1.486]
["  IOWA","2014-06-01","2014-003 (6/14)",-0.11,0,-0.11,1.5109999999999999,null,null,null,"Will Not Be Adopted","2016-06-01","2015-037 (6/16)",-0.121,0,-0.121,1.486]
["  KANSAS ","2014-06-01","2014-003 (6/14)",-0.11,0,-0.11,1.5109999999999999,null,null,null,"Will Not Be Adopted","2016-06-01","2015-037 (6/16)",-0.121,0,-0.121,1.486]
["  KENTUCKY  ","2014-06-01","2014-003 (6/14)",-0.11,0,-0.11,1.5109999999999999,null,null,null,"Will Not Be Adopted","2016-06-01","2015-037 (6/16)",-0.121,0,-0.121,1.504]
["  LOUISIANA   *","2016-04-01","2014-003 (6/14)","-28.4%","0.3%","-28.3%",1.5720000000000001,null,null,null,"Not Yet Filed",null,"2015-037 (6/16)","-12.1%"]
["  MAINE  ","2014-06-01","2014-003 (6/14)",-0.11,0,-0.11,1.486,null,null,null,"Will Not Be Adopted","2016-06-01","2015-037 (6/16)",-0.121,0,-0.121,1.486]
["  MARYLAND","2016-02-01","2015-027 (2/16)",-0.11,0,-0.11,1.486,null,null,null,"Will Not Be Adopted","2016-06-01","2016-002 (6/16)",-0.121,0,-0.121,1.486]
["  MASSACHUSETTS * ","2013-01-01","2012-014 (6/12)",0.125,0,0.125,1.4930000000000001,null,null,null,"Not Yet Filed\nNot Yet Filed",null,"2016-002 (6/16)\n2014-010 (6/14)","-12.1%\n-11.0%"]
["  MICHIGAN  ","2014-06-01","2014-003 (6/14)",-0.11,0,-0.11,1.4710000000000001,null,null,null,"Will Not Be Adopted","2016-06-01","2015-037 (6/16)",-0.121,0,-0.121,1.4710000000000001]
["  MINNESOTA  ","2014-06-01","2014-003 (6/14)",-0.11,0,-0.11,1.486,null,null,null,"Will Not Be Adopted","2016-06-01","2015-037 (6/16)",-0.121,0,-0.121,1.486]
["  MISSISSIPPI","2014-06-01","2014-003 (6/14)",-0.11,0,-0.11,1.508,null,null,null,"Will Not Be Adopted","2016-06-01","2016-002 (6/16)",-0.121,0,-0.121,1.508]
["  MISSOURI","2014-06-01","2014-003 (6/14)",-0.11,0,-0.11,1.486,null,null,null,"Will Not Be Adopted","2016-06-01","2015-037 (6/16)",-0.121,0,-0.121,1.486]
["  MONTANA","2014-06-01","2014-003 (6/14)",-0.11,0,-0.11,1.504,null,null,null,"Will Not Be Adopted","2016-06-01","2015-037 (6/16)",-0.121,0,-0.121,1.504]
["  NEBRASKA  ","2014-06-01","2014-003 (6/14)",-0.11,0,-0.11,1.464,null,null,null,"Will Not Be Adopted","2016-06-01","2015-037 (6/16)",-0.121,0,-0.121,1.464]
["  NEVADA  **","2014-06-01","2014-003 (6/14)",-0.11,0,-0.11,1.524,null,null,null,"Will Not Be Adopted","2016-06-01","2015-037 (6/16)",-0.121,0,-0.121,1.524]
["  NEW HAMPSHIRE","2014-06-01","2014-003 (6/14)",-0.11,0,-0.11,1.486,null,null,null,"Will Not Be Adopted","2016-06-01","2015-037 (6/16)",-0.121,0,-0.121,1.486]
["  NEW JERSEY","2014-06-01","2014-003 (6/14)",-0.11,0,-0.11,1.49,null,null,null,"Will Not Be Adopted","2016-06-01","2015-037 (6/16)",-0.121,0,-0.121,1.49]
["  NEW MEXICO ","2014-06-01","2014-003 (6/14)",-0.11,0,-0.11,1.508,null,null,null,"Will Not Be Adopted","2016-06-01","2015-037 (6/16)",-0.121,0,-0.121,1.508]
["  NEW YORK  * ","2009-05-01","2007-125/2008-019 (8/08)",-0.30299999999999999,-1.7000000000000001E-2,-0.315,1.468,null,null,null,"Not Yet Filed\nNot Yet Filed",null,"2015-037 (6/16)\n2014-003 (6/14)","-12.1%\n-11.0%"]
["  NORTH CAROLINA ","2014-06-01","2014-003 (6/14)",-0.11,0,-0.11,1.484,null,null,null,"Will Not Be Adopted","2016-06-01","2016-002 (6/16)",-0.121,0,-0.121,1.484]
["  NORTH DAKOTA ","2014-06-01","2014-003 (6/14)",-0.11,0,-0.11,1.4810000000000001,null,null,null,"Will Not Be Adopted","2016-06-01","2015-037 (6/16)",-0.121,0,-0.121,1.4810000000000001]
["  OHIO","2014-06-01","2014-003 (6/14)",-0.11,0,-0.11,1.4810000000000001,null,null,null,"Will Not Be Adopted","2016-06-01","2015-037 (6/16)",-0.121,0,-0.121,1.4810000000000001]
["  OKLAHOMA","2014-06-01","2014-003 (6/14)",-0.11,0,-0.11,1.4930000000000001,null,null,null,"Will Not Be Adopted","2016-06-01","2015-037 (6/16)",-0.121,0,-0.121,1.4930000000000001]
["  OREGON ","2014-06-01","2014-003 (6/14)",-0.11,0,-0.11,1.4930000000000001,null,null,null,"Will Not Be Adopted","2016-06-01","2015-037 (6/16)",-0.121,0,-0.121,1.4930000000000001]
["  PENNSYLVANIA","2014-06-01","2014-003 (6/14)",-0.11,0,-0.11,1.488,null,null,null,"Will Not Be Adopted","2016-06-01","2015-037 (6/16)",-0.121,0,-0.121,1.488]
["  RHODE ISLAND","2014-06-01","2014-003 (6/14)",-0.11,0,-0.11,1.486,null,null,null,"Will Not Be Adopted","2016-06-01","2015-037 (6/16)",-0.121,0,-0.121,1.486]
["  SOUTH CAROLINA","2014-06-01","2014-003 (6/14)",-0.11,0,-0.11,1.49,null,null,null,"Will Not Be Adopted","2016-06-01","2015-037 (6/16)",-0.121,0,-0.121,1.49]
["  SOUTH DAKOTA","2014-06-01","2014-003 (6/14)",-0.11,0,-0.11,1.4970000000000001,null,null,null,"Will Not Be Adopted","2016-06-01","2015-037 (6/16)",-0.121,0,-0.121,1.4970000000000001]
["  TENNESSEE","2014-06-01","2014-003 (6/14)",-0.11,0,-0.11,1.4930000000000001,null,null,null,"Will Not Be Adopted","2016-06-01","2015-037 (6/16)",-0.121,0,-0.121,1.4930000000000001]
["  TEXAS    *","2015-04-01","2014-003 (6/14)",-0.184,0.22600000000000001,0,1.885,null,null,null,"Not Yet Filed",null,"2016-009 (6/16)",-0.121]
["  UTAH","2014-06-01","2014-003 (6/14)",-0.11,0,-0.11,1.4930000000000001,null,null,null,"Will Not Be Adopted","2016-06-01","2015-037 (6/16)",-0.121,0,-0.121,1.4930000000000001]
["  VERMONT","2014-06-01","2014-003 (6/14)",-0.11,0,-0.11,1.486,null,null,null,"Will Not Be Adopted","2016-06-01","2015-037 (6/16)",-0.121,0,-0.121,1.486]
["  VIRGINIA  ","2014-06-01","2014-003 (6/14)",-0.11,0,-0.11,1.4950000000000001,null,null,null,"Will Not Be Adopted","2016-06-01","2015-037 (6/16)",-0.121,0,-0.121,1.4950000000000001]
["  WASHINGTON    +++","2014-06-01","2014-003 (6/14)",-0.11,0,-0.11,1.464,null,null,null,"Will Not Be Adopted","2016-06-01","2015-037 (6/16)",-0.121,0,-0.121,1.464]
["  WEST VIRGINIA","2014-06-01","2014-003 (6/14)",-0.11,0,-0.11,1.508,null,null,null,"Will Not Be Adopted","2016-06-01","2015-037 (6/16)",-0.121,0,-0.121,1.508]
["  WISCONSIN","2014-06-01","2014-003 (6/14)",-0.11,0,-0.11,1.486,null,null,null,"Will Not Be Adopted","2016-06-01","2015-037 (6/16)",-0.121,0,-0.121,1.486]
["  WYOMING  ","2014-06-01","2014-003 (6/14)",-0.11,0,-0.11,1.46,null,null,null,"Will Not Be Adopted","2016-06-01","2015-037 (6/16)",-0.121,0,-0.121,1.46]
[]
[]
[" * LCM cannot be placed on file for future revisions.",null,null,"+ NHG, AIU & LIC - Current LCM = 1.486.",null,null,null,"++ NHG, AIU & LIC - Current LCM = 1.486.",null,null,null,null,null," ** AHAC, BF, C&I, NUFIC & ISOP = 1.520"]
[null,null,null,null,null,null,null,"+++ NHG, AIU & LIC - Current LCM = 1.513, eff. 9/10/02."]

{"sheet":"CR-DEVS","index":11,"n_rows":59,"n_cols":13,"rows_kept":59,"cut":false,"hidden":false,"merged":[[1,0,1,6],[3,1,3,4]]}
[null,null,null,null,null,"As of:",{"$f":"TODAY()","v":"2018-10-02"}]
["*  *  *  *  *  *  *  *  *  *  *   COMMERCIAL CRIME LOSS COST MODIFICATIONS   *  *  *  *  *  *  *  *  *  *  *"]
[]
[null,"NEW HAMPSHIRE COMPANIES",null,null,null,"NEW YORK COMPANIES +","Companies Eligible for Filing"]
["State","Sub-Standard","Standard","Preferred","Super-Preferred","Standard","to Adopt the Fidelity Portion"]
[]
["ALABAMA",null,"GSIC","NHIC -15%",null,"AIG PCC / AHAC / C&I / NUFIC / ISOP ","NHIC/GSIC/AHAC/NUFIC/ISOP/C&I/AIG AC"]
["ALASKA","INIC +15%","GSIC","NHIC -15%","AIG AC -25%","AIG PCC / AHAC / C&I / NUFIC / ISOP ","NHIC/GSIC/INIC/AIG PCC/AHAC/NUFIC/ISOP/C&I/AIG AC"]
["ARIZONA","INIC +15%","GSIC","NHIC -15%","AIG AC -25%","AIG PCC / AHAC / C&I / NUFIC / ISOP ","NHIC/GSIC/AHAC/NUFIC/ISOP/C&I/AIG PCC/LIC"]
["ARKANSAS",null,"GSIC","NHIC -15%","AIG AC -25%","AIG PCC / AHAC / C&I / NUFIC / ISOP ","NHIC/GSIC/AHAC/NUFIC/ISOP/C&I"]
["CALIFORNIA",null,"NHIC / GSIC",null,null,"AIG PCC / AHAC / C&I / NUFIC / ISOP ","NHIC/GSIC/AHAC/NUFIC/ISOP/C&I/BF/LIC"]
["COLORADO  ",null,"GSIC / INIC","NHIC -15%","AIG AC -25%","AIG PCC / AHAC / C&I / NUFIC / ISOP ","NHIC/GSIC/AIP/AIG AC/AHAC/NUFIC/ISOP/C&I/AIG PCC"]
["CONNECTICUT","8/25/14","GSIC / INIC","NHIC -15%","AIG AC -25%","AIG PCC / AHAC / C&I / NUFIC / ISOP ","NHIC/GSIC/AHAC/NUFIC/ISOP/C&I/AIG AC"]
["DELAWARE","INIC +15%","GSIC","NHIC -15%","AIG AC -25%","AIG PCC / AHAC / C&I / NUFIC / ISOP ","NHIC/AHAC/NUFIC/ISOP/C&I/AIG AC"]
["DIST. OF COLUMBIA",null,"GSIC / INIC / AIG AC","NHIC -15%",null,"AIG PCC / AHAC / C&I / NUFIC / ISOP ","NHIC/GSIC/AIG PCC/AHAC/NUFIC/ISOP/C&I/AIG AC"]
["FLORIDA","INIC +15%","GSIC","NHIC -15%","AIG AC -25%","AIG PCC / AHAC / C&I / NUFIC / ISOP ","NHIC/GSIC/AHAC/NUFIC/ISOP/C&I/AIG AC"]
["GEORGIA","INIC +15%","GSIC","NHIC -15%","AIG AC -25%","AIG PCC / AHAC / C&I / NUFIC / ISOP ","NHIC/GSIC/AIG PCC/AHAC/NUFIC/ISOP/C&I/AIG AC"]
["HAWAII ",null,"GSIC, INIC","NHIC -15%","AIG AC -25%","AHAC / NUFIC  / C&I / ISOP","NHIC/AHAC/NUFIC/ISOP/C&I/LIC"]
["IDAHACO",null,"GSIC / INIC","NHIC -15%","AIG AC -25%","AIG PCC / AHAC / C&I / NUFIC / ISOP ","NHIC/GSIC/INIC/AHAC/NUFIC/ISOP/C&I/AIG AC"]
["ILLINOIS",null,"GSIC / INIC","NHIC -15%","AIG AC -25%","AIG PCC / AHAC / C&I / NUFIC / ISOP ","NHIC/GSIC/INIC/AHAC/NUFIC/ISOP/C&I/AIG AC"," 9/1/14","HIB Pub 130022, 130054","NHIC -15%","AIG AC -25%",null,1.474]
["INDIANA","INIC +15%","GSIC","NHIC -15%","AIG AC -25%","AIG PCC / AHAC / C&I / NUFIC / ISOP ","NHIC/GSIC/INIC/AHAC/NUFIC/ISOP/C&I/AIG AC"]
["IOWA",null,"GSIC / INIC","NHIC -15%","AIG AC -25%","AIG PCC / AHAC / C&I / NUFIC / ISOP ","NHIC/GSIC/INIC/AHAC/NUFIC/ISOP/C&I/AIG AC"]
["KANSAS",null,"GSIC / INIC","NHIC -15%","AIG AC -25%","AIG PCC / AHAC / C&I / NUFIC / ISOP ","NHIC/GSIC/AHAC/NUFIC/ISOP/C&I/AIG AC/LIC"]
["KENTUCKY","INIC +15%","GSIC","NHIC -15%","AIG AC -25%","AIG PCC / AHAC / C&I / NUFIC / ISOP ","NHIC/GSIC/AIG PCC/INIC/AHAC/NUFIC/ISOP/C&I/AIG AC"]
["LOUISIANA ",null,"GSIC / INIC /AIG AC ","NHIC -15%",null,"AIG PCC / AHAC / C&I / NUFIC / ISOP ","NHIC/GSIC/AHAC/NUFIC/ISOP/C&I/AIG AC",null,"3.3% modification factor"]
["MAINE  ",null,"GSIC / INIC","NHIC -15%",null,"AIG PCC / AHAC / C&I / NUFIC / ISOP ","NHIC/GSIC/INIC/AHAC/NUFIC/ISOP"]
["MARYLAND","INIC +15%","GSIC","NHIC -15%","AIG AC -25%","AIG PCC / AHAC / C&I / NUFIC / ISOP ","NHIC/GSIC/AIG PCC/INIC/AHAC/NUFIC/ISOP/C&I/AIG AC"]
["MASSACHUSETTS",null,"GSIC / INIC","NHIC -15%",null,"AIG PCC / AHAC / C&I / NUFIC / ISOP ","NHIC/GSIC/AHAC/NUFIC/ISOP/C&I/LIC"]
["MICHIGAN",null,"GSIC / INIC","NHIC -15%","AIG AC -25%","AIG PCC / AHAC / C&I / NUFIC / ISOP ","NHIC/GSIC/INIC/AHAC/NUFIC/ISOP/C&I/AIG AC"]
["MINNESOTA","INIC +15%","GSIC","NHIC -15%",null,"AIG PCC / AHAC / C&I / NUFIC / ISOP ","NHIC/GSIC/AHAC/NUFIC/ISOP/C&I/AIG AC"]
["MISSISSIPPI",null,"GSIC","NHIC -15%","AIG AC -25%","AIG PCC / AHAC / C&I / NUFIC / ISOP ","NHIC/GSIC/AIG PCC/AHAC/NUFIC/ISOP/C&I/AIG AC"]
["MISSOURI","INIC +15%","GSIC","NHIC -15%","AIG AC -25%","AIG PCC / AHAC / C&I / NUFIC / ISOP ","NHIC/GSIC/INIC/AHAC/NUFIC/ISOP/C&I/AIG AC"]
["MONTANA",null,"GSIC / INIC","NHIC -15%","AIG AC -25%","AIG PCC / AHAC / C&I / NUFIC / ISOP ","NHIC/GSIC/INIC/AIG PCC/AHAC/NUFIC/ISOP/C&I/AIG AC"]
["NEBRASKA",null,"NHIC / GSIC / AIG AC / INIC",null,null,"AIG PCC / AHAC / C&I / NUFIC / ISOP ","NHIC/GSIC/INIC/AHAC/NUFIC/ISOP/C&I/AIG AC"]
["NEVADA",null,"GSIC / INIC ","NHIC -15%","AIG AC -25%","AIG PCC / AHAC / C&I / NUFIC / ISOP ","NHIC/GSIC/INIC/AHAC/NUFIC/ISOP/C&I/AIG AC/LIC"]
["NEW HAMPSHIRE","INIC +15%","GSIC","NHIC -15%","AIG AC -25%","AIG PCC / AHAC / C&I / NUFIC / ISOP ","NHIC/GSIC/INIC/AIG AC/AHAC/NUFIC/ISOP/C&I/AIG AC"]
["NEW JERSEY",null,"GSIC / INIC","NHIC -15%",null," AIU / AHAC / NUFIC  / C&I / ISOP","NHIC/GSIC/INIC/AHAC/NUFIC/ISOP/C&I"]
["NEW MEXICO",null,null,"NHIC -15%","AIG AC, INIC -25%","AIG PCC / AHAC / C&I / NUFIC / ISOP ","NHIC/GSIC/INIC/AIG PCC/AHAC/NUFIC/ISOP/C&I/AIG AC"]
["NEW YORK",null,"NHIC / GSIC / INIC",null,null,"AIG PCC / AHAC / C&I / NUFIC / ISOP ","NHIC/GSIC/INIC/AHAC/NUFIC/ISOP/C&I/AIG AC/LIC"]
["NORTH CAROLINA",null,"GSIC","NHIC -15%","AIG AC -25%","AIG PCC / AHAC / C&I / NUFIC / ISOP ","NHIC/GSIC/AIG PCC/AHAC/NUFIC/ISOP/C&I/AIG AC"]
["NORTH DAKOTA ","INIC +15%","GSIC","NHIC -15%","AIG AC -25%","AIG PCC / AHAC / C&I / NUFIC / ISOP ","NHIC/GSIC/INIC/AIG PCC/AHAC/NUFIC/ISOP/C&I/AIG AC"]
["OHIO",null,"GSIC / INIC","NHIC -15%","AIG AC -25%","AIG PCC / AHAC / C&I / NUFIC / ISOP ","NHIC/GSIC/INIC/AHAC/NUFIC/ISOP/C&I/AIG AC"]
["OKLAHACOMA",null,"NHIC / GSIC / INIC / AIG AC",null,null,"AIG PCC / AHAC / C&I / NUFIC / ISOP ","GSIC/AIG PCC/AHAC/NUFIC/ISOP/C&I/AIG AC"]
["OREGON","INIC +15%","GSIC","NHIC -15%","AIG AC -25%","AIG PCC / AHAC / C&I / NUFIC / ISOP ","NHIC/GSIC/AHAC/NUFIC/ISOP/C&I/AIG AC/LIC"]
["PENNSYLVANIA","INIC +15%","GSIC","NHIC -15%","AIG AC -25%","AIG PCC / AHAC / C&I / NUFIC / ISOP ","NHIC/GSIC/AIG PCC/AHAC/NUFIC/ISOP/C&I/AIG AC"]
["RHODE ISLAND ",null,"GSIC / INIC","NHIC -15%","AIG AC -25%","AIG PCC / AHAC / C&I / NUFIC / ISOP ","NHIC/GSIC/INIC/AIG PCC/AHAC/NUFIC/ISOP/C&I/AIG AC"]
["SOUTH CAROLINA",null,"GSIC  / INIC","NHIC -15%","AIG AC -25%","AIG PCC / AHAC / C&I / NUFIC / ISOP ","NHIC/GSIC/AIG PCC/AHAC/NUFIC/ISOP/C&I/AIG AC"]
["SOUTH DAKOTA","INIC +15%","GSIC","NHIC -15%","AIG AC -25%","AIG PCC / AHAC / C&I / NUFIC / ISOP ","NHIC/GSIC/INIC/AHAC/NUFIC/ISOP/C&I/AIG AC"]
["TENNESSEE",null,"GSIC / INIC","NHIC -15%","AIG AC -25%","AIU / AHAC / NUFIC  / C&I / ISOP","NHIC/GSIC/AHAC/NUFIC/ISOP/C&I"]
["TEXAS  ","INIC +15%","GSIC","NHIC -15%","AIG AC -25%","AIG PCC / AHAC / C&I / NUFIC / ISOP ","NHIC/GSIC/INIC/AHAC/NUFIC/ISOP/C&I/AIG AC"]
["UTAH","INIC +15%","GSIC","NHIC -15%","AIG AC -25%","AIG PCC / AHAC / C&I / NUFIC / ISOP ","NHIC/GSIC/INIC/AHAC/NUFIC/ISOP/C&I/AIG AC"]
["VERMONT",null,"GSIC / INIC","NHIC -15%",null,"AIG PCC / AHAC / C&I / NUFIC / ISOP ","NHIC/GSIC/INIC/AHAC/NUFIC/ISOP/C&I/AIG AC"]
["VIRGINIA",null,"GSIC","NHIC -15%","AIG AC -25%","AIG PCC / AHAC / C&I / NUFIC / ISOP ","NHIC/GSIC/AHAC/NUFIC/ISOP/C&I/AIG AC"]
["WASHINGTON",null,"GSIC / AIG AC / INIC","NHIC -15%",null,"AIG PCC / AHAC / C&I / NUFIC / ISOP ","NHIC/GSIC/AHAC/NUFIC/ISOP/C&I/AIG AC/LIC"]
["WEST VIRGINIA","INIC +15%","GSIC","NHIC -15%","AIG AC -25%","AIG PCC / AHAC / C&I / NUFIC / ISOP ","NHIC/GSIC/INIC/AHAC/NUFIC/ISOP/C&I/AIG AC"]
["WISCONSIN","INIC +15%","GSIC","NHIC -15%","AIG AC -25%","AIG PCC / AHAC / C&I / NUFIC / ISOP ","NHIC/GSIC/AHAC/NUFIC/ISOP/C&I/AIG AC"]
["WYOMING",null,"NHIC / GSIC / INIC / AIG AC",null,null,"AIG PCC / AHAC / C&I / NUFIC / ISOP ","NHIC/GSIC/INIC/AHAC/NUFIC/ISOP/C&I/AIG AC"]
[]
[null,null,null,null,null," + AIU LC filings not maintained after 4/2009"]

{"sheet":"INLAND","index":12,"n_rows":62,"n_cols":17,"rows_kept":62,"cut":false,"hidden":false,"merged":[]}
["COMMERCIAL INLAND MARINE LOSS COST FILING STATUS",null,null,null,null,null,"POOLED COMPANIES  ",null,null,null,null,null,null,null,null,"As of:",{"$f":"TODAY()","v":"2018-10-02"}]
[]
["CURRENT:",null,null,null,null,null,null,"  PENDING:"]
[]
[null,null,null,"Loss",null,null,null,"Actuarial ",null,null,null,"Proposed/",null,"Loss"]
[null,"Effective","Circular #'s","Cost","Expense","Overall","Loss Cost","Support",null,null,"Pending/","Effective","Circular #'s","Cost","Expense","Overall","Loss Cost"]
["  STATE","Date"," (Edition Date)","Change","Change","Change","Multiplier","Prepared",null,null,"Approved","Date"," (Edition Date)","Change","Change","Change","Multiplier"]
[]
["  ALABAMA","2016-11-01","2016-008 (11/16)",-0.13,0,-0.13,1.5409999999999999]
["  ALASKA","2016-11-01","2016-007 (11/16)",-0.13300000000000001,0,-0.13300000000000001,1.5429999999999999]
["  ARIZONA","2016-11-01","2016-006 (11/16)",-0.13300000000000001,0,-0.13300000000000001,1.5269999999999999]
["  ARKANSAS","2016-11-01","2016-006 (11/16)",-0.13300000000000001,0,-0.13300000000000001,1.538]
["  CALIFORNIA  *","2014-11-01","2012-025 (9/12)",-0.45219999999999999,0.16950000000000001,-0.35899999999999999,1.8680000000000001,null,null,null,"Not Yet Filed\nNot Yet Filed",null,"2014-013 (10/14)\n2017-001 (6/17)","-20.8%\n-13.3%"]
["  COLORADO","2016-11-01","2016-006 (11/16)",-0.13300000000000001,0,-0.13300000000000001,1.5269999999999999]
["  CONNECTICUT","2016-11-01","2016-006 (11/16)",-0.13300000000000001,0,-0.13300000000000001,1.522]
["  DELAWARE *","2014-08-01","2012-019 (10/12)",-0.11899999999999999,0.26373626373626369,0.11369192326554504,1.8260989010989011,null,null,null,"Not Yet Filed\nNot Yet Filed",null,"2014-009 (10/14)\n2016-007 (11/16)","-20.8%\n-13.3%"]
["  DIST.OF COL.","2016-11-01","2016-007 (11/16)",-0.13300000000000001,0,-0.13300000000000001,1.52]
["  FLORIDA  ","2010-10-01","2010-043 (10/10)",-0.21,0,-0.21,1.3759999999999999,null,null,null,"Not Yet Filed\nNot Yet Filed",null,"2014-008 (10/14)\n2016-008 (11/16)","-19.6%\n-13.0%"]
["  GEORGIA","2016-11-01","2016-008 (11/16)",-0.13,0,-0.13,1.5580000000000001]
["  HAWAII   *  ","2014-11-01","2014-007 (10/14)",-0.30462400000000001,0.1100000000000001,-0.22799999999999998,1.659,null,null,null,"Not Yet Filed\nNot Yet Filed",null,"2014-007 (10/14)\n2016-006 (11/16)","-20.8%\n-13.3%"]
["  IDAHO","2016-11-01","2016-006 (11/16)",-0.13300000000000001,0,-0.13300000000000001,1.546]
["  ILLINOIS *","2012-10-01","2012-019 (8/10)",-0.11899999999999999,9.1999999999999998E-2,-3.7999999999999999E-2,1.635,null,null,null,"Not Yet Filed\nNot Yet Filed",null,"2014-007 (10/14)\n2016-006 (11/16)","-20.8%\n-13.3%"]
["  INDIANA","2016-11-01","2016-006 (11/16)",-0.13300000000000001,0,-0.13300000000000001,1.5269999999999999]
["  IOWA","2016-11-01","2016-006 (11/16)",-0.13300000000000001,0,-0.13300000000000001,1.5269999999999999]
["  KANSAS","2016-11-01","2016-006 (11/16)",-0.13300000000000001,0,-0.13300000000000001,1.5269999999999999]
["  KENTUCKY  ","2016-11-01","2016-007 (11/16)",-0.13300000000000001,0,-0.13300000000000001,1.546]
["  LOUISIANA   *","2014-09-01","2012-020 (10/12)",-0.46400000000000002,0.26400000000000001,-0.32300000000000001,1.8720000000000001,null,null,null,"Not Yet Filed\nNot Yet Filed",null,"2014-008 (10/14)\n2016-008 (11/16)","-19.6%\n-13.0%"]
["  MAINE  ","2016-11-01","2016-006 (11/16)",-0.13300000000000001,0,-0.13300000000000001,1.5269999999999999]
["  MARYLAND","2016-11-01","2016-006 (11/16)",-0.13300000000000001,0,-0.13300000000000001,1.5269999999999999]
["  MASSACHUSETTS  *","2014-05-01","2012-019 (10/12)",-0.17100000000000001,0.188,-1.4999999999999999E-2,1.837,null,null,null,"Not Yet Filed\nNot Yet Filed",null,"2014-012 (10/14)\n2016-007 (11/16)","-20.8%\n-13.3%"]
["  MICHIGAN","2016-11-01","2016-006 (11/16)",-0.13300000000000001,0,-0.13300000000000001,1.5109999999999999]
["  MINNESOTA  *","2014-10-01","2014-007 (10/14)",-0.20799999999999999,0,-0.20799999999999999,1.5289999999999999,null,null,null,"Not Yet Filed",null,"2016-006 (11/16)",-0.13300000000000001]
["  MISSISSIPPI","2016-11-01","2016-008 (11/16)",-0.13,0,-0.13,1.575]
["  MISSOURI","2016-11-01","2016-006 (11/16)",-0.13300000000000001,0,-0.13300000000000001,1.5269999999999999]
["  MONTANA","2016-11-01","2016-006 (11/16)",-0.13300000000000001,0,-0.13300000000000001,1.546]
["  NEBRASKA","2016-11-01","2016-006 (11/16)",-0.13300000000000001,0,-0.13300000000000001,1.506]
["  NEVADA","2016-11-01","2016-006 (11/16)",-0.13300000000000001,0,-0.13300000000000001,1.5629999999999999]
["  NEW HAMPSHIRE","2016-11-01","2016-006 (11/16)",-0.13300000000000001,0,-0.13300000000000001,1.5269999999999999]
["  NEW JERSEY","2016-11-01","2016-006 (11/16)",-0.13300000000000001,0,-0.13300000000000001,1.5309999999999999]
["  NEW MEXICO  ","2016-11-01","2016-006 (11/16)",-0.13300000000000001,0,-0.13300000000000001,1.55]
["  NEW YORK  *","2014-03-01","2012-019 (10/12)",-0.48099999999999998,0.17399999999999999,-0.39100000000000001,1.8049999999999999,null,null,null,"Not Yet Filed\nNot Yet Filed",null,"2014-007 (10/14)\n2016-007 (11/16)","-20.8%\n-13.3%"]
["  NORTH CAROLINA  ","2016-11-01","2016-008 (11/16)",-0.13,0,-0.13,1.5269999999999999]
["  NORTH DAKOTA ","2016-11-01","2016-006 (11/16)",-0.13300000000000001,0,-0.13300000000000001,1.522]
["  OHIO","2016-11-01","2016-006 (11/16)",-0.13300000000000001,0,-0.13300000000000001,1.522]
["  OKLAHOMA","2016-11-01","2016-007 (11/16)",-0.13300000000000001,0,-0.13300000000000001,1.52]
["  OREGON","2016-11-01","2016-006 (11/16)",-0.13300000000000001,0,-0.13300000000000001,1.534]
["  PENNSYLVANIA","2016-11-01","2016-006 (11/16)",-0.13300000000000001,0,-0.13300000000000001,1.5269999999999999]
["  RHODE ISLAND","2016-11-01","2016-006 (11/16)",-0.13300000000000001,0,-0.13300000000000001,1.5269999999999999]
["  SOUTH CAROLINA","2016-11-01","2016-008 (11/16)",-0.13,0,-0.13,1.522]
["  SOUTH DAKOTA","2016-11-01","2016-006 (11/16)",-0.13300000000000001,0,-0.13300000000000001,1.5409999999999999]
["  TENNESSEE","2016-11-01","2016-006 (11/16)",-0.13300000000000001,0,-0.13300000000000001,1.5429999999999999]
["  TEXAS    *","2012-10-01","2012-020 (10/12)",-0.122,0.128,-0.01,1.7989999999999999,null,null,null,"Not Yet Filed\nNot Yet Filed",null,"2014-011 (10/14)\n2016-009 (11/16)","-19.6%\n-13.0%"]
["  UTAH","2016-11-01","2016-006 (11/16)",-0.13300000000000001,0,-0.13300000000000001,1.534]
["  VERMONT","2016-11-01","2016-006 (11/16)",-0.13300000000000001,0,-0.13300000000000001,1.5269999999999999]
["  VIRGINIA","2016-11-01","2016-008 (11/16)",-0.13,0,-0.13,1.5580000000000001]
["  WASHINGTON","2016-11-01","2016-006 (11/16)",-0.13300000000000001,0,-0.13300000000000001,1.7210000000000001]
["  WEST VIRGINIA","2016-11-01","2016-006 (11/16)",-0.13300000000000001,0,-0.13300000000000001,1.55]
["  WISCONSIN","2016-11-01","2016-006 (11/16)",-0.13300000000000001,0,-0.13300000000000001,1.5269999999999999]
["  WYOMING  ","2016-11-01","2016-006 (11/16)",-0.13300000000000001,0,-0.13300000000000001,1.4990000000000001]
[]
[]
[" * LCM cannot be placed on file for future revisions."]

{"sheet":"IM-DEVS","index":13,"n_rows":59,"n_cols":7,"rows_kept":59,"cut":false,"hidden":false,"merged":[[1,0,1,6],[3,1,3,4]]}
[null,null,null,null,null,"As of:",{"$f":"TODAY()","v":"2018-10-02"}]
["*  *  *  *  *  *  *  *  *  *  *   COMMERCIAL INLAND MARINE LOSS COST MODIFICATIONS   *  *  *  *  *  *  *  *  *  *  *"]
[]
[null,"NEW HAMPSHIRE COMPANIES",null,null,null,"NEW YORK COMPANIES +"]
["State","Sub-Standard","Standard","Preferred","Super-Preferred","Standard"]
[]
["ALABAMA",null,"GSIC","NHIC -15%"]
["ALASKA","INIC +15%","GSIC","NHIC -15%","AIG AC -25%","AIG PCC / AHAC / NUFIC  / C&I / ISOP "]
["ARIZONA","INIC +15%","GSIC","NHIC -15%","AIG AC -25%"]
["ARKANSAS",null,"GSIC","NHIC -15%","AIG AC -25%"]
["CALIFORNIA",null,"NHIC / GSIC"]
["COLORADO ",null,"GSIC / INIC","NHIC -15%","AIG AC -25%"]
["CONNECTICUT","8/25/14","GSIC / INIC","NHIC -15%","AIG AC -25%"]
["DELAWARE","INIC +15%","GSIC","NHIC -15%","AIG AC -25%","AIG PCC / AHAC / NUFIC  / C&I / ISOP "]
["DIST. OF COLUMBIA",null,"GSIC / INIC / AIG AC","NHIC -15%"]
["FLORIDA","INIC +15%","GSIC","NHIC -15%","AIG AC -25%"]
["GEORGIA","INIC +15%","GSIC","NHIC -15%","AIG AC -25%"]
["HAWAII ",null,"GSIC/INIC","NHIC -15%","AIG AC -25%","AHAC / NUFIC  / C&I / ISOP"]
["IDAHACO",null,"GSIC / INIC","NHIC -15%","AIG AC -25%"]
["ILLINOIS",null,"GSIC / INIC","NHIC -15%","AIG AC -25%","AIG PCC / AHAC / NUFIC  / C&I / ISOP "]
["INDIANA","INIC +15%","GSIC","NHIC -15%","AIG AC -25%"]
["IOWA",null,"GSIC / INIC","NHIC -15%","AIG AC -25%"]
["KANSAS",null,"GSIC / INIC","NHIC -15%","AIG AC -25%"]
["KENTUCKY","INIC +15%","GSIC","NHIC -15%","AIG AC -25%","AIG PCC / AHAC / NUFIC  / C&I / ISOP "]
["LOUISIANA ",null,"GSIC / INIC /AIG AC ","NHIC -15%"]
["MAINE  ",null,"GSIC","NHIC -15%"]
["MARYLAND","INIC +15%","GSIC","NHIC -15%","AIG AC -25%"]
["MASSACHUSETTS",null,"GSIC","NHIC -15%"]
["MICHIGAN",null,"GSIC / INIC","NHIC -15%","AIG AC -25%","AIG PCC / AHAC / NUFIC  / C&I / ISOP "]
["MINNESOTA",null,"GSIC / INIC","NHIC -15%"]
["MISSISSIPPI",null,"GSIC","NHIC -15%","AIG AC -25%"]
["MISSOURI","INIC +15%","GSIC","NHIC -15%","AIG AC -25%"]
["MONTANA",null,"GSIC / INIC","NHIC -15%","AIG AC -25%"]
["NEBRASKA",null,"NHIC / GSIC / AIG AC / INIC",null,null,"AIG PCC / AHAC / NUFIC  / C&I / ISOP "]
["NEVADA",null,"GSIC / INIC","NHIC -15%","AIG AC -25%"]
["NEW HAMPSHIRE","INIC +15%","GSIC","NHIC -15%","AIG AC -25%"]
["NEW JERSEY",null,"GSIC / INIC","NHIC -15%"]
["NEW MEXICO",null,"GSIC","NHIC -15%","AIG AC -25%"]
["NEW YORK",null,"NHIC / GSIC / INIC"]
["NORTH CAROLINA",null,"GSIC","NHIC -15%","AIG AC -25%"]
["NORTH DAKOTA ","INIC +15%","GSIC","NHIC -15%","AIG AC -25%"]
["OHIO",null,"GSIC / INIC","NHIC -15%","AIG AC -25%"]
["OKLAHACOMA",null,"NHIC / GSIC / AIG AC / INIC"]
["OREGON","INIC +15%","GSIC","NHIC -15%","AIG AC -25%"]
["PENNSYLVANIA","INIC +15%","GSIC","NHIC -15%","AIG AC -25%"]
["RHODE ISLAND",null,"GSIC / INIC","NHIC -15%","AIG AC -25%"]
["SOUTH CAROLINA",null,"GSIC / INIC","NHIC -15%","AIG AC -25%"]
["SOUTH DAKOTA","INIC +15%","GSIC","NHIC -15%","AIG AC -25%"]
["TENNESSEE",null,"GSIC / INIC","NHIC -15%","AIG AC -25%"]
["TEXAS  ","INIC +15% ","GSIC","NHIC -15%","AIG AC -25%"]
["UTAH","INIC +15%","GSIC","NHIC -15%","AIG AC -25%"]
["VERMONT",null,"GSIC / INIC","NHIC -15%"]
["VIRGINIA",null,"GSIC","NHIC -15%","AIG AC -25%","AIG PCC / AHAC / NUFIC  / C&I / ISOP "]
["WASHINGTON",null,"GSIC  / AIG AC / INIC","NHIC -15%"]
["WEST VIRGINIA","INIC +15%","GSIC","NHIC -15%","AIG AC -25%"]
["WISCONSIN","INIC +15%","GSIC","NHIC -15%","AIG AC -25%"]
["WYOMING",null,"NHIC / GSIC / AIG AC / INIC"]
[]
[null,null,null,null,null," + AIU, LIC LC filings not maintained after 4/2009"]

{"sheet":"BOILER","index":14,"n_rows":64,"n_cols":19,"rows_kept":64,"cut":false,"hidden":false,"merged":[[0,17,0,18],[1,17,1,18],[61,14,61,17]]}
["BOILER & MACHINERY LOSS COST FILING STATUS",null,null,null,null,null,null,"POOLED COMPANIES  ",null,null,null,null,null,null,null,null,"As of:",{"$f":"TODAY()","v":"2018-10-02"},"00:00:00"]
[null,null,null,null,null,null,null,null,null,null,null,null,null,null,null,null,null,"(data not updated since 07/07/14)"]
["CURRENT:",null,null,null,null,null,null,"  PENDING:"]
[]
[null,null,null,"Loss",null,null,"Loss","Actuarial",null,null,"Pending/","Proposed",null,"Loss",null,null,"Loss"]
[null,"Effective","Circular #'s","Cost","Expense","Overall","Cost","Support",null,null,"Approved/","Effective","Circular #'s","Cost","Expense","Overall","Cost"]
["State","Date"," (Edition Date)","Change","Change","Change","Multiplier","Prepared",null,null,"Automatic","Date"," (Edition Date)","Change","Change","Change","Multiplier","Companies Filed"]
[]
["Alabama","2015-10-01","2015-002 (10/15)",-0.15,0,-0.15,1.698,null,null,null,"Pending",null,"2015-001",-0.15,null,null,1.698]
["Alaska","2015-10-01","2015-002 (10/15)",-0.15,0,-0.15,1.6160000000000001,null,null,null,"Pending",null,"2015-001",-0.15,null,null,1.6160000000000001]
["Arizona","2015-10-01","2015-002 (10/15)",-0.15,0,-0.15,1.6339999999999999,null,null,null,"Pending",null,"2015-001",-0.15,null,null,1.6339999999999999]
["Arkansas","2015-10-01","2015-002 (10/15)",-0.15,0,-0.15,1.647,null,null,null,"Pending",null,"2015-001",-0.15,null,null,1.647]
["California*","",null,null,null,null,null,null,null,null,"Not Yet Filed\nNot Yet Filed",null,"2015-009 (10/15)\n2013-004 (10/13)","-15.0%\n-11.8%"]
["Colorado","2015-10-01","2015-002 (10/15)",-0.15,0,-0.15,1.637,null,null,null,"Pending",null,"2015-001",-0.15,null,null,1.637]
["Connecticut","2015-10-01","2015-002 (10/15)",-0.15,0,-0.15,1.629,null,null,null,"Pending",null,"2015-001",-0.15]
["Delaware*","2012-03-26","2011-012 (10/11)",-0.16800000000000001,0,-0.16800000000000001,1.603,null,null,null,"Not Yet Filed\nNot Yet Filed",null,"2015-002 (10/15)\n2013-006 (10/13)","-15.0%\n-11.8%"]
["DC","2015-10-01","2015-002 (10/15)",-0.15,0,-0.15,1.6419999999999999,null,null,null,"Pending",null,"2015-001",-0.15,null,null,1.6419999999999999]
["Florida*","2007-10-01","2007-055 (9/05)",-0.25,1.2999999999999999E-2,-0.24,1.355,null,null,null,"Not Yet Filed\nNot Yet Filed",null,"2015-002 (10/15)\n2013-004 (10/13)","-15.0%\n-11.8%"]
["Georgia","2015-10-01","2015-002 (10/15)",-0.15,0,-0.15,1.623,null,null,null,"Pending",null,"2015-001",-0.15,null,null,1.623]
["Hawaii*","2011-10-01","HIB Pub. No. 110040",-0.16800000000000001,0,-0.16800000000000001,1.7729999999999999,null,null,null,"Pending","2014-09-01","HIB Pub 130022, 130054",-0.16800000000000001,0,-0.16800000000000001,1.7729999999999999]
["Idaho","2015-10-01","2015-002 (10/15)",-0.15,0,-0.15,1.6559999999999999,null,null,null,"Pending",null,"2015-001",-0.15,null,null,1.6559999999999999]
["Illinois*","2012-01-16","2011-012 (10/11)",-0.16800000000000001,0,-0.16800000000000001,1.6339999999999999,null,null,null,"Not Yet Filed\nNot Yet Filed",null,"2015-002 (10/15)\n2013-004 (10/13)","-15.0%\n-11.8%"]
["Indiana","2015-10-01","2015-002 (10/15)",-0.15,0,-0.15,1.6339999999999999,null,null,null,"Pending",null,"2015-001",-0.15,null,null,1.6339999999999999]
["Iowa","2015-10-01","2015-002 (10/15)",-0.15,0,-0.15,1.6339999999999999,null,null,null,"Pending",null,"2015-001",-0.15,null,null,1.6339999999999999]
["Kansas","2015-10-01","2015-002 (10/15)",-0.15,0,-0.15,1.6339999999999999,null,null,null,"Pending",null,"2015-001",-0.15,null,null,1.6339999999999999]
["Kentucky","2015-10-01","2015-002 (10/15)",-0.15,0,-0.15,1.843,null,null,null,"Pending",null,"2015-001",-0.15,null,null,1.843]
["Louisiana*#","2000-01-01"," 97-14/43 (9/1997)",0,-0.217,-0.217,1.681,null,null,null,"Not Yet Filed\nNot Yet Filed",null,"2015-002 (10/15)\n2013-004 (10/13)","-15.0%\n-11.8%"]
["Maine","2015-10-01","2015-002 (10/15)",-0.15,0,-0.15,1.6339999999999999,null,null,null,"Pending",null,"2015-001",-0.15,null,null,1.6339999999999999]
["Maryland","2015-10-01","2015-002 (10/15)",-0.15,0,-0.15,1.6339999999999999,null,null,null,"Pending",null,"2015-001",-0.15,null,null,1.6339999999999999]
["Massachusetts*","2012-06-25","2010-012 (10/11)",-0.16800000000000001,0,-0.16800000000000001,1.61,null,null,null,"Not Yet Filed\nNot Yet Filed",null,"2015-002 (10/15)\n2013-004 (10/13)","-15.0%\n-11.8%"]
["Michigan","2015-10-01","2015-002 (10/15)",-0.15,0,-0.15,1.6160000000000001,null,null,null,"Pending",null,"2015-001",-0.15,null,null,1.6160000000000001]
["Minnesota*","2015-10-01","2015-002 (10/15)",-0.15,0,-0.15,1.6339999999999999,null,null,null,"Pending",null,"2015-001",-0.15,null,null,1.6339999999999999]
["Mississippi","2015-10-01","2015-002 (10/15)",-0.15,0,-0.15,1.669,null,null,null,"Pending",null,"2015-001",-0.15,null,null,1.669]
["Missouri","2015-10-01","2015-002 (10/15)",-0.15,0,-0.15,1.6339999999999999,null,null,null,"Pending",null,"2015-001",-0.15,null,null,1.6339999999999999]
["Montana","2015-10-01","2015-002 (10/15)",-0.15,0,-0.15,1.6559999999999999,null,null,null,"Pending",null,"2015-001",-0.15,null,null,1.6559999999999999]
["Nebraska","2015-10-01","2015-002 (10/15)",-0.15,0,-0.15,1.6080000000000001,null,null,null,"Pending",null,"2015-001",-0.15,null,null,1.6080000000000001]
["Nevada","2015-10-01","2015-002 (10/15)",-0.15,0,-0.15,1.675,null,null,null,"Pending",null,"2015-001",-0.15,null,null,1.675]
["New Hampshire","2015-10-01","2015-002 (10/15)",-0.15,0,-0.15,1.6339999999999999,null,null,null,"Pending",null,"2015-001",-0.15,null,null,1.6339999999999999]
["New Jersey","2015-10-01","2015-002 (10/15)",-0.15,0,-0.15,1.639,null,null,null,"Pending",null,"2015-001",-0.15,null,null,1.639]
["New Mexico","2015-10-01","2015-002 (10/15)",-0.15,0,-0.15,1.661,null,null,null,"Pending",null,"2015-001",-0.15,null,null,1.661]
["New York*","2014-04-01","2013-008 (11/13)",-0.45100000000000001,8.2000000000000003E-2,-0.40600000000000003,1.748,null,null,null,"Not Yet Filed\nNot Yet Filed",null,"2015-002 (10/15)\n2013-004 (10/13)","-15.0%\n-11.8%"]
["North Carolina","2015-10-01","2015-002 (10/15)",-0.15,0,-0.15,1.637,null,null,null,"Pending",null,"2015-001",-0.15,null,null,1.637]
["North Dakota","2015-10-01","2015-002 (10/15)",-0.15,0,-0.15,1.629,null,null,null,"Pending",null,"2015-001",-0.15,null,null,1.629]
["Ohio","2015-10-01","2015-002 (10/15)",-0.15,0,-0.15,1.647,null,null,null,"Pending",null,"2015-001",-0.15,null,null,1.647]
["Oklahoma","2015-10-01","2015-002 (10/15)",-0.15,0,-0.15,1.6419999999999999,null,null,null,"Pending",null,"2015-001",-0.15,null,null,1.6419999999999999]
["Oregon","2015-10-01","2015-002 (10/15)",-0.15,0,-0.15,1.6419999999999999,null,null,null,"Pending",null,"2015-001",-0.15,null,null,1.6419999999999999]
["Pennsylvania","2015-10-01","2015-002 (10/15)",-0.15,0,-0.15,1.6339999999999999,null,null,null,"Pending",null,"2015-001",-0.15,null,null,1.6339999999999999]
["Rhode Island","2015-10-01","2015-002 (10/15)",-0.15,0,-0.15,1.6339999999999999,null,null,null,"Pending",null,"2015-001",-0.15,null,null,1.6339999999999999]
["South Carolina","2015-11-01","2015-006 (11/15)",-0.15,0,-0.15,1.6339999999999999,null,null,null,null,null,null,null,null,-0.15,1.6339999999999999]
["South Dakota","2015-10-01","2015-002 (10/15)",-0.15,0,-0.15,1.647,null,null,null,"Pending",null,"2015-001",-0.15,null,null,1.647]
["Tennessee","2015-10-01","2015-002 (10/15)",-0.15,0,-0.15,1.647,null,null,null,"Pending",null,"2015-001",-0.15,null,null,1.647]
["Texas*","2012-02-06","2011-006/012 (10/11)",-0.16800000000000001,0,-0.16800000000000001,1.4059999999999999,null,null,null,"Not Yet Filed\nNot Yet Filed\n",null,"2015-005 (10/15)\n2013-004 (10/13)","-15.0%\n-11.8%",null,null,null,"AHAC, AIG AC, AIG PCC, C&I, GSIC, INIC, NUFIC, NHIC, ISOP"]
["Utah","2015-10-01","2015-002 (10/15)",-0.15,0,-0.15,1.6419999999999999,null,null,null,"Pending",null,"2015-001",-0.15,null,null,1.6419999999999999]
["Vermont","2015-10-01","2015-002 (10/15)",-0.15,0,-0.15,1.6339999999999999,null,null,null,"Pending",null,"2015-001",-0.15,null,null,1.6339999999999999]
["Virginia","2015-10-01","2015-002 (10/15)",-0.15,0,-0.15,1.6419999999999999,null,null,null,"Pending",null,"2015-001",-0.15,null,null,1.6419999999999999]
["Washington","2015-10-01","2015-002 (10/15)",-0.15,0,-0.15,1.905,null,null,null,"Pending",null,"2015-001",-0.15,null,null,1.905]
["West Virginia","2015-10-01","2015-002 (10/15)",-0.15,0,-0.15,1.639,null,null,null,"Pending",null,"2015-001",-0.15,null,null,1.639]
["Wisconsin","2015-10-01","2015-002 (10/15)",-0.15,0,-0.15,1.6339999999999999,null,null,null,"Pending",null,"2015-001",-0.15,null,null,1.6339999999999999]
["Wyoming","2015-10-01","2015-002 (10/15)",-0.15,0,-0.15,1.603,null,null,null,"Pending",null,"2015-001",-0.15,null,null,1.603]
[]
[]
[" * LCM cannot be placed on file for future revisions.",null,null,null,null,null,null,null,null,null,null,null,null,null," + AIP, AIU LC filings not maintained after 4/2009"]
[null,"# NY Cos. Were effective  on 1/1/00.",null,0,-0.217,-0.217,1.681]
[null,null,"9/5/07 NY Co. & NH Co. pages were combined as the only difference between the two groupings is that NH Cos. Have an additional rating plan designed by HSB."]

{"sheet":"FIDELITY","index":15,"n_rows":62,"n_cols":18,"rows_kept":62,"cut":false,"hidden":false,"merged":[[0,0,0,4]]}
["FIDELITY (SFAA Program) LOSS COST FILING STATUS",null,null,null,null,null,"POOLED COMPANIES ",null,null,null,null,null,null,null,null,null,"As of:",{"$f":"TODAY()","v":"2018-10-02"}]
[null,null,null,null,null,null,null,null,null,null,null,null,null,null,null,null,null,"(data not updated since 07/07/14)"]
["CURRENT:",null,null,null,null,null," PENDING:"]
[]
[null,null,"Loss",null,null,null,"Actuarial",null,null,null,null,"Proposed/","Loss"]
[null,"Effective","Cost","Expense","Overall","Loss Cost","Support",null,null,null,"Pending/","Effective","Cost","Expense",null,"Overall","Loss Cost"]
["  State","Date","Change","Change","Change","Multiplier","Prepared",null,null,null,"Approved","Date","Change","Change",null,"Change","Multiplier","Companies Filed"]
[]
["  ALABAMA","2004-06-01",7.2999999999999995E-2,0,7.2999999999999995E-2,1.4119999999999999,null,null,null,null,null,null,null,null,null,null,null,"NHIC/GSIC/AHAC/NUFIC/ISOP/C&I/AIG AC"]
["  ALASKA","2004-06-01",7.2999999999999995E-2,0,7.2999999999999995E-2,1.41,null,null,null,null,null,null,null,null,null,null,null,"NHIC/GSIC/INIC/AIG PCC/AHAC/NUFIC/ISOP/C&I/AIG AC"]
["  ARIZONA","2004-06-17",7.2999999999999995E-2,0,7.2999999999999995E-2,1.397,null,null,null,null,null,null,null,null,null,null,null,"NHIC/GSIC/AHAC/NUFIC/ISOP/C&I/AIG PCC"]
["  ARKANSAS","2004-06-01",7.2999999999999995E-2,0,7.2999999999999995E-2,1.4059999999999999,null,null,null,null,null,null,null,null,null,null,null,"NHIC/GSIC/AHAC/NUFIC/ISOP/C&I"]
["  CALIFORNIA *","2014-08-25",null,null,null,null,null,null,null,null,null,null,null,null,null,null,null,"NHIC/GSIC/AHAC/NUFIC/ISOP/C&I/BF"]
["  COLORADO","2004-09-01",7.2999999999999995E-2,0,7.2999999999999995E-2,1.401,null,null,null,null,null,null,null,null,null,null,null,"NHIC/GSIC/AIP/AIG AC/AHAC/NUFIC/ISOP/C&I/AIG PCC"]
["  CONNECTICUT","2004-06-01",7.2999999999999995E-2,0,7.2999999999999995E-2,1.393,null,null,null,null,null,null,null,null,null,null,null,"NHIC/GSIC/AHAC/NUFIC/ISOP/C&I/AIG AC"]
["  DELAWARE","2004-08-19",7.2999999999999995E-2,0,7.5999999999999998E-2,1.401,null,null,null,null,null,null,null,null,null,null,null,"NHIC/AHAC/NUFIC/ISOP/C&I/AIG AC"]
["  DIST.OF COL.","2004-06-01",7.2999999999999995E-2,0,7.2999999999999995E-2,1.403,null,null,null,null,null,null,null,null,null,null,null,"NHIC/GSIC/AIG PCC/AHAC/NUFIC/ISOP/C&I/AIG AC"]
["  FLORIDA  *","2004-08-01",7.2999999999999995E-2,-2.4E-2,4.7E-2,1.284,null,null,null,null,null,null,null,null,null,null,null,"NHIC/GSIC/AHAC/NUFIC/ISOP/C&I/AIG AC"]
["  GEORGIA","2004-09-23",7.2999999999999995E-2,0,7.2999999999999995E-2,1.4390000000000001,null,null,null,null,null,null,null,null,null,null,null,"NHIC/GSIC/AIG PCC/AHAC/NUFIC/ISOP/C&I/AIG AC"]
["  HAWAII  *","2005-04-01",7.2999999999999995E-2,0,7.2999999999999995E-2,1.3620000000000001,null,null,null,null,null,null,null,null,null,null,null,"NHIC/GSIC/AHAC/NUFIC/ISOP/C&I/AIG AC"]
["  IDAHO","2004-06-01",7.2999999999999995E-2,0,7.2999999999999995E-2,1.4119999999999999,null,null,null,null,null,null,null,null,null,null,null,"NHIC/GSIC/INIC/AHAC/NUFIC/ISOP/C&I/AIG AC"]
["  ILLINOIS *","2004-08-01",7.2999999999999995E-2,0,7.2999999999999995E-2,1.397,null,null,null,null,null,null,null,null,null,null,null,"NHIC/GSIC/INIC/AHAC/NUFIC/ISOP/C&I/AIG AC"]
["  INDIANA","2004-06-28",7.2999999999999995E-2,0,7.2999999999999995E-2,1.397,null,null,null,null,null,null,null,null,null,null,null,"NHIC/GSIC/INIC/AHAC/NUFIC/ISOP/C&I/AIG AC"]
["  IOWA","2004-06-01",7.2999999999999995E-2,0,7.2999999999999995E-2,1.395,null,null,null,null,null,null,null,null,null,null,null,"NHIC/GSIC/INIC/AHAC/NUFIC/ISOP/C&I/AIG AC"]
["  KANSAS","1999-02-15",-3.2000000000000001E-2,0.11799999999999999,8.2000000000000003E-2,1.397,null,null,null,null,null,null,null,null,null,null,null,"NHIC/GSIC/AHAC/NUFIC/ISOP/C&I/AIG AC"]
["  KENTUCKY  *","2004-06-01",7.2999999999999995E-2,0,7.2999999999999995E-2,1.635,null,null,null,null,null,null,null,null,null,null,null,"NHIC/GSIC/AIG PCC/INIC/AHAC/NUFIC/ISOP/C&I/AIG AC"]
["  LOUISIANA   * +","2004-11-01",3.9E-2,-8.3000000000000004E-2,-4.7E-2,1.119,null,null,null,null,null,null,null,null,null,null,null,"NHIC/GSIC/AHAC/NUFIC/ISOP/C&I/AIG AC"]
["  MAINE  ","2004-06-01",7.2999999999999995E-2,0,7.2999999999999995E-2,1.397,null,null,null,null,null,null,null,null,null,null,null,"NHIC/GSIC/INIC/AHAC/NUFIC/ISOP"]
["  MARYLAND","2004-06-01",7.2999999999999995E-2,0,7.2999999999999995E-2,1.397,null,null,null,null,null,null,null,null,null,null,null,"NHIC/GSIC/AIG PCC/INIC/AHAC/NUFIC/ISOP/C&I/AIG AC"]
["  MASSACHUSETTS  *","2004-09-01",1.2E-2,0,1.2E-2,1.403,null,null,null,null,null,null,null,null,null,null,null,"NHIC/GSIC/AHAC/NUFIC/ISOP/C&I"]
["  MICHIGAN","2004-06-01",7.2999999999999995E-2,0,7.2999999999999995E-2,1.383,null,null,null,null,null,null,null,null,null,null,null,"NHIC/GSIC/INIC/AHAC/NUFIC/ISOP/C&I/AIG AC"]
["  MINNESOTA  *","2004-06-01",7.2999999999999995E-2,0,7.2999999999999995E-2,1.3660000000000001,null,null,null,null,null,null,null,null,null,null,null,"NHIC/GSIC/AHAC/NUFIC/ISOP/C&I/AIG AC"]
["  MISSISSIPPI","2004-06-01",7.2999999999999995E-2,0,7.2999999999999995E-2,1.4159999999999999,null,null,null,null,null,null,null,null,null,null,null,"NHIC/GSIC/AIG PCC/AHAC/NUFIC/ISOP/C&I/AIG AC"]
["  MISSOURI","2004-06-01",7.2999999999999995E-2,0,7.2999999999999995E-2,1.397,null,null,null,null,null,null,null,null,null,null,null,"NHIC/GSIC/INIC/AHAC/NUFIC/ISOP/C&I/AIG AC"]
["  MONTANA","2004-06-01",7.2999999999999995E-2,0,7.2999999999999995E-2,1.4119999999999999,null,null,null,null,null,null,null,null,null,null,null,"NHIC/GSIC/INIC/AIG PCC/AHAC/NUFIC/ISOP/C&I/AIG AC"]
["  NEBRASKA","2004-06-14",7.2999999999999995E-2,0,7.2999999999999995E-2,1.377,null,null,null,null,null,null,null,null,null,null,null,"NHIC/GSIC/INIC/AHAC/NUFIC/ISOP/C&I/AIG AC"]
["  NEVADA","2004-06-01",7.2999999999999995E-2,0,7.2999999999999995E-2,1.427,null,null,null,null,null,null,null,null,null,null,null,"NHIC/GSIC/INIC/AHAC/NUFIC/ISOP/C&I/AIG AC"]
["  NEW HAMPSHIRE","2004-06-01",7.2999999999999995E-2,0,7.2999999999999995E-2,1.397,null,null,null,null,null,null,null,null,null,null,null,"NHIC/GSIC/INIC/AIS/AHAC/NUFIC/ISOP/C&I/AIG AC"]
["  NEW JERSEY","1998-09-01",-3.2000000000000001E-2,2.9000000000000001E-2,-4.0000000000000001E-3,1.401,null,null,null,null,null,null,null,null,null,null,null,"NHIC/GSIC/INIC/AHAC/NUFIC/ISOP/C&I"]
["  NEW MEXICO  *","2004-07-07",7.2999999999999995E-2,2.5000000000000001E-2,0.1,1.42,null,null,null,null,null,null,null,null,null,null,null,"NHIC/GSIC/INIC/AIG PCC/AHAC/NUFIC/ISOP/C&I/AIG AC"]
["  NEW YORK  *","2012-10-01",0,0,0,1.3720000000000001,null,null,null,null,null,null,null,null,null,null,null,"NHIC/GSIC/INIC/AHAC/NUFIC/ISOP/C&I/AIG AC"]
["  NORTH CAROLINA  ","2004-06-01",7.2999999999999995E-2,0,7.2999999999999995E-2,1.393,null,null,null,null,null,null,null,null,null,null,null,"NHIC/GSIC/AIG PCC/AHAC/NUFIC/ISOP/C&I/AIG AC"]
["  NORTH DAKOTA ","2004-06-01",7.2999999999999995E-2,0,7.2999999999999995E-2,1.393,null,null,null,null,null,null,null,null,null,null,null,"NHIC/GSIC/INIC/AIG PCC/AHAC/NUFIC/ISOP/C&I/AIG AC"]
["  OHIO","2004-06-01",7.2999999999999995E-2,0,7.2999999999999995E-2,1.4059999999999999,null,null,null,null,null,null,null,null,null,null,null,"NHIC/GSIC/INIC/AHAC/NUFIC/ISOP/C&I/AIG AC"]
["  OKLAHOMA","2004-06-01",7.2999999999999995E-2,0,7.2999999999999995E-2,1.401,null,null,null,null,null,null,null,null,null,null,null,"GSIC/AIG PCC/AHAC/NUFIC/ISOP/C&I/AIG AC"]
["  OREGON","2004-06-01",7.2999999999999995E-2,0,7.2999999999999995E-2,1.403,null,null,null,null,null,null,null,null,null,null,null,"NHIC/GSIC/AHAC/NUFIC/ISOP/C&I/AIG AC"]
["  PENNSYLVANIA","2004-06-01",7.2999999999999995E-2,0,7.2999999999999995E-2,1.397,null,null,null,null,null,null,null,null,null,null,null,"NHIC/GSIC/AIG PCC/AHAC/NUFIC/ISOP/C&I/AIG AC"]
["  RHODE ISLAND","1998-09-01",-3.2000000000000001E-2,0.14000000000000001,0.104,1.397,null,null,null,null,null,null,null,null,null,null,null,"NHIC/GSIC/INIC/AIG PCC/AHAC/NUFIC/ISOP/C&I/AIG AC"]
["  SOUTH CAROLINA","2004-06-01",7.2999999999999995E-2,0,7.2999999999999995E-2,1.4119999999999999,null,null,null,null,null,null,null,null,null,null,null,"NHIC/GSIC/AIG PCC/AHAC/NUFIC/ISOP/C&I/AIG AC"]
["  SOUTH DAKOTA","2004-06-01",7.2999999999999995E-2,0,7.2999999999999995E-2,1.4059999999999999,null,null,null,null,null,null,null,null,null,null,null,"NHIC/GSIC/INIC/AHAC/NUFIC/ISOP/C&I/AIG AC"]
["  TENNESSEE","2004-06-01",7.2999999999999995E-2,0,7.2999999999999995E-2,1.4059999999999999,null,null,null,null,null,null,null,null,null,null,null,"NHIC/GSIC/AHAC/NUFIC/ISOP/C&I"]
["  TEXAS    *","2004-11-01",7.2999999999999995E-2,-2.3E-2,4.8000000000000001E-2,1.3109999999999999,null,null,null,null,null,null,null,null,null,null,null,"NHIC/GSIC/INIC/AHAC/NUFIC/ISOP/C&I/AIG AC"]
["  UTAH","2004-06-01",7.2999999999999995E-2,0,7.2999999999999995E-2,1.403,null,null,null,null,null,null,null,null,null,null,null,"NHIC/GSIC/INIC/AHAC/NUFIC/ISOP/C&I/AIG AC"]
["  VERMONT","2004-06-01",7.2999999999999995E-2,0,7.2999999999999995E-2,1.397,null,null,null,null,null,null,null,null,null,null,null,"NHIC/GSIC/INIC/AHAC/NUFIC/ISOP/C&I/AIG AC"]
["  VIRGINIA","2004-06-01",7.2999999999999995E-2,0,7.2999999999999995E-2,1.403,null,null,null,null,null,null,null,null,null,null,null,"NHIC/GSIC/AHAC/NUFIC/ISOP/C&I/AIG AC"]
["  WASHINGTON","2004-07-01",7.2999999999999995E-2,0,7.2999999999999995E-2,1.4530000000000001,null,null,null,null,null,null,null,null,null,null,null,"NHIC/GSIC/AHAC/NUFIC/ISOP/C&I/AIG AC"]
["  WEST VIRGINIA","2004-06-01",7.2999999999999995E-2,0,7.2999999999999995E-2,1.4159999999999999,null,null,null,null,null,null,null,null,null,null,null,"NHIC/GSIC/INIC/AHAC/NUFIC/ISOP/C&I/AIG AC"]
["  WISCONSIN","2004-06-01",7.2999999999999995E-2,0,7.2999999999999995E-2,1.397,null,null,null,null,null,null,null,null,null,null,null,"NHIC/GSIC/AHAC/NUFIC/ISOP/C&I/AIG AC"]
["  WYOMING ","1998-09-01",-3.2000000000000001E-2,7.2999999999999995E-2,3.9E-2,1.3740000000000001,null,null,null,null,null,null,null,null,null,null,null,"NHIC/GSIC/INIC/AHAC/NUFIC/ISOP/C&I/AIG AC"]
[]
[]
[null,null,null,null,null,null,null,null,null,null,null,null,null,null,null,null,null,"LIC LC filings not maintained after 4/2009"]

{"sheet":"SURETY","index":16,"n_rows":59,"n_cols":17,"rows_kept":59,"cut":false,"hidden":false,"merged":[]}
["SURETY (SFAA Program) LOSS COST FILING STATUS",null,null,null,null,"POOLED COMPANIES ",null,null,null,null,null,null,null,null,null,"As of:",{"$f":"TODAY()","v":"2018-10-02"}]
[null,null,null,null,null,null,null,null,null,null,null,null,null,null,null,null,"(data not updated since 07/07/14)"]
["CURRENT:",null,null,null,null,null,"  PENDING:"]
[]
[null,null,"Loss",null,null,"Loss","Actuarial",null,null,null,null,"Proposed/","Loss",null,null,null,"Loss"]
[null,"Effective","Cost","Expense","Overall","Cost","Support",null,null,null,"Pending/","Effective","Cost","Expense",null,"Overall","Cost"]
["  State","Date","Change","Change","Change","Multiplier","Prepared",null,null,null,"Approved","Date","Change","Change",null,"Change","Multiplier"]
[]
["  ALABAMA","2005-09-01",5.0000000000000001E-3,0,5.0000000000000001E-3,1.4530000000000001]
["  ALASKA","2004-07-01",0.14699999999999999,0,0.14699999999999999,1.4530000000000001]
["  ARIZONA","2005-09-01",5.0000000000000001E-3,0,5.0000000000000001E-3,1.4530000000000001]
["  ARKANSAS","2005-09-01",5.0000000000000001E-3,0,5.0000000000000001E-3,1.4530000000000001]
["  CALIFORNIA  ","2014-08-25",null,null,-0.4,1.4530000000000001]
["  COLORADO","2005-09-01",5.0000000000000001E-3,0,5.0000000000000001E-3,1.4530000000000001]
["  CONNECTICUT","2005-09-01",5.0000000000000001E-3,0,5.0000000000000001E-3,1.4530000000000001]
["  DELAWARE *","2005-10-01",5.0000000000000001E-3,0,5.0000000000000001E-3,1.4530000000000001]
["  DIST. OF COLUMBIA","2005-09-01",5.0000000000000001E-3,0,5.0000000000000001E-3,1.4530000000000001]
["  FLORIDA  *","1995-10-01",null,null,-0.38100000000000001,1.4990000000000001]
["  GEORGIA","2005-09-20",5.0000000000000001E-3,0,5.0000000000000001E-3,1.4530000000000001]
["  HAWAII   *","2012-06-25",-4.2999999999999997E-2,0,-4.2999999999999997E-2,1.4530000000000001]
["  IDAHO","2005-09-01",5.0000000000000001E-3,0,5.0000000000000001E-3,1.4530000000000001]
["  ILLINOIS *","2006-01-01",5.0000000000000001E-3,0,5.0000000000000001E-3,1.4530000000000001]
["  INDIANA","2005-09-01",5.0000000000000001E-3,0,5.0000000000000001E-3,1.4530000000000001]
["  IOWA","2005-09-01",5.0000000000000001E-3,0,5.0000000000000001E-3,1.56]
["  KANSAS","2006-01-01",1.7000000000000001E-2,0,1.7000000000000001E-2,1.4530000000000001]
["  KENTUCKY  *","2005-09-01",5.0000000000000001E-3,0,5.0000000000000001E-3,1.8360000000000001]
["  LOUISIANA   *","2005-11-01",5.0000000000000001E-3,0,5.0000000000000001E-3,1.4530000000000001]
["  MAINE  ","2005-09-01",5.0000000000000001E-3,0,5.0000000000000001E-3,1.4530000000000001]
["  MARYLAND","2005-09-01",5.0000000000000001E-3,0,5.0000000000000001E-3,1.4530000000000001]
["  MASSACHUSETTS  *","2005-10-01",5.0000000000000001E-3,0,5.0000000000000001E-3,1.4530000000000001]
["  MICHIGAN","2005-09-01",5.0000000000000001E-3,0,5.0000000000000001E-3,1.4530000000000001]
["  MINNESOTA  *","2005-09-01",5.0000000000000001E-3,0,5.0000000000000001E-3,1.4530000000000001]
["  MISSISSIPPI","2005-09-01",5.0000000000000001E-3,0,5.0000000000000001E-3,1.4530000000000001]
["  MISSOURI","2005-09-01",5.0000000000000001E-3,0,5.0000000000000001E-3,1.4530000000000001]
["  MONTANA","2005-09-01",5.0000000000000001E-3,0,5.0000000000000001E-3,1.4530000000000001]
["  NEBRASKA","2005-09-01",5.0000000000000001E-3,0,5.0000000000000001E-3,1.4530000000000001]
["  NEVADA","2005-09-01",5.0000000000000001E-3,0,5.0000000000000001E-3,1.4530000000000001]
["  NEW HAMPSHIRE","2005-09-01",5.0000000000000001E-3,0,5.0000000000000001E-3,1.4530000000000001]
["  NEW JERSEY","2006-01-01",1.7000000000000001E-2,0,1.7000000000000001E-2,1.4530000000000001]
["  NEW MEXICO  *","2004-06-01",1.2E-2,0,1.2E-2,1.4530000000000001]
["  NEW YORK  *","2005-04-20",1.2E-2,1.6E-2,2.8000000000000001E-2,1.4330000000000001]
["  NORTH CAROLINA  ","2005-09-01",5.0000000000000001E-3,0,5.0000000000000001E-3,1.52]
["  NORTH DAKOTA ","2005-09-01",5.0000000000000001E-3,0,5.0000000000000001E-3,1.4530000000000001]
["  OHIO","2005-09-01",5.0000000000000001E-3,0,5.0000000000000001E-3,1.4530000000000001]
["  OKLAHOMA","2005-09-01",5.0000000000000001E-3,0,5.0000000000000001E-3,1.5720000000000001]
["  OREGON","2005-09-01",5.0000000000000001E-3,0,5.0000000000000001E-3,1.4530000000000001]
["  PENNSYLVANIA","2005-09-01",5.0000000000000001E-3,0,5.0000000000000001E-3,1.4530000000000001]
["  RHODE ISLAND","2006-01-01",1.7000000000000001E-2,0,1.7000000000000001E-2,1.4530000000000001]
["  SOUTH CAROLINA","2005-10-13",5.0000000000000001E-3,0,5.0000000000000001E-3,1.4530000000000001]
["  SOUTH DAKOTA","2005-09-01",5.0000000000000001E-3,0,5.0000000000000001E-3,1.4530000000000001]
["  TENNESSEE","2005-09-01",5.0000000000000001E-3,0,5.0000000000000001E-3,1.4530000000000001]
["  TEXAS    *",""]
["  UTAH","2005-09-01",5.0000000000000001E-3,0,5.0000000000000001E-3,1.4530000000000001]
["  VERMONT","2005-09-01",5.0000000000000001E-3,0,5.0000000000000001E-3,1.4530000000000001]
["  VIRGINIA","2005-09-01",1.2E-2,0,1.2E-2,1.4530000000000001]
["  WASHINGTON","2005-09-01",5.0000000000000001E-3,0,5.0000000000000001E-3,1.41]
["  WEST VIRGINIA","2005-09-01",5.0000000000000001E-3,0,5.0000000000000001E-3,1.4530000000000001]
["  WISCONSIN","2005-09-01",5.0000000000000001E-3,0,5.0000000000000001E-3,1.4530000000000001]
["  WYOMING","2006-01-01",1.7000000000000001E-2,0,1.7000000000000001E-2,1.4530000000000001]

{"sheet":"SUR-DEVS","index":17,"n_rows":58,"n_cols":7,"rows_kept":58,"cut":false,"hidden":false,"merged":[[1,0,1,6]]}
[null,null,null,null,null,"As of:",{"$f":"TODAY()","v":"2018-10-02"}]
["*  *  *  *  *  *  *  *  *  *  *   SURETY LOSS COST MODIFICATIONS   *  *  *  *  *  *  *  *  *  *  * "]
[]
[" State",null,"Sub-Standard",null,"Standard",null,"Preferred"]
[]
["ALABAMA",null,"ISOP / C&I +50% , NUFIC +10%",null,"AIG PCC /  NHIC",null,"AHAC -10%"]
["ALASKA",null,"ISOP / C&I +50% , NUFIC +10%",null,"AIG PCC  / NHIC",null,"AHAC -10%"]
["ARIZONA",null,"ISOP / C&I +50% , NUFIC +10%",null,"AIG PCC  / NHIC ",null,"AHAC -10%"]
["ARKANSAS",null,"ISOP / C&I +50% , NUFIC +10%",null,"AIG PCC /  NHIC",null,"AHAC -10%"]
["CALIFORNIA  ",null,"ISOP / C&I +50% , NUFIC +10%",null,null,null,"AHAC -10%"]
["COLORADO",null,"ISOP / C&I +50% , NUFIC +10%",null,"AIG PCC /  NHIC",null,"AHAC -10%"]
["CONNECTICUT",null,"ISOP / C&I +50% , NUFIC +10%",null,"AIG PCC  / AIG AC / NHIC",null,"AHAC -10%"]
["DELAWARE",null,"ISOP / C&I +50% , NUFIC +10%",null,"AIG PCC  /  NHIC",null,"AHAC -10%"]
["DIST. OF COLUMBIA",null,"ISOP / C&I +50% , NUFIC +10%",null,"AIG PCC /  NHIC",null,"AHAC -10%"]
["FLORIDA",null,"ISOP / C&I +50% , NUFIC +10%",null,"AIG PCC /  NHIC",null,"AHAC -10%"]
["GEORGIA",null,"ISOP / C&I +50% , NUFIC +10%",null,"AIG PCC /  NHIC",null,"AHAC -10%"]
["HAWAII ",null,"ISOP / C&I +50% , NUFIC +10%",null,"NHIC",null,"AHAC -10%"]
["IDAHACO",null,"ISOP / C&I +50% , NUFIC +10%",null,"AIG PCC  / GSIC / NHIC",null,"AHAC -10%"]
["ILLINOIS",null,"ISOP / C&I +50% , NUFIC +10%",null,"AIG PCC  / GSIC / INIC / NHIC",null,"AHAC -10%"]
["INDIANA",null,"ISOP / C&I +50% , NUFIC +10%",null,"AIG PCC /  NHIC",null,"AHAC -10%"]
["IOWA",null,"ISOP / C&I +50% , NUFIC +10%",null,"AIG PCC /  NHIC",null,"AHAC -10%"]
["KANSAS",null,"ISOP / C&I +50% , NUFIC +10%",null,"AIG PCC  / NHIC ",null,"AHAC -10%"]
["KENTUCKY",null,"ISOP / C&I +50% , NUFIC +10%",null,"AIG PCC  / AIG AC  / GSIC / INIC / NHIC",null,"AHAC -10%"]
["LOUISIANA ",null,"ISOP / C&I +50% , NUFIC +10%",null,null,null,"AHAC -10%"]
["MAINE",null,"ISOP / C&I +50% , NUFIC +10%",null,"AIG PCC /  NHIC",null,"AHAC -10%"]
["MARYLAND",null,"ISOP / C&I +50% , NUFIC +10%",null,"AIG PCC /  NHIC",null,"AHAC -10%"]
["MASSACHUSETTS",null,"ISOP / C&I +50% , NUFIC +10%",null,"NHIC ",null,"AHAC -10%"]
["MICHIGAN",null,"ISOP / C&I +50% , NUFIC +10%",null,"AIG PCC",null,"AHAC -10%"]
["MINNESOTA",null,"ISOP / C&I +50% , NUFIC +10%",null,"AIG PCC /  NHIC",null,"AHAC -10%"]
["MISSISSIPPI",null,"ISOP / C&I +50% , NUFIC +10%",null,"AIG PCC /  NHIC",null,"AHAC -10%"]
["MISSOURI",null,"ISOP / C&I +50% , NUFIC +10%",null,"AIG PCC",null,"AHAC -10%"]
["MONTANA",null,"ISOP / C&I +50% , NUFIC +10%",null,"AIG PCC /  NHIC",null,"AHAC -10%"]
["NEBRASKA",null,"ISOP / C&I +50% , NUFIC +10%",null,"AIG PCC /  NHIC",null,"AHAC -10%"]
["NEVADA",null,"ISOP / C&I +50% , NUFIC +10%",null,"AIG PCC  / NHIC ",null,"AHAC -10%"]
["NEW HAMPSHIRE",null,"ISOP / C&I +50% , NUFIC +10%",null,"AIG PCC / AIG AC / GSIC / INIC  / NHIC ",null,"AHAC -10%"]
["NEW JERSEY",null,"ISOP / C&I +50% , NUFIC +10%",null,null,null,"AHAC -10%"]
["NEW MEXICO",null,"ISOP / C&I +50% , NUFIC +10%",null,"AIG PCC",null,"AHAC -10%"]
["NEW YORK ",null,"ISOP / C&I +50% , NUFIC +10%",null,null,null,"AHAC -10%"]
["NORTH CAROLINA",null,"ISOP / C&I +50% , NUFIC +10%",null,"AIG PCC / AIG AC / NHIC",null,"AHAC -10%"]
["NORTH DAKOTA ",null,"ISOP / C&I +50% , NUFIC +10%",null,"AIG PCC  / NHIC",null,"AHAC -10%"]
["OHIO",null,"ISOP / C&I +50% , NUFIC +10%",null,"AIG PCC / AIG AC / GSIC / INIC",null,"AHAC -10%"]
["OKLAHACOMA",null,"ISOP / C&I +50% , NUFIC +10%",null,"AIG PCC",null,"AHAC -10%"]
["OREGON",null,"ISOP / C&I +50% , NUFIC +10%",null,"AIG PCC  / NHIC ",null,"AHAC -10%"]
["PENNSYLVANIA",null,"ISOP / C&I +50% , NUFIC +10%",null,"AIG PCC /  NHIC",null,"AHAC -10%"]
["RHODE ISLAND ",null,"ISOP / C&I +50% , NUFIC +10%",null,"AIG PCC /  NHIC",null,"AHAC -10%"]
["SORTH CAROLINA",null,"ISOP / C&I +50% , NUFIC +10%",null,"AIG PCC /  NHIC",null,"AHAC -10%"]
["SOUTH DAKOTA",null,"ISOP / C&I +50% , NUFIC +10%",null,"AIG PCC /  NHIC",null,"AHAC -10%"]
["TENNESSEE",null,"ISOP / C&I +50% , NUFIC +10%",null,"AIG PCC /  NHIC",null,"AHAC -10%"]
["TEXAS"]
["UTAH",null,"ISOP / C&I +50% , NUFIC +10%",null,"AIG PCC /  NHIC",null,"AHAC -10%"]
["VERMONT",null,"ISOP / C&I +50% , NUFIC +10%",null,"AIG PCC /  NHIC",null,"AHAC -10%"]
["VIRGINIA ",null,"ISOP / C&I +50% , NUFIC +10%",null,"AIG PCC /  NHIC",null,"AHAC -10%"]
["WASHINGTON",null,"ISOP / C&I +50% , NUFIC +10%",null,"AIG PCC  / NHIC ",null,"AHAC -10%"]
["WEST VIRGINIA",null,"ISOP / C&I +50% , NUFIC +10%",null,"AIG PCC /  NHIC",null,"AHAC -10%"]
["WISCONSIN",null,"ISOP / C&I +50% , NUFIC +10%",null,"AIG PCC /  NHIC",null,"AHAC -10%"]
["WYOMING",null,"ISOP / C&I +50% , NUFIC +10%",null,"AIG PCC / AIG AC / GSIC / INIC  / NHIC ",null,"AHAC -10%"]
[]
[null,null,null,null," +AIP, AIU, LIC LC filings not maintained after 4/2009"]

{"sheet":"FARM","index":18,"n_rows":62,"n_cols":19,"rows_kept":62,"cut":false,"hidden":false,"merged":[]}
["FARM LOSS COST FILING STATUS",null,null,null,null,null,"POOLED COMPANIES ",null,null,null,null,null,null,null,null,"As of:",{"$f":"TODAY()","v":"2018-10-02"}]
[]
["CURRENT:",null,null,null,null,null,null,"  PENDING:"]
[]
[null,null,null,"Loss",null,null,"Loss","Actuarial",null,null,"Pending/","Proposed/",null,"Loss",null,null,"Loss"]
[null,"Effective","Circular #'s","Cost","Expense","Overall","Cost","Support",null,null,"Approved/","Effective","Circular #'s","Cost","Expense","Overall","Cost"]
["  State","Date"," (Edition Date)","Change","Change","Change","Multiplier","Prepared",null,null,"Automatic","Date"," (Edition Date)","Change","Change","Change","Multiplier"]
[]
["  ALABAMA","2017-06-01","2016-091 (6/17)",-4.4999999999999998E-2,0,-4.4999999999999998E-2,1.504]
["  ALASKA","2011-08-01","FR-2011-041 (8/11)",0,0,0,1.504]
["  ARIZONA","2017-06-01","2016-105 (6/17)",-0.13,0,-0.13,1.504]
["  ARKANSAS","2015-06-01","2014-075 (6/15)",-8.2000000000000003E-2,0,-8.2000000000000003E-2,1.504]
["  CALIFORNIA  *","2011-07-01","FR-2008-046 (9/09)",0,0,0,1.4490000000000001,null,null,null,"Not Yet Filed\nNot Yet Filed\nNot Yet Filed\nNot Yet Filed",null,"2017-029 (8/17)\n2015-095 (3/16)\n2013-024 (6/13)\n2011-078 (10/11)","-13.5%\n-13.7%\n-12.0%\n6.5%\n"]
["  COLORADO","2017-06-01","2016-071 (6/17)",-7.6999999999999999E-2,0,-7.6999999999999999E-2,1.504]
["  CONNECTICUT","2017-06-01","2016-096 (6/17)",-8.1000000000000003E-2,0,-8.1000000000000003E-2,1.504]
["  DELAWARE *","2012-06-25","FR-2011-042 (6/11)",-4.5999999999999999E-2,0,-4.5999999999999999E-2,1.504,null,null,null,"Not Yet Filed\nNot Yet Filed",null,"2015-001 (6/15)\n2016-114 (6/17)","-11.3%\n-9.0%"]
["  DIST. OF COLUMBIA","","ISO has not filed Farm program in DC."]
["  FLORIDA  *","",null,null,null,null,null,null,null,null,"Not Yet Filed\nNot Yet Filed",null,"2017-039 (11/17)\n2015-091 (12/15)","-13.6%\n-7.8%"]
["  GEORGIA","2017-06-01","2016-108 (6/17)",-0.111,0,-0.111,1.504]
["  HAWAII     *","2012-03-26","HIB 110062",0,0,0,1.504]
["  IDAHO","2017-09-01","2017-020 (9/17)",-7.0000000000000007E-2,0,-7.0000000000000007E-2,1.504,null,null,null,null,null,null,null,null,null,null,null,"Idaho RB files Property and ISO files Liability. Each filed separately"]
["  ILLINOIS *","2015-09-01","2015-013 (9/15)",-0.113,0,-0.113,1.504]
["  INDIANA","2017-06-01","2016-095 (6/17)",-5.0999999999999997E-2,0,-5.0999999999999997E-2,1.504]
["  IOWA","2017-06-01","2016-073 (6/17)",-7.6999999999999999E-2,0,-7.6999999999999999E-2,1.504]
["  KANSAS","2017-06-01","2016-109 (6/17)",8.5000000000000006E-2,0,8.5000000000000006E-2,1.504]
["  KENTUCKY  *","2015-06-01","2012-091 (6/13)\n2014-068 (6/15)",-0.20756299999999994,0,-0.20799999999999999,1.504,null,null,null,"Not Yet Filed",null,"2016-090 (6/17)",-7.3999999999999996E-2]
["  LOUISIANA   *",""]
["  MAINE  ","2017-06-01","2016-060 (6/17)",-5.8000000000000003E-2,0,-5.8000000000000003E-2,0]
["  MARYLAND","2017-07-01","2017-007 (7/17)",-0.122,0,-0.122,1.504]
["  MASSACHUSETTS  *","2012-06-25","FR-2011-073 (8/11)",-2.5000000000000001E-2,0,-2.5000000000000001E-2,1.504,null,null,null,"Not Yet Filed\nNot Yet Filed\nNot Yet Filed\nNot Yet Filed",null,"2017 -048 (02/18)\n2017-037 (10/17)\n2015-009 (6/15)\n2013-033 (7/13)","0.0%\n-13.7%\n-13.1%\n-9.2%"]
["  MICHIGAN","2017-06-01","2016-106 (6/17)",-3.5000000000000003E-2,0,-3.5000000000000003E-2,1.504]
["  MINNESOTA  *","2013-06-01","2012-059 (6/13)",4.2000000000000003E-2,0,4.2000000000000003E-2,1.504]
["  MISSISSIPPI","2011-08-01","FR-2011-062 (8/11)",-7.5999999999999998E-2,0,-7.5999999999999998E-2,1.504,null,null,null,"Automatic","2018-07-01","2018-004 (7/18)",-7.0000000000000001E-3,0,-7.0000000000000001E-3,1.504]
["  MISSOURI","2015-06-01","2014-079 (6/15)",1.2E-2,0,1.2E-2,1.504]
["  MONTANA","2015-06-01","2014-099 (6/15)",-0.13,0,-0.13,1.504]
["  NEBRASKA","2017-06-01","2016-081 (6/17)",1.7000000000000001E-2,0,1.7000000000000001E-2,1.504]
["  NEVADA","2017-06-01","2016-066 (6/17)",-0.13400000000000001,0,-0.13400000000000001,1.504]
["  NEW HAMPSHIRE","2017-06-01","2016-107 (6/17)",-0.14000000000000001,0,-0.14000000000000001,1.504]
["  NEW JERSEY","2017-06-01","2016-100 (6/17)",-0.126,0,-0.126,1.504]
["  NEW MEXICO ","2017-06-01","2016-093 (6/17)",-5.5E-2,0,-5.5E-2,1.504]
["  NEW YORK  *","2011-10-01","FR-2011-043 (8/11)",0,0,0,1.504,null,null,null,"Not Yet Filed\nNot Yet Filed\nNot Yet Filed",null,"2015-011 (7/15)\n2012-083 (9/13)\n2017-016 (9/17)","-11.7%\n-11.8%\n-4.9%"]
["  NORTH CAROLINA  ","2017-06-01","2017-003 (6/17)",-6.0999999999999999E-2,0,-6.0999999999999999E-2,1.504]
["  NORTH DAKOTA ","2017-06-01","2016-103 (6/17)",-2.7E-2,0,-2.7E-2,1.504]
["  OHIO","2017-06-01","2016-089 (6/17)",-0.1,0,-0.1,1.504]
["  OKLAHOMA","2017-06-01","2017-004 (6/17)",-8.5999999999999993E-2,0,-8.5999999999999993E-2,1.504]
["  OREGON","2017-06-01","2016-068 (6/17)",-9.9000000000000005E-2,0,-9.9000000000000005E-2,1.504]
["  PENNSYLVANIA","2017-06-01","2016-072 (6/17)",-5.7000000000000002E-2,0,-5.7000000000000002E-2,1.504]
["  RHODE ISLAND","2015-09-01","2015-025 (9/15)",-6.9000000000000006E-2,0,-6.9000000000000006E-2,1.504]
["  SOUTH CAROLINA","2017-08-01","2017-023 (8/17)",-8.8999999999999996E-2,0,-8.8999999999999996E-2,1.504]
["  SOUTH DAKOTA","2015-06-01","2014-088 (6/15)",-6.0999999999999999E-2,0,-6.0999999999999999E-2,1.504]
["  TENNESSEE","2017-06-01","2016-080 (6/17)",-0.115,0,-0.115,1.504]
["  TEXAS *","2012-06-04","FR-2011-056 (8/11)",8.9999999999999993E-3,0,8.9999999999999993E-3,1.504,null,null,null,"Not Yet Filed\nNot Yet Filed\nNot Yet Filed",null,"2017-022 (10/17)\n2015-022 (9/15)\n2013-034 (9/13)","-2.2%\n0.1%\n3.5%"]
["  UTAH","2017-06-01","2016-094 (6/17)",-6.2E-2,0,-6.2E-2,1.504]
["  VERMONT","2017-06-01","2016-104 (6/17)",-5.5E-2,0,-5.5E-2,1.504]
["  VIRGINIA","2017-06-01","2017-014 (6/17)",-0.13200000000000001,0,-0.13200000000000001,1.504]
["  WASHINGTON",""]
["  WEST VIRGINIA","2015-06-01","2014-111 (6/15)",-0.115,0,-0.115,1.504]
["  WISCONSIN","2015-06-01","2014-089 (6/15)",-5.6000000000000001E-2,0,-5.6000000000000001E-2,1.504]
["  WYOMING","2017-06-01","2016-069 (6/17)",-9.7000000000000003E-2,0,-9.7000000000000003E-2,1.504]
[]
[]
[" * LCM cannot be placed on file for future revisions."]

{"sheet":"FARM-DEVS","index":19,"n_rows":59,"n_cols":7,"rows_kept":59,"cut":false,"hidden":false,"merged":[[1,0,1,6],[3,1,3,4],[3,5,3,6]]}
[null,null,null,null,null,"As of:",{"$f":"TODAY()","v":"2018-10-02"}]
["*  *  *  *  *  *  *  *  *  *  *    FARM LOSS COST MODIFICATIONS    *  *  *  *  *  *  *  *  *  *  *"]
[]
[null,"NEW HAMPSHIRE COMPANIES"]
[" State","Sub-Standard","Standard","Preferred","Super-Preferred"]
[]
["ALABAMA",null,"GSIC, INIC","NHIC -15%"]
["ALASKA",null,"GSIC, INIC, NHIC"]
["ARIZONA","INIC +15%","GSIC","NHIC -15%"]
["ARKANSAS",null,"GSIC","NHIC -15%"]
["CALIFORNIA",null,"GSIC, NHIC"]
["COLORADO ",null,"GSIC, INIC","NHIC -15%"]
["CONNECTICUT",null,"GSIC, INIC","NHIC -15%"]
["DELAWARE","INIC +15%","GSIC","NHIC -15%"]
["DIST. OF COLUMBIA",null,null,null,null,"Farm program unavailable in DC."]
["FLORIDA",null,"AIG AC"]
["GEORGIA","INIC +15%","GSIC","NHIC -15%"]
["HAWAII ","INIC +15%","GSIC","NHIC -15%"]
["IDAHACO",null,"GSIC, INIC","NHIC -15%"]
["ILLINOIS",null,"GSIC, INIC","NHIC -15%"]
["INDIANA","INIC +15%","GSIC","NHIC -15%"]
["IOWA",null,"GSIC, INIC","NHIC -15%"]
["KANSAS",null,"GSIC, INIC","NHIC -15%"]
["KENTUCKY","INIC +15%","GSIC","NHIC -15%"]
["LOUISIANA ",null,null,null,null,"Waiting for PIAL to approve ISO filing."]
["MAINE",null,null,null,null,"Farm program not filed for use in Maine."]
["MARYLAND","INIC +15%","GSIC","NHIC -15%"]
["MASSACHUSETTS",null,"GSIC","NHIC -15%"]
["MICHIGAN",null,"GSIC, INIC","NHIC -15%"]
["MINNESOTA","INIC +15%","GSIC","NHIC -15%"]
["MISSISSIPPI",null,"GSIC","NHIC -15%"]
["MISSOURI","INIC +15%","GSIC","NHIC -15%"]
["MONTANA",null,"GSIC, INIC","NHIC -15%"]
["NEBRASKA",null,"GSIC, INIC, NHIC"]
["NEVADA",null,"GSIC, INIC","NHIC -15%"]
["NEW HAMPSHIRE","INIC +15%","GSIC","NHIC -15%"]
["NEW JERSEY",null,"GSIC, INIC","NHIC -15%"]
["NEW MEXICO",null,"GSIC, INIC","NHIC -15%"]
["NEW YORK",null,"GSIC, INIC, NHIC"]
["NORTH CAROLINA",null,"GSIC","NHIC -15%"]
["NORTH DAKOTA ",null,"GSIC, INIC, NHIC"]
["OHIO",null,"GSIC, INIC","NHIC -15%"]
["OKLAHACOMA",null,"GSIC, INIC, NHIC"]
["OREGON","INIC +15%","GSIC","NHIC -15%"]
["PENNSYLVANIA","INIC +15%","GSIC","NHIC -15%"]
["RHODE ISLAND ",null,"GSIC, INIC","NHIC -15%"]
["SOUTH CAROLINA",null,"GSIC, INIC","NHIC -15%"]
["SOUTH DAKOTA","INIC +15%","GSIC","NHIC -15%"]
["TENNESSEE",null,"GSIC, INIC","NHIC -15%"]
["TEXAS","INIC +15%","GSIC","NHIC -15%"]
["UTAH","INIC +15%","GSIC","NHIC -15%"]
["VERMONT",null,"GSIC, INIC","NHIC -15%"]
["VIRGINIA",null,"GSIC","NHIC -15%"]
["WASHINGTON",null,"GSIC, INIC","NHIC -15%"]
["WEST VIRGINIA","INIC +15%","GSIC","NHIC -15%"]
["WISCONSIN","INIC +15%","GSIC","NHIC -15%"]
["WYOMING"]
[]
[null,null,null,null,null," + AIU LC filings not maintained after 4/2009"]

{"sheet":"PMF","index":20,"n_rows":64,"n_cols":15,"rows_kept":64,"cut":false,"hidden":false,"merged":[[0,13,0,14]]}
["PACKAGE MODIFICATION FACTOR STATUS",null,null,"POOLED COMPANIES  ",null,null,null,null,null,null,null,null,"As of:",{"$f":"TODAY()","v":"2018-10-02"},"2017-10-09"]
[null,null,null,null,null,null,null,null,null,null,null,null,null,"(data not updated since 07/07/14)"]
["CURRENT:",null,null,null," PENDING:"]
[]
[null,null,null,null,"Actuarial",null,null,null,null,null,null,"Proposed/"]
[null,"Effective","Circular #'s","Overall","Support",null,null,null,null,null,"Pending/","Effective","Circular #'s","Overall"]
["  State","Date"," (Edition Date)","Change","Prepared",null,null,null,null,null,"Approved","Date"," (Edition Date)","Change"]
[]
["  Alabama ","2010-11-01"," 2010-009 (11/10)",8.0000000000000002E-3,null,null,null,null,null,null,null,"2017-12-01","2017-022 (12/17)",-8.9999999999999993E-3]
["  Alaska","2012-11-01"," 2012-023 (11/12)",-3.9E-2]
["  Arizona","2014-01-01"," 2013-007 (01/14)",3.5999999999999997E-2,null,null,null,null,null,null,null,"2018-01-01","2017-024 (1/18)",-0.01]
["  Arkansas  ","2015-10-01"," 2015-003 (10/15)",2.1000000000000001E-2,null,null,null,null,null,null,null,"2017-11-01","2017-026 (11/17)",-0.03]
["  California  a","1989-06-01","PMF'S  VARY  BY  COMPANY",null,null,null,null,null,null,null,null,"1/1/2015\n\n3/26/2018","2014-035 (1/15)\n'Independent Submission of Modification Factors","3.9%\n\n-2.2%"]
["  Colorado   *","2010-01-01"," 2009-005 (1/10)",-8.9999999999999993E-3,null,null,null,null,null,null,null,"2015-10-01","2015-002 (10/15)"]
["  Connecticut ","2011-01-01"," 2010-010 (1/11)",1.2E-2,null,null,null,null,null,null,null,"2018-02-01","2017-027 (2/18)",2E-3]
["  Delaware ","2016-01-01"," 2015-028 (1/16)",-4.0000000000000001E-3]
["  District of Columbia","2017-02-01","2016-035 (2/17)",-8.0000000000000002E-3,null,null,null,null,null,null,null,"2018-01-01","2017-031 (1/18)",7.0000000000000001E-3]
["  Florida","2007-03-01"," 2006-034 (3/07)",5.1999999999999998E-2]
["  Georgia ","2017-12-11","2017-030 (12/17)",0]
["  Hawaii","2012-02-06","HIB 2011-01 (publication # 110057)",0.113]
["  Idaho ","2010-02-01"," 2009-023 (2/10)",0.01,null,null,null,null,null,null,null,"2017-11-01","2017-025 (11/17)",-1E-3]
["  Illinois *","2017-05-01","2016 - 061 (5/17)",0.03]
["  Indiana","2012-10-01"," 2012-008 (10/12)",3.7999999999999999E-2]
["  Iowa ","2017-04-01","2016 - 051 (04/17)",-4.0000000000000001E-3]
["  Kansas ","2017-04-01","2016 - 068 (04/17)",2.7E-2]
["  Kentucky  *","2016-07-01"," 2016-002 (7/16)",-3.7999999999999999E-2]
["  Louisiana","2016-03-01"," 2015-031 (3/16)",5.8000000000000003E-2]
["  Maine ","2017-02-01","2016 - 045 (1/17)",2.5999999999999999E-2]
["  Maryland","2015-12-01"," 2015-018 (12/15)",-2E-3]
["  Massachusetts ","2017-04-01"," 2016-049 (4/17)",-1.2999999999999999E-2]
["  Michigan","2016-06-01","2016-003 (6/16)",3.6999999999999998E-2]
["  Minnesota ","2014-10-01"," 2014-007 (10/14)",-3.6999999999999998E-2]
["  Mississippi","2017-08-07"," 2017-008 (8/17)",2.9000000000000001E-2]
["  Missouri ","2014-11-01"," 2014-008 (11/14)",3.7999999999999999E-2]
["  Montana ","2015-11-01"," 2015-007 (11/15)",1.6E-2]
["  Nebraska ","2016-07-01","2016-018 (7/16)",3.5000000000000003E-2]
["  Nevada ","2010-02-01"," 2009-026 (2/10)",-7.0000000000000001E-3,null,null,null,null,null,null,null,"2017-10-01","2017-013 (10/17)",-2.3E-2]
["  New Hampshire ","2015-12-01"," 2015-022 (12/15)",1.2E-2]
["  New Jersey ","2015-11-01","2015-013 (11/15)",6.0000000000000001E-3]
["  New Mexico ","2010-10-01"," 2010-020 (10/10)",0.02,null,null,null,null,null,null,null,"2017-12-01","2017-028 (12/17)",6.0000000000000001E-3]
["  New York   * ","2007-07-01","2006-046  (7/07)",-5.3999999999999999E-2,null,null,null,null,null,null,null,"2016-10-01","2016-020 (10/16)",-3.6999999999999998E-2]
["  No. Carolina","2016-02-01","2015-030 (2/16)",3.7999999999999999E-2,null,null,null,null,null,null,null,"2018-01-01","2017-023 (1/18)",-0.03]
["  No. Dakota ","2010-01-01"," 2009-012 (1/10)",-8.0000000000000002E-3,null,null,null,null,null,null,null,"2017-11-01","2017-015 (11/17)",1.7999999999999999E-2]
["  Ohio","2012-10-01"," 2012-010 (10/12)",3.5999999999999997E-2]
["  Oklahoma ","2014-10-01"," 2014-014 (10/14)",0.03]
["  Oregon ","2016-06-01"," 2016-007 (06/16)",-1E-3]
["  Pennsylvania ","2017-04-01"," 2016-056 (04/17)",-1.9E-2]
["  Rhode Island","2014-03-01"," 2013-030 (3/14)",3.3000000000000002E-2]
["  So. Carolina   ","2016-11-01"," 2016-029 (11/16)",7.0000000000000001E-3]
["  So. Dakota ","2010-02-01"," 2009-031 (2/10)",-6.0000000000000001E-3,null,null,null,null,null,null,null,"2017-11-01","2017-019 (11/17)",1.0999999999999999E-2]
["  Tennessee","2012-11-01"," 2012-014 (11/12)",4.8000000000000001E-2]
["  Texas","2011-04-01"," 2010-064 (4/11)",0.125,null,null,null,null,null,null,null,"2015-01-01","2014-037 (1/15)",3.4000000000000002E-2]
["  Utah ","2017-05-01"," 2016-071 (5/17)",3.2000000000000001E-2]
["  Vermont","2017-02-01"," 2016-044 (2/17)",-7.0000000000000001E-3]
["  Virginia ","2017-02-01"," 2016-047 (2/17)",2.5999999999999999E-2]
["  Washington","2012-06-01","WSRB 2012-05 (6/12)",6.7000000000000004E-2]
["  West Virginia","2014-02-01"," 2013-028 (2/14)",1.4999999999999999E-2]
["  Wisconsin ","2011-01-01"," 2010-029 (1/11)",-3.5999999999999997E-2]
["  Wyoming ","2010-11-01"," 2010-027 (11/10)",5.0000000000000001E-3]
[]
[null,"Indicates LCM is not on file with DOI"]
[" * ISO revisions are NOT automatic adoptions."]
[]
["a FILING NUMBER: AIG-17-MP-02"]

{"sheet":"PMF-DEVS","index":21,"n_rows":58,"n_cols":7,"rows_kept":58,"cut":false,"hidden":false,"merged":[[1,0,1,6]]}
[null,null,null,null,null,"As of:",{"$f":"TODAY()","v":"2018-10-02"}]
["*  *  *  *  *  *  *  *  *  *  *   PMF MODIFICATIONS   *  *  *  *  *  *  *  *  *  *  *"]
[]
["STATE",null,"Standard    (ISO)",null,"Preferred",null,"Super-Preferred"]
[]
["ALABAMA",null,"AHAC / NUFIC / ISOP / C&I / AIG AC / NHIC / GSIC"]
["ALASKA",null,"AIG PCC / AIG AC / AHAC / C&I / GSIC / INIC / NUFIC / NHIC / ISOP"]
["ARIZONA",null,"AIG PCC / AIG AC / AHAC / C&I / GSIC / INIC / NUFIC / NHIC / ISOP "]
["ARKANSAS",null,"AIG AC / AHAC / C&I / GSIC / NUFIC / NHIC / ISOP"]
["CALIFORNIA",null,null,null,"GSIC  (Independent)",null,"NHIC  (Independent)"]
["COLORADO  ",null,"AIG PCC / AIG AC / AHAC / C&I / GSIC / INIC / NUFIC / NHIC / ISOP "]
["CONNECTICUT",null,"AIG PCC / AIG AC / AHAC / C&I / GSIC / INIC / NUFIC / NHIC / ISOP"]
["DELAWARE",null,"AIG PCC / AIG AC / AHAC / C&I / GSIC / INIC / NUFIC / NHIC / ISOP"]
["DIST.OF COL.",null,"AIG PCC / AIG AC / AHAC / C&I / GSIC / INIC / NUFIC / NHIC / ISOP"]
["FLORIDA  +",null,"AIG PCC / AIU / AIG AC / AHAC / C&I / GSIC / INIC / NUFIC / NHIC / ISOP"]
["GEORGIA",null,"AIG PCC / AIG AC / AHAC / C&I / GSIC / INIC / NUFIC / NHIC / ISOP"]
["HAWAII",null,"AIG PCC / AIG AC / AHAC / C&I / GSIC / INIC / NUFIC / NHIC / ISOP"]
["IDAHACO",null,"AIG PCC / AIG AC / AHAC / C&I / GSIC / INIC / NUFIC / NHIC / ISOP"]
["ILLINOIS",null,"AIG PCC / AIG AC / AHAC / C&I / GSIC / INIC / NUFIC / NHIC / ISOP"]
["INDIANA",null,"AIG PCC / AIG AC / AHAC / C&I / GSIC / INIC / NUFIC / NHIC / ISOP"]
["IOWA",null,"AIG PCC / AIG AC / AHAC / C&I / GSIC / INIC / NUFIC / NHIC / ISOP"]
["KANSAS",null,"AIG PCC / AIG AC / AHAC / C&I / GSIC / INIC / NUFIC / NHIC / ISOP "]
["KENTUCKY",null,"AIG PCC / AIG AC / AHAC / C&I / GSIC / INIC / NUFIC / NHIC / ISOP"]
["LOUISIANA ",null,"AIG AC / AHAC / C&I / GSIC / NUFIC / NHIC / ISOP"]
["MAINE",null,"AIG AC /  AHAC / C&I / GSIC /  NUFIC / NHIC / ISOP"]
["MARYLAND",null,"AIG PCC / AIG AC / AHAC / C&I / GSIC / INIC / NUFIC / NHIC / ISOP"]
["MASSACHUSETTS",null,"AIG AC  / AHAC / C&I / GSIC /  NUFIC / NHIC / ISOP "]
["MICHIGAN",null,"AIG PCC / AIG AC / AHAC / C&I / GSIC / INIC / NUFIC / NHIC / ISOP"]
["MINNESOTA",null,"AIG AC / AHAC / C&I / GSIC / INIC / NUFIC / NHIC / ISOP"]
["MISSISSIPPI",null,"AIG PCC / AIG AC / AHAC / C&I / GSIC / INIC / NUFIC / NHIC / ISOP"]
["MISSOURI",null,"AIG PCC / AIG AC / AHAC / C&I / GSIC / INIC / NUFIC / NHIC / ISOP"]
["MONTANA",null,"AIG PCC / AIG AC / AHAC / C&I / GSIC / INIC / NUFIC / NHIC / ISOP"]
["NEBRASKA +",null,"AIG PCC / AIG AC / AHAC / C&I / INIC / NUFIC / NHIC / ISOP",null,"GSIC-15%"]
["NEVADA",null,"AIG PCC / AIG AC / AHAC / C&I / GSIC / INIC / NUFIC / NHIC / ISOP "]
["NEW HAMPSHIRE",null,"AIG PCC / AIG AC / AHAC / C&I / GSIC / INIC / NUFIC / NHIC / ISOP"]
["NEW JERSEY",null,"AIG AC / AHAC / C&I / GSIC / INIC / NUFIC / NHIC / ISOP"]
["NEW MEXICO",null,"AIG PCC / AIG AC / AHAC / C&I / GSIC / NUFIC / NHIC / ISOP"]
["NEW YORK ",null,"AIG AC / AHAC / C&I / INIC / NUFIC / NHIC / ISOP ",null,"GSIC -15%"]
["NO.CAROLINA",null,"AIG AC / AHAC / C&I / GSIC / NUFIC / NHIC / ISOP"]
["NORTH DAKOTA  ",null,"AIG PCC / AIG AC / AHAC / C&I / GSIC / INIC / NUFIC / NHIC / ISOP"]
["OHIO",null,"AIG PCC / AIG AC / AHAC / C&I / GSIC / INIC / NUFIC / NHIC / ISOP"]
["OKLAHACOMA",null,"AIG PCC /  AIG AC / AHAC / C&I / INIC / NUFIC / NHIC / ISOP ",null,"GSIC  -15%"]
["OREGON",null,"AIG PCC / AIG AC / AHAC / C&I / GSIC / INIC / NUFIC / NHIC / ISOP "]
["PENNSYLVANIA",null,"AIG PCC / AIG AC / AHAC / C&I / GSIC / INIC / NUFIC / NHIC / ISOP"]
["RHODE ISLAND ",null,"AIG PCC / AIG AC / AHAC / C&I / GSIC / INIC / NUFIC / NHIC / ISOP"]
["SO.CAROLINA",null,"AIG PCC / AIG AC / AHAC / C&I / GSIC / INIC / NUFIC / NHIC / ISOP"]
["SOUTH DAKOTA",null,"AIG PCC / AIG AC / AHAC / C&I / GSIC / INIC / NUFIC / NHIC / ISOP"]
["TENNESSEE",null,"AIG PCC / AIG AC / AHAC / C&I / GSIC / INIC / NUFIC / NHIC / ISOP"]
["TEXAS",null,"AIG PCC / AIG AC / AHAC / C&I / GSIC / INIC / NUFIC / NHIC / ISOP"]
["UTAHAC",null,"AIG PCC / AIG AC / AHAC / C&I / GSIC / INIC / NUFIC / NHIC / ISOP"]
["UTAH",null,"AIG PCC / AHAC / C&I / GSIC / INIC / NUFIC / NHIC / ISOP"]
["VIRGINIA",null,"AIG PCC / AHAC / C&I / GSIC / NUFIC / NHIC / ISOP"]
["VIRGINIA",null,"AIG PCC / AIG AC / AHAC / C&I / GSIC / INIC / NUFIC / NHIC / ISOP "]
["WEST VIRGINIA",null,"AIG PCC / AIG AC / AHAC / C&I / GSIC / INIC / NUFIC / NHIC / ISOP"]
["WEST VIRGINIA",null,"AIG PCC / AIG AC / AHAC / C&I / GSIC / INIC / NUFIC / NHIC / ISOP"]
["WYOMING",null,"AIG PCC / AIG AC / AHAC / C&I / INIC / NUFIC / NHIC / ISOP",null,"GSIC -20%"]
[]
["  + INIC PMF factor = 1.000",null,null,null," +AIP, AIU, AUD, LIC LC filings not maintained after 4/2009"]

{"sheet":"NonFiled Inland","index":22,"n_rows":61,"n_cols":17,"rows_kept":61,"cut":false,"hidden":false,"merged":[]}
["COMMERCIAL NON-FILED Inland Marine Classes  FILING STATUS",null,null,null,null,null,"POOLED COMPANIES  ",null,null,null,null,null,null,null,null,"As of:",{"$f":"TODAY()","v":"2018-10-02"}]
[]
["CURRENT:",null,null,null,null,null,null,"  PENDING:"]
[]
[null,null,null,"Loss",null,null,null,"Actuarial ",null,null,null,"Proposed/",null,"Loss"]
[null,"Effective","Circular #'s","Cost","Expense","Overall","Loss Cost","Support",null,null,"Pending/","Effective","Circular #'s","Cost","Expense","Overall","Loss Cost"]
["  STATE","Date"," (Edition Date)","Change","Change","Change","Multiplier","Prepared",null,null,"Approved","Date"," (Edition Date)","Change","Change","Change","Multiplier"]
[]
["  ALABAMA",""]
["  ALASKA",""]
["  ARIZONA",""]
["  ARKANSAS",""]
["  CALIFORNIA  ","2015-10-21","AAIS-2000-6R, AAIS-99-25-1R, AAIS-2004-9R-4, AAIS-2007-63R, AAIS-2009-13LC-1\n",0,0,0,1.4790000000000001]
["  COLORADO","2012-11-08","AAIS-23005-100,2006-23 IMG,2006-61&63, 2009-13LC",0,0,0,1.639]
["  CONNECTICUT",""]
["  DELAWARE ",""]
["  DIST.OF COL.",""]
["  FLORIDA  ",""]
["  GEORGIA",""]
["  HAWAII   ",""]
["  IDAHO",""]
["  ILLINOIS ",""]
["  INDIANA",""]
["  IOWA",""]
["  KANSAS",""]
["  KENTUCKY  ","2012-06-25","AAIS-23005-100,2006-23 IMG,2006-61&63, 2009-13LC",0,0,0,1.748]
["  LOUISIANA   ",""]
["  MAINE  ",""]
["  MARYLAND",""]
["  MASSACHUSETTS  ",""]
["  MICHIGAN",""]
["  MINNESOTA  ",""]
["  MISSISSIPPI",""]
["  MISSOURI",""]
["  MONTANA","2012-07-25","AAIS-2004-9R, 2004-29, 2007-9R, 2009-13LC",0,0,0,1.724]
["  NEBRASKA","2012-07-25","AAIS-98.58, 2000-6, 2002-IMG, 2004-9R, 2004-63R,  2009-13LC",0,0,0,1.6950000000000001]
["  NEVADA",""]
["  NEW HAMPSHIRE",""]
["  NEW JERSEY",""]
["  NEW MEXICO  ",""]
["  NEW YORK  ","2013-11-01","Buidlers Risk Classes AAIS 151-640-288",0,0,0,1.724]
["  NORTH CAROLINA  ",""]
["  NORTH DAKOTA ",""]
["  OHIO","2013-07-01","AAIS",0,0,0,1.718]
["  OKLAHOMA",""]
["  OREGON",""]
["  PENNSYLVANIA",""]
["  RHODE ISLAND",""]
["  SOUTH CAROLINA",""]
["  SOUTH DAKOTA",""]
["  TENNESSEE",""]
["  TEXAS    ","2012-07-25","AAIS-2000-22LC, 2002-FAR-1,2002-82-EDP, 2004-65, 2009-29,",0,0,0,1.712]
["  UTAH",""]
["  VERMONT",""]
["  VIRGINIA",""]
["  WASHINGTON",""]
["  WEST VIRGINIA",""]
["  WISCONSIN",""]
["  WYOMING  ",""]
[]
[null,"Indicates LCM is not on file with DOI"]

{"sheet":"NonFiled Dev","index":23,"n_rows":60,"n_cols":7,"rows_kept":60,"cut":false,"hidden":false,"merged":[[1,0,1,6],[3,1,3,4]]}
[null,null,null,null,null,"As of:",{"$f":"TODAY()","v":"2018-10-02"}]
["*  *  *  *  *  *  *  *  *  *  *   COMMERCIAL NON-FILED Inland Marine Classes LOSS COST MODIFICATIONS   *  *  *  *  *  *  *  *  *  *  *"]
[]
[null,"NEW HAMPSHIRE COMPANIES",null,null,null,"NEW YORK COMPANIES +"]
["State","Sub-Standard","Standard","Preferred","Super-Preferred","Standard"]
[]
["ALABAMA"]
["ALASKA"]
["ARIZONA"]
["ARKANSAS"]
["CALIFORNIA",null,"NHIC /  GSIC = 1.509"]
["COLORADO ",null,"GSIC / INIC  =1.639","NHIC = 1.393"]
["CONNECTICUT"]
["DELAWARE"]
["DIST. OF COLUMBIA"]
["FLORIDA"]
["GEORGIA"]
["HAWAII "]
["IDAHO"]
["ILLINOIS"]
["INDIANA"]
["IOWA"]
["KANSAS"]
["KENTUCKY","INIC = 1.949","GSIC = 1.748","NHIC =  1.486"]
["LOUISIANA "]
["MAINE  "]
["MARYLAND"]
["MASSACHUSETTS"]
["MICHIGAN"]
["MINNESOTA"]
["MISSISSIPPI"]
["MISSOURI"]
["MONTANA",null,"GSIC /  INIC = 1.724","NHIC =  1.466"]
["NEBRASKA",null,"NHIC/  GSIC /  INIC = 1.695"]
["NEVADA"]
["NEW HAMPSHIRE"]
["NEW JERSEY"]
["NEW MEXICO"]
["NEW YORK"]
["NORTH CAROLINA"]
["NORTH DAKOTA "]
["OHIO",null,"GSIC /  INI  =  1.718","NHIC =  1.460"]
["OKLAHOMA"]
["OREGON"]
["PENNSYLVANIA"]
["RHODE ISLAND"]
["SOUTH CAROLINA"]
["SOUTH DAKOTA"]
["TENNESSEE"]
["TEXAS  ","INIC = 1.969","GSIC  = 1.712","NHIC = 1.455"]
["UTAH"]
["VERMONT"]
["VIRGINIA"]
["WASHINGTON"]
["WEST VIRGINIA"]
["WISCONSIN"]
["WYOMING"]
[]
[null,"States with no LCM displayed use the ISO Inland LCM because of their no file requirement."]
[null,"2012 Filings were made in only 3 companies, GS, INI & NH."]

{"sheet":"BOP","index":24,"n_rows":63,"n_cols":17,"rows_kept":63,"cut":false,"hidden":false,"merged":[]}
["ISO BOP - Business Owners Program FILING STATUS",null,null,null,null,null,null,null,null,null,null,null,null,null,null,"As of:",{"$f":"Cutoff_Date","v":"2018-09-14"}]
[]
["CURRENT:",null,null,null,null,null,null,"  PENDING:"]
[]
[null,null,null,"Loss",null,null,null,"Actuarial ",null,null,"Pending/","Proposed/",null,"Loss"]
[null,"Effective","Circular #'s","Cost","Expense","Overall","Loss Cost","Support",null,null,"Approved/","Effective","Circular #'s","Cost","Expense","Overall","Loss Cost"]
["  STATE","Date"," (Edition Date)","Change","Change","Change","Multiplier","Prepared",null,null,"Automatic","Date"," (Edition Date)","Change","Change","Change","Multiplier"]
[]
["  ALABAMA","2017-11-01","2017-037 (11/17)",-8.8999999999999996E-2,0,-8.8999999999999996E-2,1.706]
["  ALASKA","2015-09-01","2015-012 (9/15)",1.7000000000000001E-2,0,1.7000000000000001E-2,1.7010000000000001,null,null,null,"Automatic","2018-11-01","2018-056 (11/18)",-5.5E-2,0,-5.5E-2,1.7010000000000001]
["  ARIZONA","2018-04-01","2017-092 (4/18)",-7.0000000000000007E-2,0,-7.0000000000000007E-2,1.7509999999999999]
["  ARKANSAS","2018-01-01","2017-070 (1/18)",-0.11700000000000001,0,-0.11700000000000001,1.7569999999999999,null,null,null,"Automatic","2019-01-01","2018-060 (1/19)",-6.0000000000000001E-3,0,-6.0000000000000001E-3,1.7569999999999999]
["  CALIFORNIA  *","2016-11-21","N/A",0,0,0,1.706,null,null,null,"Not Yet Filed\nNot Yet Filed\nNot Yet Filed",null,"2018-026 (10-18)\n'2015-081 (11/15)\n2014-137 (11/14)","-4.3%\n1.2%\n11.5%"]
["  COLORADO","2018-04-01","2017-103 (4/18)",0.16500000000000001,0,0.16500000000000001,1.7270000000000001]
["  CONNECTICUT","2018-01-01","2017-040 (1/18)",-4.2999999999999997E-2,0,-4.2999999999999997E-2,1.718,null,null,null,"Automatic","2019-01-01","2018-034 (1/19)",-8.0000000000000002E-3,0,-8.0000000000000002E-3,1.718]
["  DELAWARE *","2016-06-30","2015-132 (1/16)\n2014-194 (1/15)\n2013-200 (2/14)\n2012-274 (7/13)",0,0,0,1.724,null,null,null,"Not Yet Filed\nNot Yet Filed",null,"2017-084 (1/18)\n2016-146 (3/17)","-2.4%\n-3.5%"]
["  DIST.OF COL.","2018-01-01","2017-071 (1/18)",2.4E-2,0,2.4E-2,1.754]
["  FLORIDA  *","",null,null,null,null,null,null,null,null,"Not Yet Filed",null,"2016-006 (5/16)",-8.1000000000000003E-2]
["  GEORGIA","2017-12-01","2017-061 (12/17)",-5.1999999999999998E-2,0,-5.1999999999999998E-2,1.7450000000000001,null,null,null,"Automatic","2019-01-01","2018-048 (1/19)",-5.1999999999999998E-2,0,-5.1999999999999998E-2,1.7450000000000001]
["  HAWAII   *","2014-03-01","HIB Publication 110064",0,0,0,1.8280000000000001]
["  IDAHO","2018-07-01","2018-005 (7/18)",-5.1999999999999998E-2,0,-5.1999999999999998E-2,1.7010000000000001]
["  ILLINOIS *",null,"2014-082 (11/14)\n2015-055 (11/15)",0,0,0,1.724,null,null,null,"Not Yet Filed\nNot Yet Filed\nNot Yet Filed",null,"2018-031 (11/18)\n2017-036 (1/18)\n2016-081 (1/17)","5.7%\n-17.9%\n-5.4%"]
["  INDIANA","2018-07-01","2018-006 (7/18)",-2E-3,0,-2E-3,1.6719999999999999]
["  IOWA","2018-08-01","2018-016 (8/18)",-8.5999999999999993E-2,0,-8.5999999999999993E-2,1.653]
["  KANSAS","2018-04-01","2017-106 (4/18)",-0.12,0,-0.12,1.724]
["  KENTUCKY  ","2018-06-01","2017-104 (6/18)",-8.8999999999999996E-2,0,-8.8999999999999996E-2,1.724]
["  LOUISIANA  (a)*","2014-03-31","LI-BP-2013-052 (9/13)",0,0,0,1.07,null,null,null,"Not Yet Filed\nNot Yet Filed\nNot Yet Filed",null,"2014-079 (11/14)\n2017-002 (7/17)\n2017 - 112 (4/18)","-15.1%\n-7.5%\n0.0%"]
["  MAINE  ","2018-01-01","2017-079 (1/18)",-8.8999999999999996E-2,0,-8.8999999999999996E-2,1.776,null,null,null,"Automatic","2019-01-01","2018-070 (1/19)",0.01,0,0.01,1.776]
["  MARYLAND","2018-02-01","2017-072 (2/18)",6.7000000000000004E-2,0,6.7000000000000004E-2,1.712,null,null,null,"Automatic","2019-02-01","2018-063 (2/19)",-0.02,0,-0.02,1.712]
["  MASSACHUSETTS  *","2016-06-30","2016-001 (5/16)\n2014-235 (3/15)\n2014-004 (5/14)",0,2.4E-2,0,1.724,null,null,null,"Not Yet Filed\nNot Yet Filed\nNot Yet Filed",null,"2016-159 (5/17)\n2017-089 (3/18)\n2018-065 (3/19)","4.2%\n-4.7%\n5.5%"]
["  MICHIGAN","2017-10-01","2017-038 (10/17)",-0.10299999999999999,0,-0.10299999999999999,1.718,null,null,null,"Automatic","2018-10-01","2018-032 (10/18)",-3.4000000000000002E-2,0,-3.4000000000000002E-2,1.718]
["  MINNESOTA  ","2018-08-01","2018-007 (8/18)",-1.7999999999999999E-2,0,-1.7999999999999999E-2,1.718]
["  MISSISSIPPI","2016-08-01","2016-046 (8/16)",-8.4000000000000005E-2,0,-8.4000000000000005E-2,1.786]
["  MISSOURI","2018-02-01","2017-069 (2/18)",-0.11600000000000001,0,-0.11600000000000001,1.7090000000000001,null,null,null,"Automatic","2019-02-01","2018-066 (2/19)",3.5999999999999997E-2,0,3.5999999999999997E-2,1.7090000000000001]
["  MONTANA","2018-08-01","2018-009 (8/18)",2.1999999999999999E-2,0,2.1999999999999999E-2,1.7789999999999999]
["  NEBRASKA","2018-04-01","2017-105 (4/18)",0.02,0,0.02,1.73]
["  NEVADA","2018-04-01","2017-101 (4/18)",4.2000000000000003E-2,0,4.2000000000000003E-2,1.802]
["  NEW HAMPSHIRE","2017-11-01","2017-039 (11/17)",-3.0000000000000001E-3,0,-3.0000000000000001E-3,1.7330000000000001,null,null,null,"Automatic","2018-11-01","2018-036 (11/18)",-8.0000000000000002E-3,0,-8.0000000000000002E-3,1.7330000000000001]
["  NEW JERSEY","2017-10-01","2017-045 (10/17)",-9.1999999999999998E-2,0,-9.1999999999999998E-2,1.7569999999999999,null,null,null,"Automatic","2018-11-01","2018-037 (11/18)",4.2000000000000003E-2,0,4.2000000000000003E-2,1.7569999999999999]
["  NEW MEXICO  ","2018-07-01","2018-010 (7/18)",0,0,0,1.786]
["  NEW YORK  *","2016-06-20","2015-136 (6/16)",0,8.9999999999999993E-3,0,1.724,null,null,null,"Not Yet Filed Not Yet Filed",null,"2016-171 (6/17)\n2017-114 (3/18)","-5.2%\n-2.4%"]
["  NORTH CAROLINA  ","2018-01-01","2017-063 (1/18)",-5.8000000000000003E-2,0,-5.8000000000000003E-2,1.7090000000000001,null,null,null,"Automatic","2019-01-01","2018-058 (1/19)",9.2999999999999999E-2,0,9.2999999999999999E-2,1.7090000000000001]
["  NORTH DAKOTA ","2017-03-01","2016-167 (3/17)",-4.9000000000000002E-2,0,-4.9000000000000002E-2,1.748]
["  OHIO","2018-07-01","2018-004 (7/18)",-5.0000000000000001E-3,0,-5.0000000000000001E-3,1.6779999999999999]
["  OKLAHOMA","2018-08-01","2018-019 (8/18)",-9.8000000000000004E-2,0,-9.8000000000000004E-2,1.764]
["  OREGON","2018-03-01","2017-093 (3/18)",-0.06,0,-0.06,1.754]
["  PENNSYLVANIA","2018-01-01","2017-074 (1/18)",-4.9000000000000002E-2,0,-4.9000000000000002E-2,1.6839999999999999,null,null,null,"Automatic","2019-01-01","2018-069(1/19)",-4.1000000000000002E-2,0,-4.1000000000000002E-2,1.6839999999999999]
["  RHODE ISLAND","2017-03-01","2016-116 (3/17)",-4.5999999999999999E-2,0,-4.5999999999999999E-2,1.754,null,null,null,"Automatic","2019-01-01","2018-049 (1/19)",1E-3,0,1E-3,1.754]
["  SOUTH CAROLINA","2017-12-01","2017-066 (12/17)",-4.7E-2,0,-4.7E-2,1.724,null,null,null,"Automatic","2019-01-01","2018-052 (1/19)",0.06,0,0.06,1.724]
["  SOUTH DAKOTA","2017-04-01","2016-165 (4/17)",5.8999999999999997E-2,0,5.8999999999999997E-2,1.7729999999999999]
["  TENNESSEE","2018-04-01","2017-094 (4/18)",-0.156,0,-0.156,1.77]
["  TEXAS    *","2016-06-23","2015-130 (4/16)\n2015-045 (9/15)\n2014-054 (7/14)",0,0,0,1.724,null,null,null,"Not Yet Filed",null,"2017-085 (4/18)",2.1999999999999999E-2]
["  UTAH","2018-08-01","2018-018 (8/18)",5.8999999999999997E-2,0,5.8999999999999997E-2,1.764]
["  VERMONT","2017-11-01","2017-049 (11/17)",6.0000000000000001E-3,0,6.0000000000000001E-3,1.754,null,null,null,"Automatic","2018-11-01","2018-051 (11/18)",-1.4E-2,0,-1.4E-2,1.754]
["  VIRGINIA","2017-12-01","2017-065 (12/17)",-4.2000000000000003E-2,0,-4.2000000000000003E-2,1.718,null,null,null,"Automatic","2018-12-01","2018-057 (12/18)",0.1,0,0.1,1.718]
["  WASHINGTON *","2016-09-01","2015-08 ",0,0,0,1.708]
["  WEST VIRGINIA","2018-04-01","2017-110 (4/18)",-5.8000000000000003E-2,0,-5.8000000000000003E-2,1.8180000000000001]
["  WISCONSIN","2018-08-01","2018-015 (8/18)",-6.8000000000000005E-2,0,-6.8000000000000005E-2,1.661]
["  WYOMING  ","2018-08-01","2018-017 (8/18)",-8.9999999999999993E-3,0,-8.9999999999999993E-3,1.718]
[]
[]
[null,"BOP is only filed in New Hampsire Insurance Company"]
[null,"(a) Louisiana PIAL files rates, the 1.07 factor adjusts for additional expense needs."]